Report for Text-Sprintf-Named-0.0301

Back
From: metabase:user:313dc9fe-2aae-11df-837a-5e0a49663a4f
Subject: PASS Text-Sprintf-Named-0.0301 v5.10.0 GNU/Linux
Date: 2010-10-15T13:14:00Z

This distribution has been tested as part of the CPAN Testers
project, supporting the Perl programming language.  See
http://wiki.cpantesters.org/ for more information or email
questions to cpan-testers-discuss@perl.org


--
Dear Shlomi Fish,

This is a computer-generated report for Text-Sprintf-Named-0.0301
on perl 5.10.0, created by CPAN-Reporter-1.1711.

Thank you for uploading your work to CPAN.  Congratulations!
All tests were successful.

Sections of this report:

    * Tester comments
    * Program output
    * Prerequisites
    * Environment and other context

------------------------------
TESTER COMMENTS
------------------------------

Additional comments from tester:

this report is from an automated smoke testing program
and was not reviewed by a human for accuracy

------------------------------
PROGRAM OUTPUT
------------------------------

Output from './Build test':

# Testing Text::Sprintf::Named 0.0301, Perl 5.010000, /home/perl5100/perl/bin/perl
t/00-load.t ...................... ok
t/01-use.t ....................... ok
t/02-override-param-retrieval.t .. ok
t/03-incomplete.t ................ ok
t/boilerplate.t .................. ok
t/pod-coverage.t ................. skipped: Test::Pod::Coverage 1.04 required for testing POD coverage
t/pod.t .......................... ok
All tests successful.
Files=7, Tests=28,  0 wallclock secs ( 0.04 usr  0.02 sys +  0.28 cusr  0.05 csys =  0.39 CPU)
Result: PASS

------------------------------
PREREQUISITES
------------------------------

Prerequisite modules loaded:

build_requires:

    Module        Need Have  
    ------------- ---- ------
    Test::More    0    0.94  
    Test::Warn    0.21 0.22  

configure_requires:

    Module        Need Have  
    ------------- ---- ------
    Module::Build 0.35 0.3607


------------------------------
ENVIRONMENT AND OTHER CONTEXT
------------------------------

Environment variables:

    AUTOMATED_TESTING = 1
    LANG = en_US.UTF-8
    PATH = /usr/local/sbin:/usr/local/bin:/usr/sbin:/usr/bin:/sbin:/bin:/usr/games
    PERL5LIB = /home/perl5100/.cpan/build/IPC-Run-0.89-AK2Q0J/blib/arch:/home/perl5100/.cpan/build/IPC-Run-0.89-AK2Q0J/blib/lib
    PERL5OPT = 
    PERL5_CPANPLUS_IS_RUNNING = 10652
    PERL5_CPAN_IS_RUNNING = 10652
    PERL5_CPAN_IS_RUNNING_IN_RECURSION = 29226,10652
    PERL_CR_SMOKER_CURRENT = File-Unpack-0.25
    PERL_EXTUTILS_AUTOINSTALL = --defaultdeps
    PERL_MM_USE_DEFAULT = 1
    SHELL = /bin/bash
    TERM = xterm

Perl special variables (and OS-specific diagnostics, for MSWin32):

    $^X = /home/perl5100/perl/bin/perl
    $UID/$EUID = 1002 / 1002
    $GID = 1002 1002
    $EGID = 1002 1002

Perl module toolchain versions installed:

    Module              Have  
    ------------------- ------
    CPAN                1.9402
    Cwd                 3.31  
    ExtUtils::CBuilder  0.2703
    ExtUtils::Command   1.16  
    ExtUtils::Install   1.54  
    ExtUtils::MakeMaker 6.56  
    ExtUtils::Manifest  1.58  
    ExtUtils::ParseXS   2.2205
    File::Spec          3.31  
    Module::Build       0.3607
    Module::Signature   n/a   
    Test::Harness       3.21  
    Test::More          0.94  
    YAML                0.71  
    YAML::Syck          1.09  
    version             0.82  


--

Summary of my perl5 (revision 5 version 10 subversion 0) configuration:
  Platform:
    osname=linux, osvers=2.6.31-20-generic, archname=i686-linux-thread-multi
    uname='linux st47-laptop 2.6.31-20-generic #57-ubuntu smp mon feb 8 09:05:19 utc 2010 i686 gnulinux '
    config_args=''
    hint=recommended, useposix=true, d_sigaction=define
    useithreads=define, usemultiplicity=define
    useperlio=define, d_sfio=undef, uselargefiles=define, usesocks=undef
    use64bitint=undef, use64bitall=undef, uselongdouble=undef
    usemymalloc=n, bincompat5005=undef
  Compiler:
    cc='cc', ccflags ='-D_REENTRANT -D_GNU_SOURCE -fno-strict-aliasing -pipe -I/usr/local/include -D_LARGEFILE_SOURCE -D_FILE_OFFSET_BITS=64',
    optimize='-O2',
    cppflags='-D_REENTRANT -D_GNU_SOURCE -fno-strict-aliasing -pipe -I/usr/local/include'
    ccversion='', gccversion='4.4.1', gccosandvers=''
    intsize=4, longsize=4, ptrsize=4, doublesize=8, byteorder=1234
    d_longlong=define, longlongsize=8, d_longdbl=define, longdblsize=12
    ivtype='long', ivsize=4, nvtype='double', nvsize=8, Off_t='off_t', lseeksize=8
    alignbytes=4, prototype=define
  Linker and Libraries:
    ld='cc', ldflags =' -L/usr/local/lib'
    libpth=/usr/local/lib /lib /usr/lib
    libs=-lnsl -ldl -lm -lcrypt -lutil -lpthread -lc
    perllibs=-lnsl -ldl -lm -lcrypt -lutil -lpthread -lc
    libc=/lib/libc-2.10.1.so, so=so, useshrplib=false, libperl=libperl.a
    gnulibc_version='2.10.1'
  Dynamic Linking:
    dlsrc=dl_dlopen.xs, dlext=so, d_dlsymun=undef, ccdlflags='-Wl,-E'
    cccdlflags='-fPIC', lddlflags='-shared -O2 -L/usr/local/lib'


Characteristics of this binary (from libperl): 
  Compile-time options: MULTIPLICITY PERL_DONT_CREATE_GVSV
                        PERL_IMPLICIT_CONTEXT PERL_MALLOC_WRAP USE_ITHREADS
                        USE_LARGE_FILES USE_PERLIO USE_REENTRANT_API
  Built under linux
  Compiled at Mar 12 2010 10:42:50
  %ENV:
    PERL5LIB="/home/perl5100/.cpan/build/IPC-Run-0.89-AK2Q0J/blib/arch:/home/perl5100/.cpan/build/IPC-Run-0.89-AK2Q0J/blib/lib"
    PERL5OPT=""
    PERL5_CPANPLUS_IS_RUNNING="10652"
    PERL5_CPAN_IS_RUNNING="10652"
    PERL5_CPAN_IS_RUNNING_IN_RECURSION="29226,10652"
    PERL_CR_SMOKER_CURRENT="File-Unpack-0.25"
    PERL_EXTUTILS_AUTOINSTALL="--defaultdeps"
    PERL_MM_USE_DEFAULT="1"
  @INC:
    /home/perl5100/.cpan/build/IPC-Run-0.89-AK2Q0J/blib/arch
    /home/perl5100/.cpan/build/IPC-Run-0.89-AK2Q0J/blib/lib
    /home/perl5100/perl/lib/5.10.0
    /home/perl5100/perl/lib/5.10.0
    .