Compression-Util v0.13 Perl 5 v5.36.0 x86_64-linux

Status
Pass
From
Slaven Rezić
Dist
Compression-Util v0.13
Platform
Perl 5 v5.36.0 x86_64-linux
Date
2024-08-25 21:50:42
ID
134f30c4-632c-11ef-b41c-2c4f6e8775ea
This distribution has been tested as part of the CPAN Testers
project, supporting the Perl programming language.  See
http://wiki.cpantesters.org/ for more information or email
questions to cpan-testers-discuss@perl.org


--
Dear Daniel Suteu,

This is a computer-generated report for Compression-Util-0.13
on perl 5.36.0, created by CPAN-Reporter-1.2019.

Thank you for uploading your work to CPAN.  Congratulations!
All tests were successful.

Sections of this report:

    * Tester comments
    * Program output
    * Prerequisites
    * Environment and other context

------------------------------
TESTER COMMENTS
------------------------------

Additional comments from tester:

none provided

------------------------------
PROGRAM OUTPUT
------------------------------

Output from './Build test':

# Testing Compression::Util 0.13
t/00.load.t ........................... ok
t/bwt.t ............................... ok
t/bwt_adaptive_arithmetic.t ........... ok
t/bwt_adaptive_arithmetic_symbolic.t .. ok
t/bwt_arithmetic.t .................... ok
t/bwt_arithmetic_symbolic.t ........... ok
t/bwt_symbolic.t ...................... ok
t/bzip2.t ............................. ok
t/fast_lzss.t ......................... ok
t/gzip.t .............................. ok
t/gzip_fast.t ......................... ok
t/lz4.t ............................... ok
t/lz4_fast.t .......................... ok
t/lz77.t .............................. ok
t/lz77_abc_encode.t ................... ok
t/lz77_adaptive_arithmetic.t .......... ok
t/lz77_arithmetic.t ................... ok
t/lz77_bwt_obh.t ...................... ok
t/lz77_delta_encode.t ................. ok
t/lz77_obh_encode.t ................... ok
t/lz77_symbolic.t ..................... ok
t/lz77_symbolic_delta.t ............... ok
t/lz77_with_bwt_symbolic.t ............ ok
t/lz77_with_lz77_symbolic.t ........... ok
t/lz77_with_mrl_symbolic.t ............ ok
t/lzb.t ............................... ok
t/lzb_fast.t .......................... ok
t/lzss.t .............................. ok
t/lzss_adaptive_arithmetic.t .......... ok
t/lzss_arithmetic.t ................... ok
t/lzss_arithmetic_symbolic.t .......... ok
t/lzss_symbolic.t ..................... ok
t/lzss_vs_fast_lzss.t ................. ok
t/lzss_with_bwt_symbolic.t ............ ok
t/lzss_with_lz77_symbolic.t ........... ok
t/lzss_with_mrl_symbolic.t ............ ok
t/lzssf_symbolic.t .................... ok
t/lzw.t ............................... ok
t/lzw_delta.t ......................... ok
t/lzw_elias_gamma.t ................... ok
t/lzw_elias_omega.t ................... ok
t/lzw_fibonacci.t ..................... ok
t/misc.t .............................. ok
t/mrl.t ............................... ok
t/mrl_symbolic.t ...................... ok
t/pod-coverage.t ...................... ok
t/pod.t ............................... ok
All tests successful.
Files=47, Tests=916,  8 wallclock secs ( 0.26 usr  0.10 sys +  7.87 cusr  0.81 csys =  9.04 CPU)
Result: PASS

------------------------------
PREREQUISITES
------------------------------

Prerequisite modules loaded:

requires:

    Module        Need    Have    
    ------------- ------- --------
    Carp          0       1.52    
    Exporter      0       5.78    
    List::Util    1.45    1.63    
    perl          v5.36.0 5.036000
    Test::More    0       1.302199

build_requires:

    Module        Need    Have    
    ------------- ------- --------
    Test::More    0       1.302199

configure_requires:

    Module        Need    Have    
    ------------- ------- --------
    Module::Build 0       0.4234  


------------------------------
ENVIRONMENT AND OTHER CONTEXT
------------------------------

Environment variables:

    LANG = en_US.UTF-8
    PATH = /usr/local/bin:/usr/bin:/bin:/usr/local/sbin:/usr/sbin:/sbin:/home/cpansand/bin/linux-gnu:/home/cpansand/bin/sh:/home/cpansand/bin:/usr/games:/home/cpansand/devel:/home/eserte/src/srezic-misc/scripts
    PERL5LIB = /home/cpansand/.local/share/.cpan/build/2024082518/String-Util-1.35-1/blib/arch:/home/cpansand/.local/share/.cpan/build/2024082518/String-Util-1.35-1/blib/lib
    PERL5OPT = 
    PERL5_CPANPLUS_IS_RUNNING = 519842
    PERL5_CPAN_IS_RUNNING = 519842
    PERL5_CPAN_IS_RUNNING_IN_RECURSION = 519456,519842
    PERLDOC = -MPod::Perldoc::ToTextOverstrike
    PERL_BATCH = yes
    PERL_CANARY_STABILITY_NOPROMPT = 1
    PERL_CPAN_REPORTER_CONFIG = /var/tmp/cpansmoker-1023/2024082518/cpanreporter_000_config.ini
    PERL_EXTUTILS_AUTOINSTALL = --defaultdeps
    PERL_USE_UNSAFE_INC = 1
    SHELL = /usr/bin/zsh
    TERM = screen
    TMPDIR = /var/tmp/cpansmoker-1023/2024082518

Perl special variables (and OS-specific diagnostics, for MSWin32):

    $^X = /opt/perl-5.36.0/bin/perl
    $UID/$EUID = 1023 / 1023
    $GID = 1023 1023
    $EGID = 1023 1023

Perl module toolchain versions installed:

    Module              Have    
    ------------------- --------
    CPAN                2.33    
    CPAN::Meta          2.150010
    Cwd                 3.84    
    ExtUtils::CBuilder  0.280236
    ExtUtils::Command   7.70    
    ExtUtils::Install   2.22    
    ExtUtils::MakeMaker 7.70    
    ExtUtils::Manifest  1.75    
    ExtUtils::ParseXS   3.51    
    File::Spec          3.84    
    JSON                4.10    
    JSON::PP            4.16    
    Module::Build       0.4234  
    Module::Signature   0.88    
    Parse::CPAN::Meta   2.150010
    Test2               1.302199
    Test::Harness       3.48    
    Test::More          1.302199
    YAML                1.31    
    YAML::Syck          1.34    
    version             0.9929  


--

Summary of my perl5 (revision 5 version 36 subversion 0) configuration:
   
  Platform:
    osname=linux
    osvers=5.15.0-56-generic
    archname=x86_64-linux
    uname='linux cloud14.bbbike.org 5.15.0-56-generic #62-ubuntu smp tue nov 22 19:54:14 utc 2022 x86_64 x86_64 x86_64 gnulinux '
    config_args='-ds -e -Dprefix=/opt/perl-5.36.0 -Dcf_email=srezic@cpan.org'
    hint=recommended
    useposix=true
    d_sigaction=define
    useithreads=undef
    usemultiplicity=undef
    use64bitint=define
    use64bitall=define
    uselongdouble=undef
    usemymalloc=n
    default_inc_excludes_dot=define
  Compiler:
    cc='cc'
    ccflags ='-fwrapv -fno-strict-aliasing -pipe -fstack-protector-strong -I/usr/local/include -D_LARGEFILE_SOURCE -D_FILE_OFFSET_BITS=64'
    optimize='-O2'
    cppflags='-fwrapv -fno-strict-aliasing -pipe -fstack-protector-strong -I/usr/local/include'
    ccversion=''
    gccversion='11.3.0'
    gccosandvers=''
    intsize=4
    longsize=8
    ptrsize=8
    doublesize=8
    byteorder=12345678
    doublekind=3
    d_longlong=define
    longlongsize=8
    d_longdbl=define
    longdblsize=16
    longdblkind=3
    ivtype='long'
    ivsize=8
    nvtype='double'
    nvsize=8
    Off_t='off_t'
    lseeksize=8
    alignbytes=8
    prototype=define
  Linker and Libraries:
    ld='cc'
    ldflags =' -fstack-protector-strong -L/usr/local/lib'
    libpth=/usr/local/lib /usr/lib/x86_64-linux-gnu /usr/lib /usr/lib64
    libs=-lpthread -lnsl -lgdbm -ldb -ldl -lm -lcrypt -lutil -lc
    perllibs=-lpthread -lnsl -ldl -lm -lcrypt -lutil -lc
    libc=/lib/x86_64-linux-gnu/libc.so.6
    so=so
    useshrplib=false
    libperl=libperl.a
    gnulibc_version='2.35'
  Dynamic Linking:
    dlsrc=dl_dlopen.xs
    dlext=so
    d_dlsymun=undef
    ccdlflags='-Wl,-E'
    cccdlflags='-fPIC'
    lddlflags='-shared -O2 -L/usr/local/lib -fstack-protector-strong'


Characteristics of this binary (from libperl): 
  Compile-time options:
    HAS_TIMES
    PERLIO_LAYERS
    PERL_COPY_ON_WRITE
    PERL_DONT_CREATE_GVSV
    PERL_MALLOC_WRAP
    PERL_OP_PARENT
    PERL_PRESERVE_IVUV
    USE_64_BIT_ALL
    USE_64_BIT_INT
    USE_LARGE_FILES
    USE_LOCALE
    USE_LOCALE_COLLATE
    USE_LOCALE_CTYPE
    USE_LOCALE_NUMERIC
    USE_LOCALE_TIME
    USE_PERLIO
    USE_PERL_ATOF
  Built under linux
  Compiled at Dec 18 2022 14:30:04
  %ENV:
    PERL5LIB="/home/cpansand/.local/share/.cpan/build/2024082518/String-Util-1.35-1/blib/arch:/home/cpansand/.local/share/.cpan/build/2024082518/String-Util-1.35-1/blib/lib"
    PERL5OPT=""
    PERL5_CPANPLUS_IS_RUNNING="519842"
    PERL5_CPAN_IS_RUNNING="519842"
    PERL5_CPAN_IS_RUNNING_IN_RECURSION="519456,519842"
    PERLDOC="-MPod::Perldoc::ToTextOverstrike"
    PERL_BATCH="yes"
    PERL_CANARY_STABILITY_NOPROMPT="1"
    PERL_CPAN_REPORTER_CONFIG="/var/tmp/cpansmoker-1023/2024082518/cpanreporter_000_config.ini"
    PERL_EXTUTILS_AUTOINSTALL="--defaultdeps"
    PERL_USE_UNSAFE_INC="1"
  @INC:
    /home/cpansand/.local/share/.cpan/build/2024082518/String-Util-1.35-1/blib/arch
    /home/cpansand/.local/share/.cpan/build/2024082518/String-Util-1.35-1/blib/lib
    /opt/perl-5.36.0/lib/site_perl/5.36.0/x86_64-linux
    /opt/perl-5.36.0/lib/site_perl/5.36.0
    /opt/perl-5.36.0/lib/5.36.0/x86_64-linux
    /opt/perl-5.36.0/lib/5.36.0
    .