Perl-Critic v1.156 Perl 5 v5.40.0 MSWin32-x64-multi-thread
- Status
- Pass
- From
- gregor herrmann
- Dist
-
Perl-Critic v1.156
- Platform
- Perl 5 v5.40.0 MSWin32-x64-multi-thread
- Date
- 2024-12-24 09:46:34
- ID
- 137e3d3b-6ca2-1014-8029-8e00551b82e9
This distribution has been tested as part of the CPAN Testers
project, supporting the Perl programming language. See
http://wiki.cpantesters.org/ for more information or email
questions to cpan-testers-discuss@perl.org
--
Dear Andy Lester,
This is a computer-generated report for Perl-Critic-1.156
on perl 5.40.0, created by CPAN-Reporter-1.2020.
Thank you for uploading your work to CPAN. Congratulations!
All tests were successful.
Sections of this report:
* Tester comments
* Program output
* Prerequisites
* Environment and other context
------------------------------
TESTER COMMENTS
------------------------------
Additional comments from tester:
this report is from an automated smoke testing program
and was not reviewed by a human for accuracy
------------------------------
PROGRAM OUTPUT
------------------------------
Output from 'C:\Strawberry\perl\bin\perl.exe ./Build test':
# Testing Perl::Critic 1.156 with PPI 1.279 under Perl 5.040000, C:\Strawberry\perl\bin\perl.exe
t\00_modules.t ................................ ok
t\00_versions.t ............................... ok
t\01_config.t ................................. ok
t\01_config_bad_perlcriticrc.t ................ ok
t\01_policy_config.t .......................... ok
t\02_policy.t ................................. ok
t\03_annotations.t ............................ ok
t\03_pragmas.t ................................ ok
t\04_options_processor.t ...................... ok
t\05_utils.t .................................. ok
t\05_utils_perl.t ............................. ok
t\05_utils_pod.t .............................. ok
t\05_utils_ppi.t .............................. ok
t\06_violation.t .............................. ok
t\07_command.t ................................ ok
t\07_perlcritic.t ............................. ok
t\08_document.t ............................... ok
t\09_theme.t .................................. ok
t\10_user_profile.t ........................... ok
t\11_policy_factory.t ......................... ok
t\12_policy_listing.t ......................... ok
t\12_theme_listing.t .......................... ok
t\13_bundled_policies.t ....................... ok
t\14_policy_parameter_behavior_boolean.t ...... ok
t\14_policy_parameter_behavior_enumeration.t .. ok
t\14_policy_parameter_behavior_integer.t ...... ok
t\14_policy_parameter_behavior_list_string.t .. ok
t\14_policy_parameter_behavior_string.t ....... ok
t\14_policy_parameters.t ...................... ok
t\15_statistics.t ............................. ok
t\16_roundtrip_defaults.t ..................... ok
t\20_policies.t ............................... skipped: Test::Perl::Critic required to test Perl::Critic itself
t\20_policy_pod_spelling.t .................... ok
t\20_policy_prohibit_evil_modules.t ........... ok
t\20_policy_prohibit_hard_tabs.t .............. ok
t\20_policy_prohibit_trailing_whitespace.t .... ok
t\20_policy_require_consistent_newlines.t ..... ok
t\20_policy_require_tidy_code.t ............... ok
Unhandled type: REGEXP at C:/Strawberry/perl/site/lib/Devel/Cycle.pm line 107.
t\92_memory_leaks.t ........................... ok
t\gh-734.t .................................... ok
All tests successful.
Files=40, Tests=5417, 208 wallclock secs ( 0.86 usr + 0.27 sys = 1.12 CPU)
Result: PASS
------------------------------
PREREQUISITES
------------------------------
Prerequisite modules loaded:
requires:
Module Need Have
------------------------- ------ --------
B::Keywords 1 1.27
Carp 0 1.54
charnames 0 1.50
Config::Tiny 2 2.30
English 0 1.11
Exception::Class 1 1.45
Exporter 5 5.78
File::Basename 0 2.86
File::Find 0 1.44
File::Path 0 2.18
File::Spec 0 3.90
File::Spec::Unix 0 3.91
File::Temp 0 0.2311
File::Which 0 1.27
Getopt::Long 0 2.58
List::SomeUtils 0.55 0.59
List::Util 0 1.65
Module::Pluggable 3 5.2
overload 0 1.37
parent 0 0.244
perl 5 5.040000
Perl::Tidy 0 20240903
Pod::PlainText 0 2.07
Pod::Select 0 1.65_01
Pod::Spell 1 1.27
Pod::Usage 0 2.03
PPI 1.277 1.279
PPI::Document 1.277 1.279
PPI::Document::File 1.277 1.279
PPI::Node 1.277 1.279
PPI::Token::Quote::Single 1.277 1.279
PPI::Token::Whitespace 1.277 1.279
PPIx::QuoteLike 0 0.023
PPIx::Regexp 0.027 0.088
PPIx::Regexp::Util 0.068 0.088
PPIx::Utils::Traversal 0.003 0.003
Readonly 2 2.05
Scalar::Util 0 1.65
strict 0 1.13
String::Format 1.18 1.18
Term::ANSIColor 2.02 5.01
Test::Builder 0 1.302206
Text::ParseWords 3 3.31
version 0 0.9932
warnings 0 1.70
build_requires:
Module Need Have
------------------------- ------ --------
lib 0 0.65
Test::More 0 1.302206
configure_requires:
Module Need Have
------------------------- ------ --------
B::Keywords 1.23 1.27
base 0 2.27
Carp 0 1.54
English 0 1.11
Exporter 5.63 5.78
lib 0 0.65
List::SomeUtils 0.55 0.59
Module::Build 0.4204 0.4234
------------------------------
ENVIRONMENT AND OTHER CONTEXT
------------------------------
Environment variables:
AUTOMATED_TESTING = 1
COMSPEC = C:\Windows\system32\cmd.exe
NONINTERACTIVE_TESTING = 1
NUMBER_OF_PROCESSORS = 2
PATH = C:\WINDOWS\system32;C:\Program Files\Git\cmd;C:\strawberry\c\bin;C:\strawberry\perl\site\bin;C:\strawberry\perl\bin
PERL5LIB =
PERL5OPT =
PERL5_CPANPLUS_IS_RUNNING = 5068
PERL5_CPAN_IS_RUNNING = 5068
PERL5_CPAN_IS_RUNNING_IN_RECURSION = 7104,5068
PERL_CR_SMOKER_CURRENT = Test-Apocalypse-1.006
PERL_EXTUTILS_AUTOINSTALL = --defaultdeps
PERL_MM_USE_DEFAULT = 1
PERL_USE_UNSAFE_INC = 1
PROCESSOR_IDENTIFIER = Intel64 Family 6 Model 15 Stepping 11, GenuineIntel
TEMP = C:\Users\smoker\AppData\Local\Temp
Perl special variables (and OS-specific diagnostics, for MSWin32):
$^X = C:\Strawberry\perl\bin\perl.exe
$UID/$EUID = 0 / 0
$GID = 0
$EGID = 0
Win32::GetOSName = Win10
Win32::GetOSVersion = , 10, 0, 19045, 2, 0, 0, 256, 1
Win32::FsType = NTFS
Win32::IsAdminUser = 0
Perl module toolchain versions installed:
Module Have
------------------- --------
CPAN 2.38
CPAN::Meta 2.150010
Cwd 3.90
ExtUtils::CBuilder 0.280240
ExtUtils::Command 7.70
ExtUtils::Install 2.22
ExtUtils::MakeMaker 7.70
ExtUtils::Manifest 1.75
ExtUtils::ParseXS 3.51
File::Spec 3.90
JSON 4.10
JSON::PP 4.16
Module::Build 0.4234
Module::Signature n/a
Parse::CPAN::Meta 2.150010
Test2 1.302206
Test::Harness 3.50
Test::More 1.302206
YAML 1.31
YAML::Syck 1.34
version 0.9932
--
Summary of my perl5 (revision 5 version 40 subversion 0) configuration:
Platform:
osname=MSWin32
osvers=10.0.22621.3880
archname=MSWin32-x64-multi-thread
uname='Win32 strawberry-perl 5.40.0.1 # 02:45:15 Sat August 10 2024 x64'
config_args='undef'
hint=recommended
useposix=true
d_sigaction=undef
useithreads=define
usemultiplicity=define
use64bitint=define
use64bitall=undef
uselongdouble=undef
usemymalloc=n
default_inc_excludes_dot=define
Compiler:
cc='gcc'
ccflags ='-std=c99 -DWIN32 -DWIN64 -DPERL_TEXTMODE_SCRIPTS -DMULTIPLICITY -DPERL_IMPLICIT_SYS -DUSE_PERLIO -D__USE_MINGW_ANSI_STDIO -fwrapv -fno-strict-aliasing -mms-bitfields'
optimize='-Os -falign-functions -falign-jumps -falign-labels -falign-loops -freorder-blocks -freorder-blocks-algorithm=stc -freorder-blocks-and-partition'
cppflags='-DWIN32'
ccversion=''
gccversion='13.2.0'
gccosandvers=''
intsize=4
longsize=4
ptrsize=8
doublesize=8
byteorder=12345678
doublekind=3
d_longlong=define
longlongsize=8
d_longdbl=define
longdblsize=16
longdblkind=3
ivtype='long long'
ivsize=8
nvtype='double'
nvsize=8
Off_t='long long'
lseeksize=8
alignbytes=8
prototype=define
Linker and Libraries:
ld='g++'
ldflags ='-s -L"C:\STRAWB~1\perl\lib\CORE" -L"C:\STRAWB~1\c\lib" -L"C:\STRAWB~1\c\x86_64-w64-mingw32\lib" -L"C:\STRAWB~1\c\lib\gcc\x86_64-w64-mingw32\13.2.0"'
libpth=C:\STRAWB~1\c\lib C:\STRAWB~1\c\x86_64-w64-mingw32\lib C:\STRAWB~1\c\lib\gcc\x86_64-w64-mingw32\13.2.0 C:\STRAWB~1\c\x86_64-w64-mingw32\lib C:\STRAWB~1\c\lib\gcc\x86_64-w64-mingw32\13.2.0
libs= -lmoldname -lkernel32 -luser32 -lgdi32 -lwinspool -lcomdlg32 -ladvapi32 -lshell32 -lole32 -loleaut32 -lnetapi32 -luuid -lws2_32 -lmpr -lwinmm -lversion -lodbc32 -lodbccp32 -lcomctl32
perllibs= -lmoldname -lkernel32 -luser32 -lgdi32 -lwinspool -lcomdlg32 -ladvapi32 -lshell32 -lole32 -loleaut32 -lnetapi32 -luuid -lws2_32 -lmpr -lwinmm -lversion -lodbc32 -lodbccp32 -lcomctl32
libc=-lucrt
so=dll
useshrplib=true
libperl=libperl540.a
gnulibc_version=''
Dynamic Linking:
dlsrc=dl_win32.xs
dlext=xs.dll
d_dlsymun=undef
ccdlflags=' '
cccdlflags=' '
lddlflags='-shared -s -L"C:\STRAWB~1\perl\lib\CORE" -L"C:\STRAWB~1\c\lib" -L"C:\STRAWB~1\c\x86_64-w64-mingw32\lib" -L"C:\STRAWB~1\c\lib\gcc\x86_64-w64-mingw32\13.2.0"'
Characteristics of this binary (from libperl):
Compile-time options:
HAS_LONG_DOUBLE
HAS_TIMES
HAVE_INTERP_INTERN
MULTIPLICITY
PERLIO_LAYERS
PERL_COPY_ON_WRITE
PERL_DONT_CREATE_GVSV
PERL_HASH_FUNC_SIPHASH13
PERL_HASH_USE_SBOX32
PERL_IMPLICIT_SYS
PERL_MALLOC_WRAP
PERL_OP_PARENT
PERL_PRESERVE_IVUV
PERL_USE_SAFE_PUTENV
USE_64_BIT_INT
USE_ITHREADS
USE_LARGE_FILES
USE_LOCALE
USE_LOCALE_COLLATE
USE_LOCALE_CTYPE
USE_LOCALE_NUMERIC
USE_LOCALE_TIME
USE_PERLIO
USE_PERL_ATOF
USE_THREAD_SAFE_LOCALE
Built under MSWin32
Compiled at Aug 10 2024 12:45:35
%ENV:
PERL5_CPANPLUS_IS_RUNNING="5068"
PERL5_CPAN_IS_RUNNING="5068"
PERL5_CPAN_IS_RUNNING_IN_RECURSION="7104,5068"
PERL_CR_SMOKER_CURRENT="Test-Apocalypse-1.006"
PERL_EXTUTILS_AUTOINSTALL="--defaultdeps"
PERL_MM_USE_DEFAULT="1"
PERL_USE_UNSAFE_INC="1"
@INC:
C:/Strawberry/perl/site/lib/MSWin32-x64-multi-thread
C:/Strawberry/perl/site/lib
C:/Strawberry/perl/vendor/lib
C:/Strawberry/perl/lib
.