libwww-perl v6.77 Perl 5 v5.41.8 x86_64-linux
- Status
- Pass
- From
- James E Keenan
- Dist
-
libwww-perl v6.77
- Platform
- Perl 5 v5.41.8 x86_64-linux
- Date
- 2025-01-20 22:15:37
- ID
- 13862696-d77c-11ef-ab67-9a62e79e8690
This distribution has been tested as part of the CPAN Testers
project, supporting the Perl programming language. See
http://wiki.cpantesters.org/ for more information or email
questions to cpan-testers-discuss@perl.org
--
Dear Olaf Alders,
This is a computer-generated report for libwww-perl-6.77
on perl 5.41.8, created by CPAN-Reporter-1.2020.
Thank you for uploading your work to CPAN. Congratulations!
All tests were successful.
Sections of this report:
* Tester comments
* Program output
* Prerequisites
* Environment and other context
------------------------------
TESTER COMMENTS
------------------------------
Additional comments from tester:
none provided
------------------------------
PROGRAM OUTPUT
------------------------------
Output from '/usr/bin/make test':
PERL_DL_NONLAZY=1 "/home/jkeenan/testing/perl-5.41.8/bin/perl" "-MExtUtils::Command::MM" "-MTest::Harness" "-e" "undef *Test::Harness::Switches; test_harness(0, 'blib/lib', 'blib/arch')" t/*.t t/base/*.t t/base/protocols/*.t t/leak/*.t t/local/*.t t/robot/*.t
#
# Versions for all modules listed in MYMETA.json (including optional ones):
#
# === Configure Requires ===
#
# Module Want Have
# ------------------- ---- ----
# ExtUtils::MakeMaker any 7.70
# File::Copy any 2.41
# Getopt::Long any 2.58
#
# === Configure Suggests ===
#
# Module Want Have
# -------- ------- ----
# JSON::PP 2.27300 4.16
#
# === Build Requires ===
#
# Module Want Have
# ------------------- ---- ----
# ExtUtils::MakeMaker any 7.70
#
# === Test Requires ===
#
# Module Want Have
# ---------------------- ---- --------
# ExtUtils::MakeMaker any 7.70
# File::Spec any 3.93
# FindBin any 1.54
# HTTP::CookieJar::LWP any 0.014
# HTTP::Daemon 6.12 6.16
# Test::Fatal any 0.017
# Test::More 0.96 1.302207
# Test::Needs any 0.002010
# Test::RequiresInternet any 0.05
#
# === Test Recommends ===
#
# Module Want Have
# --------------- -------- --------
# CPAN::Meta 2.120900 2.150010
# Test::LeakTrace any 0.17
#
# === Runtime Requires ===
#
# Module Want Have
# --------------------- -------- --------
# Digest::MD5 any 2.59
# Encode 2.12 3.21
# Encode::Locale any 1.05
# File::Copy any 2.41
# File::Listing 6 6.16
# File::Temp any 0.2311
# Getopt::Long any 2.58
# HTML::Entities any 3.83
# HTML::HeadParser 3.71 3.83
# HTTP::Cookies 6 6.11
# HTTP::Date 6 6.06
# HTTP::Negotiate 6 6.01
# HTTP::Request 6.18 7.00
# HTTP::Request::Common 6.18 7.00
# HTTP::Response 6.18 7.00
# HTTP::Status 6.18 7.00
# IO::Select any 1.55
# IO::Socket any 1.55
# LWP::MediaTypes 6 6.04
# MIME::Base64 2.1 3.16_01
# Module::Load any 0.36
# Net::FTP 2.58 3.15
# Net::HTTP 6.18 6.23
# Scalar::Util any 1.68_01
# Try::Tiny any 0.32
# URI 1.10 5.31
# URI::Escape any 5.31
# WWW::RobotRules 6 6.02
# parent 0.217 0.244
# perl 5.008001 5.041008
# strict any 1.13
# warnings any 1.72
#
# === Runtime Suggests ===
#
# Module Want Have
# -------------------- ---- -------
# Authen::NTLM 1.02 missing
# Data::Dump 1.13 missing
# IO::Socket::INET any 1.55
# LWP::Protocol::https 6.02 missing
#
t/00-report-prereqs.t .......... ok
t/10-attrs.t ................... ok
t/base/default_content_type.t .. ok
t/base/protocols.t ............. ok
t/base/protocols/nntp.t ........ skipped: nntp.perl.org is unstable and Test::RequiresInternet is not catching it
t/base/proxy.t ................. ok
t/base/proxy_request.t ......... ok
t/base/simple.t ................ ok
t/base/ua.t .................... ok
t/base/ua_handlers.t ........... ok
t/leak/no_leak.t ............... ok
t/local/autoload-get.t ......... ok
t/local/autoload.t ............. ok
t/local/cookie_jar.t ........... ok
t/local/download_to_fh.t ....... ok
t/local/get.t .................. ok
t/local/http.t ................. ok
t/local/httpsub.t .............. ok
t/local/protosub.t ............. ok
t/redirect.t ................... ok
t/robot/ua-get.t ............... ok
t/robot/ua.t ................... ok
All tests successful.
Files=22, Tests=317, 26 wallclock secs ( 0.07 usr 0.01 sys + 2.28 cusr 0.34 csys = 2.70 CPU)
Result: PASS
------------------------------
PREREQUISITES
------------------------------
Prerequisite modules loaded:
requires:
Module Need Have
---------------------- -------- --------
Digest::MD5 0 2.59
Encode 2.12 3.21
Encode::Locale 0 1.05
File::Copy 0 2.41
File::Listing 6 6.16
File::Temp 0 0.2311
Getopt::Long 0 2.58
HTML::Entities 0 3.83
HTML::HeadParser 3.71 3.83
HTTP::Cookies 6 6.11
HTTP::Date 6 6.06
HTTP::Negotiate 6 6.01
HTTP::Request 6.18 7.00
HTTP::Request::Common 6.18 7.00
HTTP::Response 6.18 7.00
HTTP::Status 6.18 7.00
IO::Select 0 1.55
IO::Socket 0 1.55
LWP::MediaTypes 6 6.04
MIME::Base64 2.1 3.16_01
Module::Load 0 0.36
Net::FTP 2.58 3.15
Net::HTTP 6.18 6.23
parent 0.217 0.244
perl 5.008001 5.041008
Scalar::Util 0 1.68_01
strict 0 1.13
Try::Tiny 0 0.32
URI 1.10 5.31
URI::Escape 0 5.31
warnings 0 1.72
WWW::RobotRules 6 6.02
build_requires:
Module Need Have
---------------------- -------- --------
ExtUtils::MakeMaker 0 7.70
File::Spec 0 3.93
FindBin 0 1.54
HTTP::CookieJar::LWP 0 0.014
HTTP::Daemon 6.12 6.16
Test::Fatal 0 0.017
Test::More 0.96 1.302207
Test::Needs 0 0.002010
Test::RequiresInternet 0 0.05
configure_requires:
Module Need Have
---------------------- -------- --------
ExtUtils::MakeMaker 0 7.70
File::Copy 0 2.41
Getopt::Long 0 2.58
opt_build_requires:
Module Need Have
---------------------- -------- --------
CPAN::Meta 2.120900 2.150010
Test::LeakTrace 0 0.17
------------------------------
ENVIRONMENT AND OTHER CONTEXT
------------------------------
Environment variables:
LANG = en_US.UTF-8
LC_ADDRESS = en_US.UTF-8
LC_IDENTIFICATION = en_US.UTF-8
LC_MEASUREMENT = en_US.UTF-8
LC_MONETARY = en_US.UTF-8
LC_NAME = en_US.UTF-8
LC_NUMERIC = en_US.UTF-8
LC_PAPER = en_US.UTF-8
LC_TELEPHONE = en_US.UTF-8
LC_TIME = en_US.UTF-8
NONINTERACTIVE_TESTING = 1
PATH = /home/jkeenan/perl5/perlbrew/bin:/home/jkeenan/perl5/perlbrew/perls/perl-5.40.0/bin:/usr/lib/ccache:/usr/local/bin:/usr/bin:/bin:/usr/local/games:/usr/games:/home/jkeenan/bin:/home/jkeenan/bin/perl:/home/jkeenan/bin/shell
PERL5LIB =
PERL5OPT =
PERL5_CPANPLUS_IS_RUNNING = 8614
PERL5_CPAN_IS_RUNNING = 8614
PERLBREW_HOME = /home/jkeenan/.perlbrew
PERLBREW_MANPATH = /home/jkeenan/perl5/perlbrew/perls/perl-5.40.0/man
PERLBREW_PATH = /home/jkeenan/perl5/perlbrew/bin:/home/jkeenan/perl5/perlbrew/perls/perl-5.40.0/bin
PERLBREW_PERL = perl-5.40.0
PERLBREW_ROOT = /home/jkeenan/perl5/perlbrew
PERLBREW_SHELLRC_VERSION = 0.91
PERLBREW_VERSION = 0.96
PERL_MM_USE_DEFAULT = 1
PERL_USE_UNSAFE_INC = 1
PERL_WORKDIR = /home/jkeenan/gitwork/perl
SHELL = /bin/bash
TERM = screen.xterm-256color
Perl special variables (and OS-specific diagnostics, for MSWin32):
$^X = /home/jkeenan/testing/perl-5.41.8/bin/perl
$UID/$EUID = 1000 / 1000
$GID = 1000 27 1000
$EGID = 1000 27 1000
Perl module toolchain versions installed:
Module Have
------------------- --------
CPAN 2.38
CPAN::Meta 2.150010
Cwd 3.92
ExtUtils::CBuilder 0.280240
ExtUtils::Command 7.70
ExtUtils::Install 2.22
ExtUtils::MakeMaker 7.70
ExtUtils::Manifest 1.75
ExtUtils::ParseXS 3.57
File::Spec 3.93
JSON n/a
JSON::PP 4.16
Module::Build 0.4234
Module::Signature n/a
Parse::CPAN::Meta 2.150010
Test2 1.302207
Test::Harness 3.50
Test::More 1.302207
YAML n/a
YAML::Syck n/a
version 0.9933
--
Summary of my perl5 (revision 5 version 41 subversion 8) configuration:
Platform:
osname=linux
osvers=6.1.0-23-amd64
archname=x86_64-linux
uname='linux jk-bookworm 6.1.0-23-amd64 #1 smp preempt_dynamic debian 6.1.99-1 (2024-07-15) x86_64 gnulinux '
config_args='-des -Dusedevel -Dprefix=/home/jkeenan/testing/perl-5.41.8 -Uversiononly -Dman1dir=none -Dman3dir=none'
hint=recommended
useposix=true
d_sigaction=define
useithreads=undef
usemultiplicity=undef
use64bitint=define
use64bitall=define
uselongdouble=undef
usemymalloc=n
default_inc_excludes_dot=define
Compiler:
cc='cc'
ccflags ='-fwrapv -fno-strict-aliasing -pipe -fstack-protector-strong -I/usr/local/include -D_LARGEFILE_SOURCE -D_FILE_OFFSET_BITS=64 -D_FORTIFY_SOURCE=2'
optimize='-O2'
cppflags='-fwrapv -fno-strict-aliasing -pipe -fstack-protector-strong -I/usr/local/include'
ccversion=''
gccversion='12.2.0'
gccosandvers=''
intsize=4
longsize=8
ptrsize=8
doublesize=8
byteorder=12345678
doublekind=3
d_longlong=define
longlongsize=8
d_longdbl=define
longdblsize=16
longdblkind=3
ivtype='long'
ivsize=8
nvtype='double'
nvsize=8
Off_t='off_t'
lseeksize=8
alignbytes=8
prototype=define
Linker and Libraries:
ld='cc'
ldflags =' -fstack-protector-strong -L/usr/local/lib'
libpth=/usr/local/lib /usr/lib/x86_64-linux-gnu /usr/lib /usr/lib64
libs=-lpthread -ldl -lm -lcrypt -lutil -lc
perllibs=-lpthread -ldl -lm -lcrypt -lutil -lc
libc=/lib/x86_64-linux-gnu/libc.so.6
so=so
useshrplib=false
libperl=libperl.a
gnulibc_version='2.36'
Dynamic Linking:
dlsrc=dl_dlopen.xs
dlext=so
d_dlsymun=undef
ccdlflags='-Wl,-E'
cccdlflags='-fPIC'
lddlflags='-shared -O2 -L/usr/local/lib -fstack-protector-strong'
Characteristics of this binary (from libperl):
Compile-time options:
HAS_LONG_DOUBLE
HAS_STRTOLD
HAS_TIMES
PERLIO_LAYERS
PERL_COPY_ON_WRITE
PERL_DONT_CREATE_GVSV
PERL_HASH_FUNC_SIPHASH13
PERL_HASH_USE_SBOX32
PERL_MALLOC_WRAP
PERL_OP_PARENT
PERL_PRESERVE_IVUV
PERL_USE_DEVEL
PERL_USE_SAFE_PUTENV
USE_64_BIT_ALL
USE_64_BIT_INT
USE_LARGE_FILES
USE_LOCALE
USE_LOCALE_COLLATE
USE_LOCALE_CTYPE
USE_LOCALE_NUMERIC
USE_LOCALE_TIME
USE_PERLIO
USE_PERL_ATOF
Built under linux
Compiled at Jan 20 2025 21:52:03
%ENV:
PERL5LIB=""
PERL5OPT=""
PERL5_CPANPLUS_IS_RUNNING="8614"
PERL5_CPAN_IS_RUNNING="8614"
PERLBREW_HOME="/home/jkeenan/.perlbrew"
PERLBREW_MANPATH="/home/jkeenan/perl5/perlbrew/perls/perl-5.40.0/man"
PERLBREW_PATH="/home/jkeenan/perl5/perlbrew/bin:/home/jkeenan/perl5/perlbrew/perls/perl-5.40.0/bin"
PERLBREW_PERL="perl-5.40.0"
PERLBREW_ROOT="/home/jkeenan/perl5/perlbrew"
PERLBREW_SHELLRC_VERSION="0.91"
PERLBREW_VERSION="0.96"
PERL_MM_USE_DEFAULT="1"
PERL_USE_UNSAFE_INC="1"
PERL_WORKDIR="/home/jkeenan/gitwork/perl"
@INC:
/home/jkeenan/testing/perl-5.41.8/lib/site_perl/5.41.8/x86_64-linux
/home/jkeenan/testing/perl-5.41.8/lib/site_perl/5.41.8
/home/jkeenan/testing/perl-5.41.8/lib/5.41.8/x86_64-linux
/home/jkeenan/testing/perl-5.41.8/lib/5.41.8
.