IO-Stringy v2.113 Perl 5 v5.28.2 x86_64-linux-thread-multi
- Status
- Pass
- From
- Michael Pinson
- Dist
-
IO-Stringy v2.113
- Platform
- Perl 5 v5.28.2 x86_64-linux-thread-multi
- Date
- 2020-01-18 21:54:18
- ID
- 1392aab0-3a3d-11ea-b24e-9613d88cec8e
This distribution has been tested as part of the CPAN Testers
project, supporting the Perl programming language. See
http://wiki.cpantesters.org/ for more information or email
questions to cpan-testers-discuss@perl.org
--
Dear Chase Whitener,
This is a computer-generated report for IO-Stringy-2.113
on perl 5.28.2, created by CPAN-Reporter-1.2018.
Thank you for uploading your work to CPAN. Congratulations!
All tests were successful.
Sections of this report:
* Tester comments
* Program output
* Prerequisites
* Environment and other context
------------------------------
TESTER COMMENTS
------------------------------
Additional comments from tester:
none provided
------------------------------
PROGRAM OUTPUT
------------------------------
Output from '/usr/bin/make test':
PERL_DL_NONLAZY=1 "/usr/bin/perl" "-MExtUtils::Command::MM" "-MTest::Harness" "-e" "undef *Test::Harness::Switches; test_harness(0, 'blib/lib', 'blib/arch')" t/*.t
#
# Versions for all modules listed in MYMETA.json (including optional ones):
#
# === Configure Requires ===
#
# Module Want Have
# ------------------- ---- ----
# ExtUtils::MakeMaker any 7.44
#
# === Build Requires ===
#
# Module Want Have
# ------------------- ---- ----
# ExtUtils::MakeMaker any 7.44
#
# === Test Requires ===
#
# Module Want Have
# ------------------- ---- --------
# ExtUtils::MakeMaker any 7.44
# File::Basename any 2.85
# File::Spec any 3.75
# File::Temp any 0.2309
# FileHandle any 2.03
# IO::File any 1.39
# IO::Handle any 1.39
# Symbol any 1.08
# Test::More 0.88 1.302168
# Test::Tester any 1.302168
# strict any 1.11
# warnings any 1.42
#
# === Test Recommends ===
#
# Module Want Have
# ---------- -------- --------
# CPAN::Meta 2.120900 2.150010
#
# === Runtime Requires ===
#
# Module Want Have
# ---------- ---- -----
# Carp any 1.50
# Exporter 5.57 5.73
# File::Spec any 3.75
# FileHandle any 2.03
# IO::File any 1.39
# IO::Handle any 1.39
# Symbol any 1.08
# overload any 1.30
# parent any 0.237
# strict any 1.11
# warnings any 1.42
#
t/00-report-prereqs.t .. ok
t/IO_InnerFile.t ....... ok
t/IO_Lines.t ........... ok
t/IO_Scalar.t .......... ok
t/IO_ScalarArray.t ..... ok
t/IO_WrapTie.t ......... ok
t/simple.t ............. ok
t/two.t ................ ok
All tests successful.
Files=8, Tests=127, 0 wallclock secs ( 0.04 usr 0.01 sys + 0.75 cusr 0.08 csys = 0.88 CPU)
Result: PASS
------------------------------
PREREQUISITES
------------------------------
Prerequisite modules loaded:
requires:
Module Need Have
------------------- -------- --------
Carp 0 1.50
Exporter 5.57 5.73
File::Spec 0 3.75
FileHandle 0 2.03
IO::File 0 1.39
IO::Handle 0 1.39
overload 0 1.30
parent 0 0.237
strict 0 1.11
Symbol 0 1.08
warnings 0 1.42
build_requires:
Module Need Have
------------------- -------- --------
ExtUtils::MakeMaker 0 7.44
File::Basename 0 2.85
File::Spec 0 3.75
File::Temp 0 0.2309
FileHandle 0 2.03
IO::File 0 1.39
IO::Handle 0 1.39
strict 0 1.11
Symbol 0 1.08
Test::More 0.88 1.302168
Test::Tester 0 1.302168
warnings 0 1.42
configure_requires:
Module Need Have
------------------- -------- --------
ExtUtils::MakeMaker 0 7.44
opt_build_requires:
Module Need Have
------------------- -------- --------
CPAN::Meta 2.120900 2.150010
------------------------------
ENVIRONMENT AND OTHER CONTEXT
------------------------------
Environment variables:
LANG = en_US.UTF-8
LANGUAGE =
PATH = /usr/local/sbin:/usr/local/bin:/sbin:/bin:/usr/sbin:/usr/bin:/root/bin
PERL5LIB =
PERL5OPT =
PERL5_CPANPLUS_IS_RUNNING = 20327
PERL5_CPAN_IS_RUNNING = 20327
PERL_USE_UNSAFE_INC = 1
SHELL = /bin/bash
TERM = xterm-256color
Perl special variables (and OS-specific diagnostics, for MSWin32):
$^X = /usr/bin/perl
$UID/$EUID = 0 / 0
$GID = 0 0 1 2 3 4 6 10 27
$EGID = 0 0 1 2 3 4 6 10 27
Perl module toolchain versions installed:
Module Have
------------------- --------
CPAN 2.27
CPAN::Meta 2.150010
Cwd 3.75
ExtUtils::CBuilder 0.280231
ExtUtils::Command 7.44
ExtUtils::Install 2.14
ExtUtils::MakeMaker 7.44
ExtUtils::Manifest 1.72
ExtUtils::ParseXS 3.35
File::Spec 3.75
JSON 4.02
JSON::PP 4.04
Module::Build 0.4224
Module::Signature 0.83
Parse::CPAN::Meta 2.150010
Test::Harness 3.42
Test::More 1.302168
YAML 1.29
YAML::Syck n/a
version 0.9924
--
Summary of my perl5 (revision 5 version 28 subversion 2) configuration:
Platform:
osname=linux
osvers=4.9.0-sabayon
archname=x86_64-linux-thread-multi
uname='linux andromeda.sabayon.org 4.9.0-sabayon #1 smp sun mar 11 11:25:15 utc 2018 x86_64 intel(r) xeon(r) cpu e5-26xx (sandy bridge) genuineintel gnulinux '
config_args='-des -Dinstallprefix=/usr -Dinstallusrbinperl=n -Ui_xlocale -Di_ndbm -Di_gdbm -Di_db -Dusethreads -DDEBUGGING=none -Dinc_version_list=5.26.2 -Dlibpth=/usr/local/lib64 /lib64 /usr/lib64 -Dnoextensions=ODBM_File -Duseshrplib -Darchname=x86_64-linux-thread -Dcc=x86_64-pc-linux-gnu-gcc -Doptimize=-O2 -march=x86-64 -pipe -Dldflags=-Wl,-O1 -Wl,--as-needed -Dprefix=/usr -Dsiteprefix=/usr/local -Dvendorprefix=/usr -Dscriptdir=/usr/bin -Dprivlib=/usr/lib64/perl5/5.28.2 -Darchlib=/usr/lib64/perl5/5.28.2/x86_64-linux-thread-multi -Dsitelib=/usr/local/lib64/perl5/5.28.2 -Dsitearch=/usr/local/lib64/perl5/5.28.2/x86_64-linux-thread-multi -Dvendorlib=/usr/lib64/perl5/vendor_perl/5.28.2 -Dvendorarch=/usr/lib64/perl5/vendor_perl/5.28.2/x86_64-linux-thread-multi -Dman1dir=/usr/share/man/man1 -Dman3dir=/usr/share/man/man3 -Dsiteman1dir=/usr/local/man/man1 -Dsiteman3dir=/usr/local/man/man3 -Dvendorman1dir=/usr/share/man/man1 -Dvendorman3dir=/usr/share/man/man3 -Dman1ext=1 -Dman3ext=3pm -Dlibperl=libperl.so.5.28.2 -Dlocincpth=/usr/include -Dglibpth=/lib64 /usr/lib64 -Duselargefiles -Dd_semctl_semun -Dcf_by=Gentoo -Dmyhostname=localhost -Dperladmin=root@localhost -Ud_csh -Dsh=/bin/sh -Dtargetsh=/bin/sh -Uusenm -Ui_xlocale -Di_ndbm -Di_gdbm -Di_db -Dusethreads -DDEBUGGING=none -Dinc_version_list=5.26.2 -Dlibpth=/usr/local/lib64 /lib64 /usr/lib64 -Dnoextensions=ODBM_File'
hint=recommended
useposix=true
d_sigaction=define
useithreads=define
usemultiplicity=define
use64bitint=define
use64bitall=define
uselongdouble=undef
usemymalloc=n
default_inc_excludes_dot=define
bincompat5005=undef
Compiler:
cc='x86_64-pc-linux-gnu-gcc'
ccflags ='-D_REENTRANT -D_GNU_SOURCE -fwrapv -fno-strict-aliasing -pipe -D_LARGEFILE_SOURCE -D_FILE_OFFSET_BITS=64'
optimize='-O2 -march=x86-64 -pipe'
cppflags='-D_REENTRANT -D_GNU_SOURCE -fwrapv -fno-strict-aliasing -pipe'
ccversion=''
gccversion='8.2.0'
gccosandvers=''
intsize=4
longsize=8
ptrsize=8
doublesize=8
byteorder=12345678
doublekind=3
d_longlong=define
longlongsize=8
d_longdbl=define
longdblsize=16
longdblkind=3
ivtype='long'
ivsize=8
nvtype='double'
nvsize=8
Off_t='off_t'
lseeksize=8
alignbytes=8
prototype=define
Linker and Libraries:
ld='x86_64-pc-linux-gnu-gcc'
ldflags ='-Wl,-O1 -Wl,--as-needed'
libpth=/usr/local/lib64 /lib64 /usr/lib64 /usr/lib/gcc/x86_64-pc-linux-gnu/8.2.0/include-fixed /usr/lib /lib/../lib64 /usr/lib/../lib64 /lib
libs=-lgdbm -ldb -ldl -lm -lcrypt -lutil -lpthread -lc -lgdbm_compat
perllibs=-ldl -lm -lcrypt -lutil -lpthread -lc
libc=libc-2.29.so
so=so
useshrplib=true
libperl=libperl.so.5.28.2
gnulibc_version='2.29'
Dynamic Linking:
dlsrc=dl_dlopen.xs
dlext=so
d_dlsymun=undef
ccdlflags='-Wl,-E'
cccdlflags='-fPIC'
lddlflags='-shared -O2 -march=x86-64 -pipe -Wl,-O1 -Wl,--as-needed'
Characteristics of this binary (from libperl):
Compile-time options:
HAS_TIMES
MULTIPLICITY
PERLIO_LAYERS
PERL_COPY_ON_WRITE
PERL_DONT_CREATE_GVSV
PERL_IMPLICIT_CONTEXT
PERL_MALLOC_WRAP
PERL_OP_PARENT
PERL_PRESERVE_IVUV
USE_64_BIT_ALL
USE_64_BIT_INT
USE_ITHREADS
USE_LARGE_FILES
USE_LOCALE
USE_LOCALE_COLLATE
USE_LOCALE_CTYPE
USE_LOCALE_NUMERIC
USE_LOCALE_TIME
USE_PERLIO
USE_PERL_ATOF
USE_REENTRANT_API
Locally applied patches:
gentoo/hints_hpux - Fix hpux hints
gentoo/aix_soname - aix gcc detection and shared library soname support
gentoo/EUMM-RUNPATH - https://bugs.gentoo.org/105054 cpan/ExtUtils-MakeMaker: drop $PORTAGE_TMPDIR from LD_RUN_PATH
gentoo/config_over - Remove -rpath and append LDFLAGS to lddlflags
gentoo/opensolaris_headers - Add headers for opensolaris
gentoo/patchlevel - List packaged patches for perl-5.28.2-r1(#4) in patchlevel.h
gentoo/cleanup-paths - Cleanup PATH and shrpenv
gentoo/enc2xs - Tweak enc2xs to follow symlinks and ignore missing @INC directories.
gentoo/darwin-cc-ld - https://bugs.gentoo.org/297751 darwin: Use $CC to link
gentoo/cpan_definstalldirs - Provide a sensible INSTALLDIRS default for modules installed from CPAN.
gentoo/interix - Fix interix hints
gentoo/create_libperl_soname - https://bugs.gentoo.org/286840 Set libperl soname
gentoo/mod_paths - Add /etc/perl to @INC
gentoo/EUMM_perllocalpod - cpan/ExtUtils-MakeMaker: remove targets that generate perllocal.pod
gentoo/drop_fstack_protector - https://bugs.gentoo.org/348557 Don't force -fstack-protector on everyone
gentoo/usr_local - Configure: Don't include sources in /usr/local/ for compiling perl
gentoo/D-SHA-CFLAGS - https://bugs.gentoo.org/506818 Do not set custom CFLAGS in cpan/Digest-SHA
gentoo/io_socket_ip_tests - cpan/IO-Socket-IP: Disable network tests
gentoo/tests - Fix EUMM podlocal tests
gentoo/no-nsl-cl.patch -
gentoo/no_porting_tests - Disable porting tests which create fun false-failures all over travis
gentoo/pathtools_enoent - Disable PathTools tests which fails under sandboxing
debian/cpan-missing-site-dirs - Fix CPAN::FirstTime defaults with nonexisting site dirs if a parent is writable
debian/makemaker-pasthru - Pass LD settings through to subdirectories
fixes/memoize_storable_nstore - [rt.cpan.org #77790] Memoize::Storable: respect 'nstore' option not respected
fixes/podman-pipe - Better errors for man pages from standard input
fixes/respect_umask - Respect umask during installation
fixes/net_smtp_docs - [rt.cpan.org #36038] Document the Net::SMTP 'Port' option
fixes/document_makemaker_ccflags - [rt.cpan.org #68613] Document that CCFLAGS should include $Config{ccflags}
fixes/parallel-manisort.patch - Fix parallel building
fixes/storable-metasploit.patch - [PATCH 1/2] (perl #133706) remove exploit code from Storable
fixes/storable-probing.patch - [PATCH 2/2] (perl #133708) remove build-time probing for stack limits for Storable
fixes/gdbm-test.patch - [PATCH] ext/GDBM_File/t/fatal.t: handle non-fatality
Built under linux
Compiled at Aug 31 2019 20:46:20
%ENV:
PERL5LIB=""
PERL5OPT=""
PERL5_CPANPLUS_IS_RUNNING="20327"
PERL5_CPAN_IS_RUNNING="20327"
PERL_USE_UNSAFE_INC="1"
@INC:
/etc/perl
/usr/local/lib64/perl5/5.28.2/x86_64-linux-thread-multi
/usr/local/lib64/perl5/5.28.2
/usr/lib64/perl5/vendor_perl/5.28.2/x86_64-linux-thread-multi
/usr/lib64/perl5/vendor_perl/5.28.2
/usr/local/lib64/perl5/5.26.2
/usr/local/lib64/perl5
/usr/lib64/perl5/vendor_perl/5.26.2
/usr/lib64/perl5/vendor_perl
/usr/lib64/perl5/5.28.2/x86_64-linux-thread-multi
/usr/lib64/perl5/5.28.2
.