Back
From: metabase:user:30ae4450-2aae-11df-837a-5e0a49663a4f
Subject: PASS Soar-Production-0.03 v5.17.11 GNU/Linux
Date: 2013-06-13T09:24:41Z
This distribution has been tested as part of the CPAN Testers
project, supporting the Perl programming language. See
http://wiki.cpantesters.org/ for more information or email
questions to cpan-testers-discuss@perl.org
--
Dear Nathan Gary Glenn,
This is a computer-generated report for Soar-Production-0.03
on perl 5.17.11, created by CPAN-Reporter-1.2010.
Thank you for uploading your work to CPAN. Congratulations!
All tests were successful.
Sections of this report:
* Tester comments
* Program output
* Prerequisites
* Environment and other context
------------------------------
TESTER COMMENTS
------------------------------
Additional comments from tester:
this report is from an automated smoke testing program
and was not reviewed by a human for accuracy
------------------------------
PROGRAM OUTPUT
------------------------------
Output from './Build test':
t/0-use.t ........................ ok
t/00-compile.t ................... ok
#
#
# Generated by Dist::Zilla::Plugin::ReportVersions::Tiny v1.08
# perl: 5.017011 (wanted 5.010) on linux from /home/c/perl5/perlbrew/perls/perl-5.17.11/bin/perl5.17.11
#
# Carp => 1.28 (want any version)
# Data::Diver => 1.0101 (want any version)
# Data::Dumper => 2.145 (want any version)
# Exporter::Easy => 0.16 (want any version)
# File::Find => 1.23 (want any version)
# File::Spec => 3.40 (want any version)
# File::Spec::Functions => 3.40 (want any version)
# File::Temp => 0.2301 (want any version)
# FindBin => 1.51 (want any version)
# Module::Build => 0.4004 (want 0.3601)
# Parse::RecDescent => 1.967009 (want any version)
# Path::Tiny => 0.020 (want any version)
# Pod::Coverage::TrustPod => 0.100002 (want any version)
# Test::Base => 0.60 (want any version)
# Test::Base::Filter => <undef> (want any version)
# Test::CPAN::Meta => 0.23 (want any version)
# Test::Deep => 0.11 (want any version)
# Test::Exception => 0.31 (want any version)
# Test::LongString => 0.15 (want any version)
# Test::More => 0.98 (want 0.88)
# Test::Pod => 1.46 (want 1.41)
# Test::Pod::Coverage => 1.08 (want 1.08)
# Test::Warn => 0.24 (want any version)
# strict => 1.07 (want any version)
# utf8 => 1.10 (want any version)
# version => 0.9902 (want 0.9901)
# warnings => 1.18 (want any version)
#
# Thanks for using my code. I hope it works for you.
# If not, please try and include this output in the bug report.
# That will help me reproduce the issue and solve your problem.
#
t/000-report-versions-tiny.t ..... ok
t/1-basic.t ...................... ok
t/parser/00-use.t ................ ok
t/parser/01-bad_input.t .......... ok
t/parser/01_5-comments.t ......... ok
t/parser/02-split-productions.t .. ok
t/parser/03-production-names.t ... ok
t/parser/04-documentation.t ...... ok
t/parser/05-Flags.t .............. ok
t/parser/06-State.t .............. ok
t/parser/07-variables.t .......... ok
t/parser/08-attributes.t ......... ok
t/parser/09-int.t ................ ok
t/parser/10-float.t .............. ok
t/parser/11-string.t ............. ok
t/parser/12-quoted.t ............. ok
t/parser/13-disjunct.t ........... ok
t/parser/14-conjunct.t ........... ok
t/parser/15-predicate.t .......... ok
t/parser/16-preference.t ......... ok
t/parser/17-function.t ........... ok
t/parser/18-negative.t ........... ok
t/parser/19-conjunctiveCond.t .... ok
t/parser/20-test_data.t .......... ok
t/printer/0-use.t ................ ok
t/printer/1-test_data.t .......... ok
All tests successful.
Files=28, Tests=1816, 103 wallclock secs ( 0.02 usr 2.15 sys + 85.90 cusr 13.32 csys = 101.39 CPU)
Result: PASS
------------------------------
PREREQUISITES
------------------------------
Prerequisite modules loaded:
requires:
Module Need Have
--------------------- ------ --------
Carp 0 1.28
Data::Dumper 0 2.145
Exporter::Easy 0 0.16
Parse::RecDescent 0 1.967009
perl 5.010 5.017011
strict 0 1.07
warnings 0 1.18
build_requires:
Module Need Have
--------------------- ------ --------
Data::Diver 0 1.0101
File::Find 0 1.23
File::Spec 0 3.40
File::Spec::Functions 0 3.40
File::Temp 0 0.2301
FindBin 0 1.51
Module::Build 0.3601 0.4004
Path::Tiny 0 0.020
Test::Base 0 0.60
Test::Base::Filter 0 0
Test::Deep 0 0.110
Test::Exception 0 0.31
Test::LongString 0 0.15
Test::More 0.88 0.98
Test::Warn 0 0.24
utf8 0 1.10
configure_requires:
Module Need Have
--------------------- ------ --------
Module::Build 0.3601 0.4004
------------------------------
ENVIRONMENT AND OTHER CONTEXT
------------------------------
Environment variables:
AUTOMATED_TESTING = 1
LANG = ru_RU.utf8
PATH = /home/c/perl5/perlbrew/bin:/home/c/perl5/perlbrew/perls/perl-5.17.11/bin:/usr/local/bin:/usr/bin:/bin:/usr/local/games:/usr/games
PERL5LIB = /home/c/.cpan/build/Data-Diver-1.0101-Z3ZxQk/blib/arch:/home/c/.cpan/build/Data-Diver-1.0101-Z3ZxQk/blib/lib
PERL5OPT =
PERL5_CPANPLUS_IS_RUNNING = 13117
PERL5_CPAN_IS_RUNNING = 13117
PERL5_CPAN_IS_RUNNING_IN_RECURSION = 2317,13117
PERLBREW_MANPATH = /home/c/perl5/perlbrew/perls/perl-5.17.11/man
PERLBREW_PATH = /home/c/perl5/perlbrew/bin:/home/c/perl5/perlbrew/perls/perl-5.17.11/bin
PERLBREW_PERL = perl-5.17.11
PERLBREW_ROOT = /home/c/perl5/perlbrew
PERLBREW_SKIP_INIT = 1
PERLBREW_VERSION = 0.58
PERL_CR_SMOKER_CURRENT = Soar-Production-0.03
PERL_EXTUTILS_AUTOINSTALL = --defaultdeps
PERL_MM_USE_DEFAULT = 1
SHELL = /bin/bash
TERM = xterm
Perl special variables (and OS-specific diagnostics, for MSWin32):
$^X = /home/c/perl5/perlbrew/perls/perl-5.17.11/bin/perl5.17.11
$UID/$EUID = 1000 / 1000
$GID = 1000 24 25 27 29 30 44 46 108 109 115 1000 1001
$EGID = 1000 24 25 27 29 30 44 46 108 109 115 1000 1001
Perl module toolchain versions installed:
Module Have
------------------- --------
CPAN 2.00
CPAN::Meta 2.120921
Cwd 3.40
ExtUtils::CBuilder 0.280210
ExtUtils::Command 1.17
ExtUtils::Install 1.59
ExtUtils::MakeMaker 6.66
ExtUtils::Manifest 1.63
ExtUtils::ParseXS 3.18
File::Spec 3.40
JSON 2.57
JSON::PP 2.27202
Module::Build 0.4004
Module::Signature 0.70
Parse::CPAN::Meta 1.4404
Test::Harness 3.26
Test::More 0.98
YAML 0.84
YAML::Syck 1.25
version 0.9902
--
Summary of my perl5 (revision 5 version 17 subversion 11) configuration:
Platform:
osname=linux, osvers=2.6.32-5-686, archname=i686-linux
uname='linux deb1 2.6.32-5-686 #1 smp sun sep 23 09:49:36 utc 2012 i686 gnulinux '
config_args='-de -Dprefix=/home/c/perl5/perlbrew/perls/perl-5.17.11 -Dusedevel -Aeval:scriptdir=/home/c/perl5/perlbrew/perls/perl-5.17.11/bin'
hint=recommended, useposix=true, d_sigaction=define
useithreads=undef, usemultiplicity=undef
useperlio=define, d_sfio=undef, uselargefiles=define, usesocks=undef
use64bitint=undef, use64bitall=undef, uselongdouble=undef
usemymalloc=n, bincompat5005=undef
Compiler:
cc='cc', ccflags ='-fno-strict-aliasing -pipe -fstack-protector -I/usr/local/include -D_LARGEFILE_SOURCE -D_FILE_OFFSET_BITS=64',
optimize='-O2',
cppflags='-fno-strict-aliasing -pipe -fstack-protector -I/usr/local/include'
ccversion='', gccversion='4.4.5', gccosandvers=''
intsize=4, longsize=4, ptrsize=4, doublesize=8, byteorder=1234
d_longlong=define, longlongsize=8, d_longdbl=define, longdblsize=12
ivtype='long', ivsize=4, nvtype='double', nvsize=8, Off_t='off_t', lseeksize=8
alignbytes=4, prototype=define
Linker and Libraries:
ld='cc', ldflags =' -fstack-protector -L/usr/local/lib'
libpth=/usr/local/lib /lib/../lib /usr/lib/../lib /lib /usr/lib /usr/lib/i486-linux-gnu /usr/lib64
libs=-lnsl -lgdbm -ldb -ldl -lm -lcrypt -lutil -lc -lgdbm_compat
perllibs=-lnsl -ldl -lm -lcrypt -lutil -lc
libc=/lib/libc-2.11.3.so, so=so, useshrplib=false, libperl=libperl.a
gnulibc_version='2.11.3'
Dynamic Linking:
dlsrc=dl_dlopen.xs, dlext=so, d_dlsymun=undef, ccdlflags='-Wl,-E'
cccdlflags='-fPIC', lddlflags='-shared -O2 -L/usr/local/lib -fstack-protector'
Characteristics of this binary (from libperl):
Compile-time options: HAS_TIMES PERLIO_LAYERS PERL_DONT_CREATE_GVSV
PERL_MALLOC_WRAP PERL_PRESERVE_IVUV PERL_SAWAMPERSAND
PERL_USE_DEVEL USE_LARGE_FILES USE_LOCALE
USE_LOCALE_COLLATE USE_LOCALE_CTYPE
USE_LOCALE_NUMERIC USE_PERLIO USE_PERL_ATOF
Built under linux
Compiled at Apr 22 2013 14:30:31
%ENV:
PERL5LIB="/home/c/.cpan/build/Data-Diver-1.0101-Z3ZxQk/blib/arch:/home/c/.cpan/build/Data-Diver-1.0101-Z3ZxQk/blib/lib"
PERL5OPT=""
PERL5_CPANPLUS_IS_RUNNING="13117"
PERL5_CPAN_IS_RUNNING="13117"
PERL5_CPAN_IS_RUNNING_IN_RECURSION="2317,13117"
PERLBREW_MANPATH="/home/c/perl5/perlbrew/perls/perl-5.17.11/man"
PERLBREW_PATH="/home/c/perl5/perlbrew/bin:/home/c/perl5/perlbrew/perls/perl-5.17.11/bin"
PERLBREW_PERL="perl-5.17.11"
PERLBREW_ROOT="/home/c/perl5/perlbrew"
PERLBREW_SKIP_INIT="1"
PERLBREW_VERSION="0.58"
PERL_CR_SMOKER_CURRENT="Soar-Production-0.03"
PERL_EXTUTILS_AUTOINSTALL="--defaultdeps"
PERL_MM_USE_DEFAULT="1"
@INC:
/home/c/.cpan/build/Data-Diver-1.0101-Z3ZxQk/blib/arch
/home/c/.cpan/build/Data-Diver-1.0101-Z3ZxQk/blib/lib
/home/c/perl5/perlbrew/perls/perl-5.17.11/lib/site_perl/5.17.11/i686-linux
/home/c/perl5/perlbrew/perls/perl-5.17.11/lib/site_perl/5.17.11
/home/c/perl5/perlbrew/perls/perl-5.17.11/lib/5.17.11/i686-linux
/home/c/perl5/perlbrew/perls/perl-5.17.11/lib/5.17.11
.