Sub-HandlesVia v0.050002 Perl 5 v5.22.2 x86_64-linux

Status
Pass
From
Slaven Rezić
Dist
Sub-HandlesVia v0.050002
Platform
Perl 5 v5.22.2 x86_64-linux
Date
2025-03-31 11:55:44
ID
13a705c8-0e27-11f0-851a-a82e6e8775ea
This distribution has been tested as part of the CPAN Testers
project, supporting the Perl programming language.  See
http://wiki.cpantesters.org/ for more information or email
questions to cpan-testers-discuss@perl.org


--
Dear Toby Inkster,

This is a computer-generated report for Sub-HandlesVia-0.050002
on perl 5.22.2, created by CPAN-Reporter-1.2018.

Thank you for uploading your work to CPAN.  Congratulations!
All tests were successful.

Sections of this report:

    * Tester comments
    * Program output
    * Prerequisites
    * Environment and other context

------------------------------
TESTER COMMENTS
------------------------------

Additional comments from tester:

none provided

------------------------------
PROGRAM OUTPUT
------------------------------

Output from '/usr/bin/make test':

PERL_DL_NONLAZY=1 "/opt/perl-5.22.2/bin/perl" "-MExtUtils::Command::MM" "-MTest::Harness" "-e" "undef *Test::Harness::Switches; test_harness(0, 'blib/lib', 'blib/arch')" t/*.t t/02moo/*.t t/03moo_mxtt/*.t t/04moose/*.t t/05moose_nativetypes/*.t t/06mouse/*.t t/07mouse_nativetypes/*.t t/30egpod/*.t t/40mite/*.t
# 
#   Perl                                        5.022002
#   Exporter::Tiny                              1.006002
#   Type::Tiny/Type::Tiny::XS                   2.006000/0.012
#   Scalar::Util/List::Util/Sub::Util           1.68/1.68/1.68
# 
#   Class::Tiny                                 1.004
#   Role::Tiny                                  2.000003
#   Class::Method::Modifiers                    2.12
#   Moo/MooX::TypeTiny/Class::XSAccessor        2.002004/0.001003/1.19
#   Moose                                       2.1805
#   Mouse                                       2.4
# 
#   Test::More/Test::Fatal/Test::Requires       1.302209/0.014/0.10
# 
#   $AUTOMATED_TESTING                          undef
#   $NONINTERACTIVE_TESTING                     undef
#   $EXTENDED_TESTING                           undef
#   $AUTHOR_TESTING                             undef
#   $RELEASE_TESTING                            undef
# 
# >>>> Type::Tiny is using Type::Tiny::XS
# 
t/00begin.t ............................ ok
t/01basic.t ............................ ok
t/02moo.t .............................. ok
t/02moo/ext_attr.t ..................... ok
t/02moo/role.t ......................... ok
t/02moo/roles-multiple.t ............... ok
t/02moo/trait_array.t .................. ok
t/02moo/trait_bool.t ................... ok
t/02moo/trait_code.t ................... ok
t/02moo/trait_counter.t ................ ok
t/02moo/trait_hash.t ................... ok
t/02moo/trait_number.t ................. ok
t/02moo/trait_string.t ................. ok
t/03moo_mxtt.t ......................... ok
t/03moo_mxtt/role.t .................... ok
t/03moo_mxtt/trait_array.t ............. ok
t/03moo_mxtt/trait_bool.t .............. ok
t/03moo_mxtt/trait_code.t .............. ok
t/03moo_mxtt/trait_counter.t ........... ok
t/03moo_mxtt/trait_hash.t .............. skipped: https://rt.cpan.org/Ticket/Display.html?id=131576
t/03moo_mxtt/trait_number.t ............ ok
t/03moo_mxtt/trait_string.t ............ ok
t/04moose.t ............................ ok
t/04moose/ext_attr.t ................... ok
t/04moose/role.t ....................... ok
t/04moose/roles-multiple.t ............. ok
t/04moose/trait_array.t ................ ok
t/04moose/trait_bool.t ................. ok
t/04moose/trait_code.t ................. ok
t/04moose/trait_counter.t .............. ok
t/04moose/trait_hash.t ................. ok
t/04moose/trait_number.t ............... ok
t/04moose/trait_string.t ............... ok
t/05moose_nativetypes.t ................ ok
t/05moose_nativetypes/role.t ........... ok
t/05moose_nativetypes/trait_array.t .... ok
t/05moose_nativetypes/trait_bool.t ..... ok
t/05moose_nativetypes/trait_code.t ..... ok
t/05moose_nativetypes/trait_counter.t .. ok
t/05moose_nativetypes/trait_hash.t ..... ok
t/05moose_nativetypes/trait_number.t ... ok
t/05moose_nativetypes/trait_string.t ... ok
t/06mouse.t ............................ ok
t/06mouse/ext_attr.t ................... ok
t/06mouse/role.t ....................... ok
t/06mouse/roles-multiple.t ............. skipped: TODO (issue #9)
t/06mouse/trait_array.t ................ ok
t/06mouse/trait_bool.t ................. ok
t/06mouse/trait_code.t ................. ok
t/06mouse/trait_counter.t .............. ok
t/06mouse/trait_hash.t ................. ok
t/06mouse/trait_number.t ............... ok
t/06mouse/trait_string.t ............... ok
t/07mouse_nativetypes.t ................ ok
t/07mouse_nativetypes/role.t ........... ok
t/07mouse_nativetypes/trait_array.t .... ok
t/07mouse_nativetypes/trait_bool.t ..... ok
t/07mouse_nativetypes/trait_code.t ..... ok
t/07mouse_nativetypes/trait_counter.t .. ok
t/07mouse_nativetypes/trait_hash.t ..... ok
t/07mouse_nativetypes/trait_number.t ... ok
t/07mouse_nativetypes/trait_string.t ... ok
t/08classtiny.t ........................ ok
t/09barebones.t ........................ ok
t/10barebones_eagerbuilder.t ........... ok
t/11delegation.t ....................... ok
t/12slotaccess.t ....................... skipped: Test requires module 'MooseX::ArrayRef' but it's not found
t/14enum.t ............................. ok
t/15preludes.t ......................... ok
t/16stackqueue.t ....................... ok
t/20moosex_extended.t .................. skipped: test requires MooseX::Extended
t/30egpod/array.t ...................... ok
t/30egpod/bool.t ....................... ok
t/30egpod/code.t ....................... ok
t/30egpod/counter.t .................... ok
t/30egpod/hash.t ....................... ok
t/30egpod/number.t ..................... ok
t/30egpod/scalar.t ..................... ok
t/30egpod/string.t ..................... ok
t/31egpod_dummy.t ...................... ok
t/40mite/00-basic.t .................... ok
t/40mite/01-roles.t .................... ok
t/40mite/array.t ....................... ok
t/40mite/bool.t ........................ ok
t/40mite/code.t ........................ ok
t/40mite/counter.t ..................... ok
t/40mite/hash.t ........................ ok
t/40mite/number.t ...................... ok
t/40mite/scalar.t ...................... ok
t/40mite/string.t ...................... ok
t/50objectpad.t ........................ skipped: Test requires module 'Object::Pad' but it's not found
t/60detect.t ........................... ok
t/61moosemetagubbins.t ................. ok
t/62mousemetagubbins.t ................. ok
t/80beam.t ............................. ok
t/81mxpa.t ............................. skipped: Test requires module 'MooX::ProtectedAttributes' but it's not found
t/94cmp.t .............................. ok
t/95any.t .............................. ok
t/96foreach.t .......................... ok
t/97pickrandom.t ....................... ok
t/98apply.t ............................ ok
t/99headtail.t ......................... ok
All tests successful.
Files=102, Tests=9444, 22 wallclock secs ( 0.53 usr  0.20 sys + 17.97 cusr  2.21 csys = 20.91 CPU)
Result: PASS

------------------------------
PREREQUISITES
------------------------------

Prerequisite modules loaded:

requires:

    Module                   Need     Have    
    ------------------------ -------- --------
    Class::Method::Modifiers 0        2.12    
    Exporter::Shiny          0        1.006002
    List::Util               1.54     1.68    
    perl                     5.008001 5.022002
    Role::Hooks              0.008    0.008   
    Role::Tiny               0        2.000003
    Type::Tiny               1.004    2.006000

build_requires:

    Module                   Need     Have    
    ------------------------ -------- --------
    Test::Fatal              0        0.014   
    Test::More               0.96     1.302209
    Test::Requires           0        0.10    
    Try::Tiny                0        0.27    

configure_requires:

    Module                   Need     Have    
    ------------------------ -------- --------
    ExtUtils::MakeMaker      6.17     7.24    


------------------------------
ENVIRONMENT AND OTHER CONTEXT
------------------------------

Environment variables:

    LANG = en_US.UTF-8
    LANGUAGE = en_US:en
    LC_ALL = en_US.UTF-8
    PATH = /usr/local/bin:/usr/bin:/bin:/usr/local/sbin:/usr/sbin:/sbin:/home/cpansand/bin/linux-gnu:/home/cpansand/bin/sh:/home/cpansand/bin:/usr/games:/home/cpansand/devel:/home/eserte/src/srezic-misc/scripts
    PERL5LIB = /home/cpansand/.cpan/build/2025033113/Type-Tiny-2.006000-4/blib/arch:/home/cpansand/.cpan/build/2025033113/Type-Tiny-2.006000-4/blib/lib:/home/cpansand/.cpan/build/2025033113/Exporter-Tiny-1.006002-4/blib/arch:/home/cpansand/.cpan/build/2025033113/Exporter-Tiny-1.006002-4/blib/lib:/home/cpansand/.cpan/build/2025033113/Role-Hooks-0.008-4/blib/arch:/home/cpansand/.cpan/build/2025033113/Role-Hooks-0.008-4/blib/lib:/home/cpansand/.cpan/build/2025033113/Scalar-List-Utils-1.68-4/blib/arch:/home/cpansand/.cpan/build/2025033113/Scalar-List-Utils-1.68-4/blib/lib
    PERL5OPT = 
    PERL5_CPANPLUS_IS_RUNNING = 11313
    PERL5_CPAN_IS_RUNNING = 11313
    PERL5_CPAN_IS_RUNNING_IN_RECURSION = 31072,11313
    PERLDOC = -MPod::Perldoc::ToTextOverstrike
    PERL_BATCH = yes
    PERL_CANARY_STABILITY_NOPROMPT = 1
    PERL_CPAN_REPORTER_CONFIG = /var/tmp/cpansmoker-1023/2025033113/cpanreporter_000_config.ini
    PERL_EXTUTILS_AUTOINSTALL = --defaultdeps
    PERL_USE_UNSAFE_INC = 1
    SHELL = /bin/zsh
    TERM = screen
    TMPDIR = /var/tmp/cpansmoker-1023/2025033113

Perl special variables (and OS-specific diagnostics, for MSWin32):

    $^X = /opt/perl-5.22.2/bin/perl
    $UID/$EUID = 1023 / 1023
    $GID = 1023 1023
    $EGID = 1023 1023

Perl module toolchain versions installed:

    Module              Have    
    ------------------- --------
    CPAN                2.16    
    CPAN::Meta          2.150010
    Cwd                 3.62    
    ExtUtils::CBuilder  0.280221
    ExtUtils::Command   7.24    
    ExtUtils::Install   2.04    
    ExtUtils::MakeMaker 7.24    
    ExtUtils::Manifest  1.70    
    ExtUtils::ParseXS   3.51    
    File::Spec          3.62    
    JSON                2.90    
    JSON::PP            2.27300 
    Module::Build       0.4220  
    Module::Signature   0.81    
    Parse::CPAN::Meta   2.150010
    Test::Harness       3.35    
    Test::More          1.302209
    YAML                1.17    
    YAML::Syck          1.29    
    version             0.9917  


--

Summary of my perl5 (revision 5 version 22 subversion 2) configuration:
   
  Platform:
    osname=linux, osvers=3.2.0-4-amd64, archname=x86_64-linux
    uname='linux cvrsnica-wheezy 3.2.0-4-amd64 #1 smp debian 3.2.54-2 x86_64 gnulinux '
    config_args='-ds -e -Dprefix=/opt/perl-5.22.2 -Dcf_email=srezic@cpan.org'
    hint=recommended, useposix=true, d_sigaction=define
    useithreads=undef, usemultiplicity=undef
    use64bitint=define, use64bitall=define, uselongdouble=undef
    usemymalloc=n, bincompat5005=undef
  Compiler:
    cc='cc', ccflags ='-fwrapv -fno-strict-aliasing -pipe -fstack-protector -I/usr/local/include -D_LARGEFILE_SOURCE -D_FILE_OFFSET_BITS=64 -D_FORTIFY_SOURCE=2',
    optimize='-O2',
    cppflags='-fwrapv -fno-strict-aliasing -pipe -fstack-protector -I/usr/local/include'
    ccversion='', gccversion='4.7.2', gccosandvers=''
    intsize=4, longsize=8, ptrsize=8, doublesize=8, byteorder=12345678, doublekind=3
    d_longlong=define, longlongsize=8, d_longdbl=define, longdblsize=16, longdblkind=3
    ivtype='long', ivsize=8, nvtype='double', nvsize=8, Off_t='off_t', lseeksize=8
    alignbytes=8, prototype=define
  Linker and Libraries:
    ld='cc', ldflags =' -fstack-protector -L/usr/local/lib'
    libpth=/usr/local/lib /usr/lib/gcc/x86_64-linux-gnu/4.7/include-fixed /usr/include/x86_64-linux-gnu /usr/lib /lib/x86_64-linux-gnu /lib/../lib /usr/lib/x86_64-linux-gnu /usr/lib/../lib /lib
    libs=-lpthread -lnsl -ldb -ldl -lm -lcrypt -lutil -lc
    perllibs=-lpthread -lnsl -ldl -lm -lcrypt -lutil -lc
    libc=libc-2.13.so, so=so, useshrplib=false, libperl=libperl.a
    gnulibc_version='2.13'
  Dynamic Linking:
    dlsrc=dl_dlopen.xs, dlext=so, d_dlsymun=undef, ccdlflags='-Wl,-E'
    cccdlflags='-fPIC', lddlflags='-shared -O2 -L/usr/local/lib -fstack-protector'


Characteristics of this binary (from libperl): 
  Compile-time options: HAS_TIMES PERLIO_LAYERS PERL_DONT_CREATE_GVSV
                        PERL_HASH_FUNC_ONE_AT_A_TIME_HARD PERL_MALLOC_WRAP
                        PERL_NEW_COPY_ON_WRITE PERL_PRESERVE_IVUV
                        USE_64_BIT_ALL USE_64_BIT_INT USE_LARGE_FILES
                        USE_LOCALE USE_LOCALE_COLLATE USE_LOCALE_CTYPE
                        USE_LOCALE_NUMERIC USE_LOCALE_TIME USE_PERLIO
                        USE_PERL_ATOF
  Built under linux
  Compiled at May 29 2016 23:41:57
  %ENV:
    PERL5LIB="/home/cpansand/.cpan/build/2025033113/Type-Tiny-2.006000-4/blib/arch:/home/cpansand/.cpan/build/2025033113/Type-Tiny-2.006000-4/blib/lib:/home/cpansand/.cpan/build/2025033113/Exporter-Tiny-1.006002-4/blib/arch:/home/cpansand/.cpan/build/2025033113/Exporter-Tiny-1.006002-4/blib/lib:/home/cpansand/.cpan/build/2025033113/Role-Hooks-0.008-4/blib/arch:/home/cpansand/.cpan/build/2025033113/Role-Hooks-0.008-4/blib/lib:/home/cpansand/.cpan/build/2025033113/Scalar-List-Utils-1.68-4/blib/arch:/home/cpansand/.cpan/build/2025033113/Scalar-List-Utils-1.68-4/blib/lib"
    PERL5OPT=""
    PERL5_CPANPLUS_IS_RUNNING="11313"
    PERL5_CPAN_IS_RUNNING="11313"
    PERL5_CPAN_IS_RUNNING_IN_RECURSION="31072,11313"
    PERLDOC="-MPod::Perldoc::ToTextOverstrike"
    PERL_BATCH="yes"
    PERL_CANARY_STABILITY_NOPROMPT="1"
    PERL_CPAN_REPORTER_CONFIG="/var/tmp/cpansmoker-1023/2025033113/cpanreporter_000_config.ini"
    PERL_EXTUTILS_AUTOINSTALL="--defaultdeps"
    PERL_USE_UNSAFE_INC="1"
  @INC:
    /home/cpansand/.cpan/build/2025033113/Type-Tiny-2.006000-4/blib/arch
    /home/cpansand/.cpan/build/2025033113/Type-Tiny-2.006000-4/blib/lib
    /home/cpansand/.cpan/build/2025033113/Exporter-Tiny-1.006002-4/blib/arch
    /home/cpansand/.cpan/build/2025033113/Exporter-Tiny-1.006002-4/blib/lib
    /home/cpansand/.cpan/build/2025033113/Role-Hooks-0.008-4/blib/arch
    /home/cpansand/.cpan/build/2025033113/Role-Hooks-0.008-4/blib/lib
    /home/cpansand/.cpan/build/2025033113/Scalar-List-Utils-1.68-4/blib/arch
    /home/cpansand/.cpan/build/2025033113/Scalar-List-Utils-1.68-4/blib/lib
    /opt/perl-5.22.2/lib/site_perl/5.22.2/x86_64-linux
    /opt/perl-5.22.2/lib/site_perl/5.22.2
    /opt/perl-5.22.2/lib/5.22.2/x86_64-linux
    /opt/perl-5.22.2/lib/5.22.2
    .