Module-Pluggable v6.3 Perl 5 v5.33.4 MSWin32-x86-multi-thread-64int
- Status
- Pass
- From
- twata
- Dist
-
Module-Pluggable v6.3
- Platform
- Perl 5 v5.33.4 MSWin32-x86-multi-thread-64int
- Date
- 2025-06-28 09:11:27
- ID
- 13b0dba5-70d9-1014-8029-2dc007c19ce6
This distribution has been tested as part of the CPAN Testers
project, supporting the Perl programming language. See
http://wiki.cpantesters.org/ for more information or email
questions to cpan-testers-discuss@perl.org
--
Dear Simon Wistow,
This is a computer-generated report for Module-Pluggable-6.3
on perl 5.33.4, created by CPAN-Reporter-1.2019.
Thank you for uploading your work to CPAN. Congratulations!
All tests were successful.
Sections of this report:
* Tester comments
* Program output
* Prerequisites
* Environment and other context
------------------------------
TESTER COMMENTS
------------------------------
Additional comments from tester:
none provided
------------------------------
PROGRAM OUTPUT
------------------------------
Output from '"C:\Program Files\Microsoft Visual Studio 12.0\VC\BIN\nmake.EXE" test':
Microsoft (R) Program Maintenance Utility Version 12.00.21005.1
Copyright (C) Microsoft Corporation. All rights reserved.
"C:\vsperl32\5.33.4\bin\perl.exe" "-MExtUtils::Command::MM" "-MTest::Harness" "-e" "undef *Test::Harness::Switches; test_harness(0, 'blib\lib', 'blib\arch')" t\*.t
t\01use.t .................... ok
t\02alsoworks.t .............. ok
t\02works.t .................. ok
t\02works_taint.t ............ ok
t\03diffname.t ............... ok
t\04acmedir.t ................ ok
t\04acmedir_single.t ......... ok
t\04acmepath.t ............... ok
t\04acmepath_single.t ........ ok
t\05postpath.t ............... ok
t\06multipath.t .............. ok
t\07instantiate.t ............ ok
t\08nothing.t ................ ok
t\09require.t ................ ok
t\10innerpack.t .............. ok
t\10innerpack_inner.t ........ ok
t\10innerpack_noinner.t ...... ok
t\10innerpack_onefile.t ...... ok
t\10innerpack_override.t ..... ok
t\10innerpack_super.t ........ ok
t\11usetwice.t ............... ok
t\12only.t ................... ok
t\12onlyarray.t .............. ok
t\12onlyregex.t .............. ok
t\12onlyrequire.t ............ ok
t\13except.t ................. ok
t\13exceptarray.t ............ ok
t\13exceptregex.t ............ ok
t\14package.t ................ ok
t\15topicsafe.t .............. ok
t\16different_extension.t .... ok
t\17devel_inner_package.t .... ok
t\18skipped_package.t ........ ok
t\19can_ok_clobber.t ......... ok
t\20dodgy_files.t ............ ok
t\21editor_junk.t ............ ok
t\22trigger.t ................ ok
t\23depth.t .................. ok
t\24local_inc_object.t ....... ok
t\24local_inc_package.t ...... ok
t\25single_letter_package.t .. ok
t\26inc_hook.t ............... ok
t\27app_fatpacker.t .......... skipped: App::FatPacker >= 0.10.0 not available
t\28appledouble.t ............ ok
t\29unreadable.t ............. skipped: Running as root
All tests successful.
Files=45, Tests=186, 18 wallclock secs ( 0.45 usr + 0.13 sys = 0.58 CPU)
Result: PASS
------------------------------
PREREQUISITES
------------------------------
Prerequisite modules loaded:
requires:
Module Need Have
--------------------- ----- --------
Exporter 5.57 5.76
File::Basename 0 2.85
File::Find 0 1.37
File::Spec 3.00 3.79
File::Spec::Functions 0 3.79
if 0 0.0609
perl 5.006 5.033004
Scalar::Util 0 1.55
strict 0 1.12
build_requires:
Module Need Have
--------------------- ----- --------
base 0 2.27
Cwd 0 3.79
Data::Dumper 0 2.176
ExtUtils::MakeMaker 0 7.56
File::Copy 0 2.34
File::Find 0 1.37
File::Path 0 2.18
File::Spec::Functions 0 3.79
File::Temp 0 0.2311
FindBin 0 1.52
strict 0 1.12
Test::More 0 1.302183
warnings 0 1.48
configure_requires:
Module Need Have
--------------------- ----- --------
ExtUtils::MakeMaker 0 7.56
opt_requires:
Module Need Have
--------------------- ----- --------
Module::Runtime 0.012 0.018
------------------------------
ENVIRONMENT AND OTHER CONTEXT
------------------------------
Environment variables:
COMSPEC = C:\windows\system32\cmd.exe
INCLUDE = C:\Program Files\Microsoft Visual Studio 12.0\VC\INCLUDE;C:\Program Files\Microsoft Visual Studio 12.0\VC\ATLMFC\INCLUDE;C:\Program Files\Windows Kits\8.1\include\shared;C:\Program Files\Windows Kits\8.1\include\um;C:\Program Files\Windows Kits\8.1\include\winrt;;C:\ext\lib\zlib-1.3.1\include;C:\perl32\local\include
LC_ALL = C
LIB = C:\Program Files\Microsoft Visual Studio 12.0\VC\LIB;C:\Program Files\Microsoft Visual Studio 12.0\VC\ATLMFC\LIB;C:\Program Files\Windows Kits\8.1\lib\winv6.3\um\x86;;C:\ext\lib\zlib-1.3.1\lib
NONINTERACTIVE_TESTING = 1
NUMBER_OF_PROCESSORS = 4
PATH = C:\home\mars5334\perl5\bin;C:\vsperl32\5.33.4\bin;C:\build-openssl\bin;C:\ext\lib\zlib-1.3.1\bin;C:\Program Files\Microsoft Visual Studio 12.0\Common7\IDE\CommonExtensions\Microsoft\TestWindow;C:\Program Files\Microsoft SDKs\F#\3.1\Framework\v4.0\;C:\Program Files\MSBuild\12.0\bin;C:\Program Files\Microsoft Visual Studio 12.0\Common7\IDE\;C:\Program Files\Microsoft Visual Studio 12.0\VC\BIN;C:\Program Files\Microsoft Visual Studio 12.0\Common7\Tools;C:\windows\Microsoft.NET\Framework\v4.0.30319;C:\Program Files\Microsoft Visual Studio 12.0\VC\VCPackages;C:\Program Files\HTML Help Workshop;C:\Program Files\Microsoft Visual Studio 12.0\Team Tools\Performance Tools;C:\Program Files\Windows Kits\8.1\bin\x86;C:\Program Files\Microsoft SDKs\Windows\v8.1A\bin\NETFX 4.5.1 Tools\;C:\Windows\System32;C:\Windows;C:\Windows\System32\Wbem;C:\windows\System32\WindowsPowerShell\v1.0\
PERL5LIB = C:\home\mars5334\perl5\lib\perl5
PERL5OPT =
PERL5_CPANPLUS_IS_RUNNING = 6868
PERL5_CPAN_IS_RUNNING = 6868
PERL_LOCAL_LIB_ROOT = C:\home\mars5334\perl5
PERL_MB_OPT = --install_base "C:\\home\\mars5334\\perl5"
PERL_MM_OPT = INSTALL_BASE=C:\\home\\mars5334\\perl5
PERL_MM_USE_DEFAULT = 1
PERL_USE_UNSAFE_INC = 1
PROCESSOR_IDENTIFIER = x86 Family 6 Model 37 Stepping 5, GenuineIntel
TEMP = C:\Users\user\AppData\Local\Temp
TERM = dumb
Perl special variables (and OS-specific diagnostics, for MSWin32):
$^X = C:\vsperl32\5.33.4\bin\perl.exe
$UID/$EUID = 0 / 0
$GID = 0
$EGID = 0
Win32::GetOSName = Win7
Win32::GetOSVersion = Service Pack 1, 6, 1, 7601, 2, 1, 0, 256, 1
Win32::FsType = NTFS
Win32::IsAdminUser = 0
Perl module toolchain versions installed:
Module Have
------------------- --------
CPAN 2.28
CPAN::Meta 2.150010
Cwd 3.79
ExtUtils::CBuilder 0.280235
ExtUtils::Command 7.56
ExtUtils::Install 2.18
ExtUtils::MakeMaker 7.56
ExtUtils::Manifest 1.72
ExtUtils::ParseXS 3.41
File::Spec 3.79
JSON 4.10
JSON::PP 4.05
Module::Build 0.4234
Module::Signature n/a
Parse::CPAN::Meta 2.150010
Test2 1.302183
Test::Harness 3.42
Test::More 1.302183
YAML n/a
YAML::Syck n/a
version 0.9928
--
Summary of my perl5 (revision 5 version 33 subversion 4) configuration:
Platform:
osname=MSWin32
osvers=6.1.7601
archname=MSWin32-x86-multi-thread-64int
uname=''
config_args='undef'
hint=recommended
useposix=true
d_sigaction=undef
useithreads=define
usemultiplicity=define
use64bitint=define
use64bitall=undef
uselongdouble=undef
usemymalloc=n
default_inc_excludes_dot=define
Compiler:
cc='cl'
ccflags ='-nologo -GF -W3 -MD -DWIN32 -D_CONSOLE -DNO_STRICT -D_CRT_SECURE_NO_DEPRECATE -D_CRT_NONSTDC_NO_DEPRECATE -DPERL_TEXTMODE_SCRIPTS -DPERL_IMPLICIT_CONTEXT -DPERL_IMPLICIT_SYS'
optimize='-O1 -Zi -GL'
cppflags='-DWIN32'
ccversion='18.00.40629'
gccversion=''
gccosandvers=''
intsize=4
longsize=4
ptrsize=4
doublesize=8
byteorder=12345678
doublekind=3
d_longlong=undef
longlongsize=8
d_longdbl=define
longdblsize=8
longdblkind=0
ivtype='__int64'
ivsize=8
nvtype='double'
nvsize=8
Off_t='__int64'
lseeksize=8
alignbytes=8
prototype=define
Linker and Libraries:
ld='link'
ldflags ='-nologo -nodefaultlib -debug -opt:ref,icf -ltcg -libpath:"c:\vsperl32\5.33.4\lib\CORE" -machine:x86 -subsystem:console,"5.01"'
libpth="C:\Program Files\Microsoft Visual Studio 12.0\VC\\lib"
libs=oldnames.lib kernel32.lib user32.lib gdi32.lib winspool.lib comdlg32.lib advapi32.lib shell32.lib ole32.lib oleaut32.lib netapi32.lib uuid.lib ws2_32.lib mpr.lib winmm.lib version.lib odbc32.lib odbccp32.lib comctl32.lib msvcrt.lib
perllibs=oldnames.lib kernel32.lib user32.lib gdi32.lib winspool.lib comdlg32.lib advapi32.lib shell32.lib ole32.lib oleaut32.lib netapi32.lib uuid.lib ws2_32.lib mpr.lib winmm.lib version.lib odbc32.lib odbccp32.lib comctl32.lib msvcrt.lib
libc=msvcrt.lib
so=dll
useshrplib=true
libperl=perl533.lib
gnulibc_version=''
Dynamic Linking:
dlsrc=dl_win32.xs
dlext=dll
d_dlsymun=undef
ccdlflags=' '
cccdlflags=' '
lddlflags='-dll -nologo -nodefaultlib -debug -opt:ref,icf -ltcg -libpath:"c:\vsperl32\5.33.4\lib\CORE" -machine:x86 -subsystem:console,"5.01"'
Characteristics of this binary (from libperl):
Compile-time options:
HAS_TIMES
HAVE_INTERP_INTERN
MULTIPLICITY
PERLIO_LAYERS
PERL_COPY_ON_WRITE
PERL_DONT_CREATE_GVSV
PERL_IMPLICIT_CONTEXT
PERL_IMPLICIT_SYS
PERL_MALLOC_WRAP
PERL_OP_PARENT
PERL_PRESERVE_IVUV
USE_64_BIT_INT
USE_ITHREADS
USE_LARGE_FILES
USE_LOCALE
USE_LOCALE_COLLATE
USE_LOCALE_CTYPE
USE_LOCALE_NUMERIC
USE_LOCALE_TIME
USE_PERLIO
USE_PERL_ATOF
USE_THREAD_SAFE_LOCALE
Locally applied patches:
VS2013: [backport] [GH #19138] Fix 5.34 test failures with Inf NaN numbers on Windows
Built under MSWin32
Compiled at Feb 3 2024 09:56:27
%ENV:
PERL5LIB="C:\home\mars5334\perl5\lib\perl5"
PERL5_CPANPLUS_IS_RUNNING="6868"
PERL5_CPAN_IS_RUNNING="6868"
PERL_LOCAL_LIB_ROOT="C:\home\mars5334\perl5"
PERL_MB_OPT="--install_base "C:\\home\\mars5334\\perl5""
PERL_MM_OPT="INSTALL_BASE=C:\\home\\mars5334\\perl5"
PERL_MM_USE_DEFAULT="1"
PERL_USE_UNSAFE_INC="1"
@INC:
C:\home\mars5334\perl5\lib\perl5/MSWin32-x86-multi-thread-64int
C:\home\mars5334\perl5\lib\perl5
C:/vsperl32/site/5.33.4/lib
C:/vsperl32/5.33.4/lib
.