Git-DescribeVersion v1.015 Perl 5 v5.36.0 x86_64-linux
- Status
- Pass
- From
- Andreas J. König (ANDK)
- Dist
-
Git-DescribeVersion v1.015
- Platform
- Perl 5 v5.36.0 x86_64-linux
- Date
- 2022-06-05 05:33:49
- ID
- 13bee84a-e491-11ec-945b-8ea8a510361c
This distribution has been tested as part of the CPAN Testers
project, supporting the Perl programming language. See
http://wiki.cpantesters.org/ for more information or email
questions to cpan-testers-discuss@perl.org
--
Dear Randy Stauner,
This is a computer-generated report for Git-DescribeVersion-1.015
on perl 5.36.0, created by CPAN-Reporter-1.2018.
Thank you for uploading your work to CPAN. Congratulations!
All tests were successful.
Sections of this report:
* Tester comments
* Program output
* Prerequisites
* Environment and other context
------------------------------
TESTER COMMENTS
------------------------------
Additional comments from tester:
this report is from an automated smoke testing program
and was not reviewed by a human for accuracy
------------------------------
PROGRAM OUTPUT
------------------------------
Output from '/usr/bin/make test':
PERL_DL_NONLAZY=1 "/tmp/basesmoker-reloperl-F9fJ/bin/perl" "-MExtUtils::Command::MM" "-MTest::Harness" "-e" "undef *Test::Harness::Switches; test_harness(0, 'blib/lib', 'blib/arch')" t/*.t
t/00-compile.t ......... ok
# git version 2.36.1
t/00-git-version.t ..... ok
# Prerequisite Report:
# Version Module
# ---------- -------------------------
# 1.52 Carp
# 3.84 Cwd
# 5.77 Exporter
# 7.64 ExtUtils::MakeMaker
# 1.40 File::Find
# 3.84 File::Spec::Functions
# 0.2311 File::Temp
# 2.52 Getopt::Long
# 1.325 Git::Repository
# 1.62 List::Util
# 1.20200122 Test::MockObject
# 1.20200122 Test::MockObject::Extends
# 1.302190 Test::More
# 1.033 Test::Output
# 1.12 strict
# 0.9929 version
# 1.58 warnings
t/00-report-prereqs.t .. ok
t/app-args.t ........... ok
t/app.t ................ ok
t/count-objects.t ...... ok
t/describe.t ........... ok
t/format_version.t ..... ok
hint: Using 'master' as the name for the initial branch. This default branch name
hint: is subject to change. To configure the initial branch name to use in all
hint: of your new repositories, which will suppress this warning, call:
hint:
hint: git config --global init.defaultBranch <name>
hint:
hint: Names commonly chosen instead of 'master' are 'main', 'trunk' and
hint: 'development'. The just-created branch can be renamed via this command:
hint:
hint: git branch -m <name>
t/git-repo.t ........... ok
t/parse_version.t ...... ok
t/wrappers.t ........... ok
All tests successful.
Files=11, Tests=2423, 3 wallclock secs ( 0.29 usr 0.03 sys + 2.09 cusr 0.54 csys = 2.95 CPU)
Result: PASS
------------------------------
PREREQUISITES
------------------------------
Prerequisite modules loaded:
requires:
Module Need Have
------------------------- ---- ----------
Carp 0 1.52
Getopt::Long 0 2.52
strict 0 1.12
version 0.82 0.9929
warnings 0 1.58
build_requires:
Module Need Have
------------------------- ---- ----------
Cwd 0 3.84
Exporter 0 5.77
ExtUtils::MakeMaker 0 7.64
File::Find 0 1.40
File::Spec::Functions 0 3.84
File::Temp 0 0.2311
List::Util 0 1.62
Test::MockObject 1.09 1.20200122
Test::MockObject::Extends 1.09 1.20200122
Test::More 0.96 1.302190
configure_requires:
Module Need Have
------------------------- ---- ----------
ExtUtils::MakeMaker 6.30 7.64
------------------------------
ENVIRONMENT AND OTHER CONTEXT
------------------------------
Environment variables:
AUTOMATED_TESTING = 1
LANG = en_US.UTF-8
LANGUAGE = en_US:en
PATH = /home/sand/bin:/usr/local/bin:/usr/bin:/bin:/usr/games:/usr/local/perl/bin:/usr/X11/bin:/sbin:/usr/sbin
PERL5LIB = /home/sand/.cpan/privbuild/k93msid/Devel-Required-0.16-4/blib/arch:/home/sand/.cpan/privbuild/k93msid/Devel-Required-0.16-4/blib/lib:/home/sand/.cpan/privbuild/k93msid/ProjectBuilder-0.14.1-4/blib/arch:/home/sand/.cpan/privbuild/k93msid/ProjectBuilder-0.14.1-4/blib/lib
PERL5OPT =
PERL5_CPANPLUS_IS_RUNNING = 571138
PERL5_CPAN_IS_RUNNING = 571138
PERL_CANARY_STABILITY_NOPROMPT = 1
PERL_MM_USE_DEFAULT = 1
PERL_USE_UNSAFE_INC = 1
SHELL = /usr/bin/zsh
TERM = screen
Perl special variables (and OS-specific diagnostics, for MSWin32):
$^X = /tmp/basesmoker-reloperl-F9fJ/bin/perl
$UID/$EUID = 1005 / 1005
$GID = 1005 1005
$EGID = 1005 1005
Perl module toolchain versions installed:
Module Have
------------------- --------
CPAN 2.34
CPAN::Meta 2.150010
Cwd 3.84
ExtUtils::CBuilder 0.280236
ExtUtils::Command 7.64
ExtUtils::Install 2.20
ExtUtils::MakeMaker 7.64
ExtUtils::Manifest 1.73
ExtUtils::ParseXS 3.45
File::Spec 3.84
JSON 4.06
JSON::PP 4.09
Module::Build 0.4231
Module::Signature 0.88
Parse::CPAN::Meta 2.150010
Test::Harness 3.44
Test::More 1.302190
YAML 1.30
YAML::Syck 1.34
version 0.9929
--
Summary of my perl5 (revision 5 version 36 subversion 0) configuration:
Commit id: b3c502b607191da0e743a4fa34501a05442305b3
Platform:
osname=linux
osvers=5.10.0-14-amd64
archname=x86_64-linux
uname='linux k93msid 5.10.0-14-amd64 #1 smp debian 5.10.113-1 (2022-04-29) x86_64 gnulinux '
config_args='-Dprefix=/home/sand/src/perl/repoperls/installed-perls/host/k93msid/v5.36.0/bb7f -Dmyhostname=k93msid -Dinstallusrbinperl=n -Uversiononly -Dusedevel -des -Ui_db -Dlibswanted=cl pthread socket inet nsl gdbm dbm malloc dl ld sun m crypt sec util c cposix posix ucb BSD gdbm_compat -Uuseithreads -Uuselongdouble -DEBUGGING=both'
hint=recommended
useposix=true
d_sigaction=define
useithreads=undef
usemultiplicity=undef
use64bitint=define
use64bitall=define
uselongdouble=undef
usemymalloc=n
default_inc_excludes_dot=define
Compiler:
cc='cc'
ccflags ='-fwrapv -DDEBUGGING -fno-strict-aliasing -pipe -fstack-protector-strong -I/usr/local/include -D_LARGEFILE_SOURCE -D_FILE_OFFSET_BITS=64 -D_FORTIFY_SOURCE=2'
optimize='-O2 -g'
cppflags='-fwrapv -DDEBUGGING -fno-strict-aliasing -pipe -fstack-protector-strong -I/usr/local/include'
ccversion=''
gccversion='11.3.0'
gccosandvers=''
intsize=4
longsize=8
ptrsize=8
doublesize=8
byteorder=12345678
doublekind=3
d_longlong=define
longlongsize=8
d_longdbl=define
longdblsize=16
longdblkind=3
ivtype='long'
ivsize=8
nvtype='double'
nvsize=8
Off_t='off_t'
lseeksize=8
alignbytes=8
prototype=define
Linker and Libraries:
ld='cc'
ldflags =' -fstack-protector-strong -L/usr/local/lib'
libpth=/usr/local/lib /usr/lib/x86_64-linux-gnu /usr/lib /usr/lib64
libs=-lpthread -lnsl -ldl -lm -lcrypt -lutil -lc
perllibs=-lpthread -lnsl -ldl -lm -lcrypt -lutil -lc
libc=libc-2.33.so
so=so
useshrplib=false
libperl=libperl.a
gnulibc_version='2.33'
Dynamic Linking:
dlsrc=dl_dlopen.xs
dlext=so
d_dlsymun=undef
ccdlflags='-Wl,-E'
cccdlflags='-fPIC'
lddlflags='-shared -O2 -g -L/usr/local/lib -fstack-protector-strong'
Characteristics of this binary (from libperl):
Compile-time options:
DEBUGGING
HAS_TIMES
PERLIO_LAYERS
PERL_COPY_ON_WRITE
PERL_DONT_CREATE_GVSV
PERL_MALLOC_WRAP
PERL_OP_PARENT
PERL_PRESERVE_IVUV
PERL_USE_DEVEL
USE_64_BIT_ALL
USE_64_BIT_INT
USE_LARGE_FILES
USE_LOCALE
USE_LOCALE_COLLATE
USE_LOCALE_CTYPE
USE_LOCALE_NUMERIC
USE_LOCALE_TIME
USE_PERLIO
USE_PERL_ATOF
Built under linux
Compiled at May 30 2022 02:33:18
%ENV:
PERL5LIB="/home/sand/.cpan/privbuild/k93msid/Devel-Required-0.16-4/blib/arch:/home/sand/.cpan/privbuild/k93msid/Devel-Required-0.16-4/blib/lib:/home/sand/.cpan/privbuild/k93msid/ProjectBuilder-0.14.1-4/blib/arch:/home/sand/.cpan/privbuild/k93msid/ProjectBuilder-0.14.1-4/blib/lib"
PERL5OPT=""
PERL5_CPANPLUS_IS_RUNNING="571138"
PERL5_CPAN_IS_RUNNING="571138"
PERL_CANARY_STABILITY_NOPROMPT="1"
PERL_MM_USE_DEFAULT="1"
PERL_USE_UNSAFE_INC="1"
@INC:
/home/sand/.cpan/privbuild/k93msid/Devel-Required-0.16-4/blib/arch
/home/sand/.cpan/privbuild/k93msid/Devel-Required-0.16-4/blib/lib
/home/sand/.cpan/privbuild/k93msid/ProjectBuilder-0.14.1-4/blib/arch
/home/sand/.cpan/privbuild/k93msid/ProjectBuilder-0.14.1-4/blib/lib
/home/sand/src/perl/repoperls/installed-perls/host/k93msid/v5.36.0/bb7f/lib/site_perl/5.36.0/x86_64-linux
/home/sand/src/perl/repoperls/installed-perls/host/k93msid/v5.36.0/bb7f/lib/site_perl/5.36.0
/home/sand/src/perl/repoperls/installed-perls/host/k93msid/v5.36.0/bb7f/lib/5.36.0/x86_64-linux
/home/sand/src/perl/repoperls/installed-perls/host/k93msid/v5.36.0/bb7f/lib/5.36.0
.