Report for CGI-Session-4.43

Back
From: metabase:user:322078bc-2aae-11df-837a-5e0a49663a4f
Subject: PASS CGI-Session-4.43 v5.10.1 SunOS/Solaris
Date: 2010-12-19T16:21:47Z

This distribution has been tested as part of the CPAN Testers
project, supporting the Perl programming language.  See
http://wiki.cpantesters.org/ for more information or email
questions to cpan-testers-discuss@perl.org


--

Dear MARKSTOS,
    
This is a computer-generated error report created automatically by
CPANPLUS, version 0.9010. Testers personal comments may appear 
at the end of this report.

MAKE TEST passed:
t/api3_db_file.t ................ skipped: DB_File not available
t/api3_db_file_freezethaw.t ..... skipped: DB_File not available
t/api3_db_file_storable.t ....... skipped: DB_File not available
t/api3_db_file_storable_incr.t .. skipped: DB_File not available
t/api3_file.t ................... ok
t/api3_file_freezethaw.t ........ skipped: FreezeThaw not available
t/api3_file_freezethaw_incr.t ... skipped: FreezeThaw not available
t/api3_file_storable.t .......... ok
t/api3_file_storable_incr.t ..... ok
t/api3_incr.t ................... ok
#Using Storable as object serializer
t/api3_obj_store.t .............. ok
t/api3_obj_store_db_file.t ...... skipped: DB_File is not available
t/bug21952.t .................... ok
t/bug24285.t .................... ok
t/cgi_simple.t .................. skipped: CGI::Simple not installed, so skipping related tests.
t/complex_ds.t .................. ok
t/driver_dbi.t .................. skipped: DBI module not found
t/expire.t ...................... ok
# The found session has been deleted and flushed
t/find.t ........................ ok
t/flush.t ....................... ok
t/g4.t .......................... ok
t/g4_dbfile.t ................... skipped: DB_File is NOT available
t/g4_dbfile_freezethaw.t ........ skipped: DB_File is NOT available
t/g4_dbfile_storable.t .......... skipped: DB_File is NOT available
t/g4_freezethaw.t ............... skipped: FreezeThaw is NOT available
t/g4_mysql.t .................... skipped: DBI is NOT available
t/g4_mysql_freezethaw.t ......... skipped: DBI is NOT available
t/g4_mysql_storable.t ........... skipped: DBI is NOT available
t/g4_postgresql.t ............... skipped: DataSource is not known
t/g4_postgresql_freezethaw.t .... skipped: DataSource is not known
t/g4_postgresql_storable.t ...... skipped: DataSource is not known
t/g4_sqlite.t ................... skipped: DBI is NOT available
t/g4_sqlite_freezethaw.t ........ skipped: DBI is NOT available
t/g4_sqlite_storable.t .......... skipped: DBI is NOT available
t/g4_storable.t ................. ok
t/header.t ...................... ok
t/ip_matches.t .................. ok
t/is_new.t ...................... ok
Argument "wrong" isn't numeric in numeric ne (!=) at
	/export/home/cpan/pit/bare/conf/perl-5.10.1/.cpanplus/5.10.1/build/CGI-Session-4.43/blib/lib/CGI/Session.pm line 684 (#1)
    (W numeric) The indicated string was fed as an argument to an operator
    that expected a numeric value instead.  If you're fortunate the message
    will identify which operator was so unfortunate.
    
t/load.t ........................ ok
t/load_with_undef.t ............. ok
t/name.t ........................ ok
t/new_with_undef.t .............. ok
t/parse_dsn.t ................... ok
t/remote_addr.t ................. ok
# Check in STORE of original item
# Check in STORE of stored/retrieved item
# Check in LOAD after loading from session
t/session_param_undef.t ......... ok
t/str2seconds.t ................. ok
t/symlink_db_file.t ............. skipped: DB_File not available
t/symlink_file.t ................ ok
All tests successful.
Files=48, Tests=410, 34 wallclock secs ( 1.04 usr  0.68 sys + 21.34 cusr  3.05 csys = 26.11 CPU)
Result: PASS

[MSG] [Sun Dec 19 15:21:53 2010] Sending test report for 'CGI-Session-4.43'

This report was machine-generated by CPANPLUS::Dist::YACSmoke 0.58.
Powered by minismokebox version 0.40

------------------------------
ENVIRONMENT AND OTHER CONTEXT
------------------------------

Environment variables:

    AUTOMATED_TESTING = 1
    LC_COLLATE = en_GB.UTF-8
    LC_CTYPE = en_GB.UTF-8
    LC_MESSAGES = C
    LC_MONETARY = en_GB.UTF-8
    LC_NUMERIC = en_GB.UTF-8
    PATH = /opt/SUNswpro/bin:/usr/ccs/bin:/usr/bin:/usr/sfw/bin
    PERL5LIB = :/export/home/cpan/pit/bare/conf/perl-5.10.1/.cpanplus/5.10.1/build/CGI-Session-4.43/blib/lib:/export/home/cpan/pit/bare/conf/perl-5.10.1/.cpanplus/5.10.1/build/CGI-Session-4.43/blib/arch
    PERL5_CPANPLUS_IS_RUNNING = 10356
    PERL5_CPANPLUS_IS_VERSION = 0.9010
    PERL5_MINISMOKEBOX = 0.40
    PERL5_YACSMOKE_BASE = /export/home/cpan/pit/bare/conf/perl-5.10.1
    PERL_EXTUTILS_AUTOINSTALL = --defaultdeps
    PERL_MM_USE_DEFAULT = 1
    SHELL = /usr/bin/bash
    TERM = vt100

Perl special variables (and OS-specific diagnostics, for MSWin32):

    Perl: $^X = /export/home/cpan/pit/bare/perl-5.10.1/bin/perl
    UID:  $<  = 100
    EUID: $>  = 100
    GID:  $(  = 100 100
    EGID: $)  = 100 100


-------------------------------


--

Summary of my perl5 (revision 5 version 10 subversion 1) configuration:
   
  Platform:
    osname=solaris, osvers=2.10, archname=i86pc-solaris
    uname='sunos sharpnel 5.10 generic_120012-14 i86pc i386 i86pc '
    config_args='-des -Dprefix=/export/home/cpan/pit/bare/perl-5.10.1'
    hint=recommended, useposix=true, d_sigaction=define
    useithreads=undef, usemultiplicity=undef
    useperlio=define, d_sfio=undef, uselargefiles=define, usesocks=undef
    use64bitint=undef, use64bitall=undef, uselongdouble=undef
    usemymalloc=n, bincompat5005=undef
  Compiler:
    cc='/opt/SUNWspro/bin/cc', ccflags =' -D_LARGEFILE_SOURCE -D_FILE_OFFSET_BITS=64 -DPERL_USE_SAFE_PUTENV',
    optimize='-O',
    cppflags=''
    ccversion='Sun C 5.9 SunOS_i386 2007/05/03', gccversion='', gccosandvers=''
    intsize=4, longsize=4, ptrsize=4, doublesize=8, byteorder=1234
    d_longlong=define, longlongsize=8, d_longdbl=define, longdblsize=12
    ivtype='long', ivsize=4, nvtype='double', nvsize=8, Off_t='off_t', lseeksize=8
    alignbytes=4, prototype=define
  Linker and Libraries:
    ld='/opt/SUNWspro/bin/cc', ldflags =' -L/usr/lib -L/usr/ccs/lib -L/opt/SUNWspro/prod/lib -L/lib '
    libpth=/usr/lib /usr/ccs/lib /opt/SUNWspro/prod/lib /lib
    libs=-lsocket -lnsl -ldl -lm -lc
    perllibs=-lsocket -lnsl -ldl -lm -lc
    libc=/lib/libc.so, so=so, useshrplib=false, libperl=libperl.a
    gnulibc_version=''
  Dynamic Linking:
    dlsrc=dl_dlopen.xs, dlext=so, d_dlsymun=undef, ccdlflags=' '
    cccdlflags='-KPIC', lddlflags='-G -L/usr/lib -L/usr/ccs/lib -L/opt/SUNWspro/prod/lib -L/lib'


Characteristics of this binary (from libperl): 
  Compile-time options: PERL_DONT_CREATE_GVSV PERL_MALLOC_WRAP
                        PERL_USE_SAFE_PUTENV USE_LARGE_FILES USE_PERLIO
  Built under solaris
  Compiled at Sep 27 2010 21:25:21
  %ENV:
    PERL5LIB=":/export/home/cpan/pit/bare/conf/perl-5.10.1/.cpanplus/5.10.1/build/CGI-Session-4.43/blib/lib:/export/home/cpan/pit/bare/conf/perl-5.10.1/.cpanplus/5.10.1/build/CGI-Session-4.43/blib/arch"
    PERL5_CPANPLUS_IS_RUNNING="10356"
    PERL5_CPANPLUS_IS_VERSION="0.9010"
    PERL5_MINISMOKEBOX="0.40"
    PERL5_YACSMOKE_BASE="/export/home/cpan/pit/bare/conf/perl-5.10.1"
    PERL_EXTUTILS_AUTOINSTALL="--defaultdeps"
    PERL_MM_USE_DEFAULT="1"
  @INC:
    /export/home/cpan/pit/bare/conf/perl-5.10.1/.cpanplus/5.10.1/build/CGI-Session-4.43/blib/lib
    /export/home/cpan/pit/bare/conf/perl-5.10.1/.cpanplus/5.10.1/build/CGI-Session-4.43/blib/arch
    /export/home/cpan/pit/bare/perl-5.10.1/lib/5.10.1/i86pc-solaris
    /export/home/cpan/pit/bare/perl-5.10.1/lib/5.10.1
    /export/home/cpan/pit/bare/perl-5.10.1/lib/site_perl/5.10.1/i86pc-solaris
    /export/home/cpan/pit/bare/perl-5.10.1/lib/site_perl/5.10.1
    .