Alien-libuv v1.014 Perl 5 v5.18.4 MSWin32-x86-multi-thread-64int
- Status
- Pass
- From
- NONAME
- Dist
-
Alien-libuv v1.014
- Platform
- Perl 5 v5.18.4 MSWin32-x86-multi-thread-64int
- Date
- 2020-07-18 03:20:30
- ID
- 13f7f4e8-7111-1014-b016-38abd618ba9a
This distribution has been tested as part of the CPAN Testers
project, supporting the Perl programming language. See
http://wiki.cpantesters.org/ for more information or email
questions to cpan-testers-discuss@perl.org
--
Dear Chase Whitener,
This is a computer-generated report for Alien-libuv-1.014
on perl 5.18.4, created by CPAN-Reporter-1.2018.
Thank you for uploading your work to CPAN. Congratulations!
All tests were successful.
Sections of this report:
* Tester comments
* Program output
* Prerequisites
* Environment and other context
------------------------------
TESTER COMMENTS
------------------------------
Additional comments from tester:
none provided
------------------------------
PROGRAM OUTPUT
------------------------------
Output from 'C:\Strawberry\c\bin\dmake.exe test':
"C:\Strawberry\perl\bin\perl.exe" -MAlien::Build::MM=cmd -e test
Alien::Build::Plugin::PkgConfig::Negotiate> Using PkgConfig plugin: PkgConfig::PP
"C:\Strawberry\perl\bin\perl.exe" "-MExtUtils::Command::MM" "-MTest::Harness" "-e" "undef *Test::Harness::Switches; test_harness(0, 'blib\lib', 'blib\arch')" t/*.t
#
# Versions for all modules listed in MYMETA.json (including optional ones):
#
# === Configure Requires ===
#
# Module Want Have
# ---------------------------------- ---- -------
# Alien::Build 2.15 2.25
# Alien::Build::MM 0.32 2.25
# Alien::Build::Plugin::Build::CMake 0.99 2.25
# Alien::Build::Plugin::Build::Make 0.99 2.25
# Alien::Build::Plugin::Probe::Vcpkg 2.15 2.25
# ExtUtils::MakeMaker 6.52 7.35_10
#
# === Build Requires ===
#
# Module Want Have
# -------------------------------------------- ----- --------
# Alien::Build 2.15 2.25
# Alien::Build::MM 0.32 2.25
# Alien::Build::Plugin::Build::Make any 2.25
# Alien::Build::Plugin::Gather::IsolateDynamic 0.48 2.25
# Alien::Build::Plugin::Probe::Vcpkg 2.15 2.25
# Alien::cmake3 0.02 0.05
# Archive::Tar any 2.32
# Config any 5.018004
# ExtUtils::MakeMaker 6.52 7.35_10
# HTTP::Tiny 0.044 0.076
# IO::Socket::SSL 1.56 2.064
# IO::Zlib any 1.10
# IPC::Cmd any 1.02
# Mojo::DOM58 1.00 1.003
# Net::SSLeay 1.49 1.89_01
# Path::Tiny any 0.108
# Sort::Versions any 1.60
# URI any 1.76
# URI::Escape any 3.31
#
# === Test Requires ===
#
# Module Want Have
# ------------------- ---- --------
# ExtUtils::MakeMaker 6.52 7.35_10
# File::Spec any 3.75
# Test2::Suite any 0.000119
# Test2::V0 any 0.000119
# Test::Alien any 2.25
# Test::More 0.88 1.302175
#
# === Test Recommends ===
#
# Module Want Have
# ------------- -------- --------
# CPAN::Meta 2.120900 2.150010
# FFI::Platypus any 1.29
#
# === Runtime Requires ===
#
# Module Want Have
# ---------------------------------- ---- ----
# Alien::Base 2.15 2.25
# Alien::Build 0.25 2.25
# Alien::Build::Plugin::Build::CMake any 2.25
# Alien::cmake3 0.04 0.05
# base any 2.18
# strict any 1.07
# warnings any 1.18
#
t/00-report-prereqs.t .. ok
#
#
#
# HARNESS_ACTIVE=1
# HARNESS_VERSION=3.39
# PERL5LIB=C:\Strawberry\cpan\build\Alien-libuv-1.014-0\blib\lib;C:\Strawberry\cpan\build\Alien-libuv-1.014-0\blib\arch;C:\home\journey\perl5\lib\perl5/MSWin32-x86-multi-thread-64int;C:\home\journey\perl5\lib\perl5;C:\home\journey\perl5\lib\perl5
# PERL5_CPANPLUS_IS_RUNNING=7488
# PERL5_CPAN_IS_RUNNING=7488
# PERL_LOCAL_LIB_ROOT=C:\home\journey\perl5
# PERL_MB_OPT=--install_base "C:\\home\\journey\\perl5"
# PERL_MM_OPT=INSTALL_BASE=C:\\home\\journey\\perl5
# PERL_MM_USE_DEFAULT=1
# PERL_USE_UNSAFE_INC=1
#
#
#
# PERL5LIB path
# C:\Strawberry\cpan\build\Alien-libuv-1.014-0\blib\lib
# C:\Strawberry\cpan\build\Alien-libuv-1.014-0\blib\arch
# C:\home\journey\perl5\lib\perl5/MSWin32-x86-multi-thread-64int
# C:\home\journey\perl5\lib\perl5
# C:\home\journey\perl5\lib\perl5
#
#
#
# perl 5.018004
# Alien::Base 2.25
# Alien::Build 2.25
# Alien::Build::MM 2.25
# Alien::Build::Plugin::Build::Autoconf 2.25
# Config 5.018004
# ExtUtils::MakeMaker 7.3510
# IPC::Cmd 1.02
# Test2::Suite 0.000119
# Test::Alien 2.25
# Test::More 1.302175
#
#
#
# version = 1.38.1
# cflags = -IC:/Strawberry/cpan/build/Alien-libuv-1.014-0/blib/lib/auto/share/dist/Alien-libuv/include -DWIN32 -D_WIN32 -D_WIN32_WINNT=0x0601 -DWINVER=0x0601
# cflags_static = -IC:/Strawberry/cpan/build/Alien-libuv-1.014-0/blib/lib/auto/share/dist/Alien-libuv/include -DWIN32 -D_WIN32 -D_WIN32_WINNT=0x0601 -DWINVER=0x0601
# libs = -LC:/Strawberry/cpan/build/Alien-libuv-1.014-0/blib/lib/auto/share/dist/Alien-libuv/lib -luv -msse2 -ladvapi32 -lIphlpapi -lkernel32 -lpsapi -lshell32 -luser32 -luserenv -lws2_32
# libs_static = -LC:/Strawberry/cpan/build/Alien-libuv-1.014-0/blib/lib/auto/share/dist/Alien-libuv/lib -luv -msse2 -ladvapi32 -lIphlpapi -lkernel32 -lpsapi -lshell32 -luser32 -luserenv -lws2_32
#
#
#
t/00_diag.t ............ ok
# Install type: share
t/01_use.t ............. ok
t/ffi.t ................ ok
t/xs.t ................. ok
All tests successful.
Files=5, Tests=9, 13 wallclock secs ( 0.09 usr + 0.09 sys = 0.19 CPU)
Result: PASS
dmake.exe: makefile: line 789: Warning: -- Empty recipe for special or meta target .NOTPARALLEL
dmake.exe: makefile: line 791: Warning: -- Empty recipe for special or meta target .NO_PARALLEL
------------------------------
PREREQUISITES
------------------------------
Prerequisite modules loaded:
requires:
Module Need Have
-------------------------------------------- ----- --------
Alien::Base 2.15 2.25
Alien::Build 0.25 2.25
Alien::Build::Plugin::Build::CMake 0 2.25
Alien::cmake3 0.04 0.05
base 0 2.18
strict 0 1.07
warnings 0 1.18
build_requires:
Module Need Have
-------------------------------------------- ----- --------
Alien::Build 2.15 2.25
Alien::Build::MM 0.32 2.25
Alien::Build::Plugin::Build::Make 0 2.25
Alien::Build::Plugin::Gather::IsolateDynamic 0.48 2.25
Alien::Build::Plugin::Probe::Vcpkg 2.15 2.25
Alien::cmake3 0.02 0.05
Archive::Tar 0 2.32
Config 0 5.018004
ExtUtils::MakeMaker 6.52 7.35_10
File::Spec 0 3.75
HTTP::Tiny 0.044 0.076
IO::Socket::SSL 1.56 2.064
IO::Zlib 0 1.10
IPC::Cmd 0 1.02
Mojo::DOM58 1.00 1.003
Net::SSLeay 1.49 1.89_01
Path::Tiny 0 0.108
Sort::Versions 0 1.60
Test2::Suite 0 0.000119
Test2::V0 0 0.000119
Test::Alien 0 2.25
Test::More 0.88 1.302175
URI 0 1.76
URI::Escape 0 3.31
configure_requires:
Module Need Have
-------------------------------------------- ----- --------
Alien::Build 2.15 2.25
Alien::Build::MM 0.32 2.25
Alien::Build::Plugin::Build::Make 0.01 2.25
Alien::Build::Plugin::Probe::Vcpkg 2.15 2.25
ExtUtils::MakeMaker 6.52 7.35_10
------------------------------
ENVIRONMENT AND OTHER CONTEXT
------------------------------
Environment variables:
COMSPEC = C:\windows\system32\cmd.exe
NONINTERACTIVE_TESTING = 1
NUMBER_OF_PROCESSORS = 4
PATH = C:\home\journey\perl5\bin;C:\windows\system32;C:\windows;C:\windows\System32\Wbem;C:\windows\System32\WindowsPowerShell\v1.0\;C:\Strawberry\c\bin;C:\Strawberry\perl\site\bin;C:\Strawberry\perl\bin
PERL5LIB = C:\home\journey\perl5\lib\perl5
PERL5OPT =
PERL5_CPANPLUS_IS_RUNNING = 7488
PERL5_CPAN_IS_RUNNING = 7488
PERL_LOCAL_LIB_ROOT = C:\home\journey\perl5
PERL_MB_OPT = --install_base "C:\\home\\journey\\perl5"
PERL_MM_OPT = INSTALL_BASE=C:\\home\\journey\\perl5
PERL_MM_USE_DEFAULT = 1
PERL_USE_UNSAFE_INC = 1
PROCESSOR_IDENTIFIER = x86 Family 6 Model 37 Stepping 5, GenuineIntel
TEMP = C:\Users\user\AppData\Local\Temp
TERM = dumb
Perl special variables (and OS-specific diagnostics, for MSWin32):
$^X = C:\Strawberry\perl\bin\perl.exe
$UID/$EUID = 0 / 0
$GID = 0
$EGID = 0
Win32::GetOSName = Win7
Win32::GetOSVersion = Service Pack 1, 6, 1, 7601, 2, 1, 0, 256, 1
Win32::FsType = NTFS
Win32::IsAdminUser = 0
Perl module toolchain versions installed:
Module Have
------------------- --------
CPAN 2.26
CPAN::Meta 2.150010
Cwd 3.75
ExtUtils::CBuilder 0.280231
ExtUtils::Command 7.35_10
ExtUtils::Install 2.14
ExtUtils::MakeMaker 7.35_10
ExtUtils::Manifest 1.72
ExtUtils::ParseXS 3.35
File::Spec 3.75
JSON 4.02
JSON::PP 4.05
Module::Build 0.42_28
Module::Signature 0.87
Parse::CPAN::Meta 2.150010
Test::Harness 3.39
Test::More 1.302175
YAML 1.27
YAML::Syck 1.31
version 0.9924
--
Summary of my perl5 (revision 5 version 18 subversion 4) configuration:
Platform:
osname=MSWin32, osvers=6.3, archname=MSWin32-x86-multi-thread-64int
uname='Win32 strawberry-perl 5.18.4.1 #1 Thu Oct 2 12:10:29 2014 i386'
config_args='undef'
hint=recommended, useposix=true, d_sigaction=undef
useithreads=define, usemultiplicity=define
useperlio=define, d_sfio=undef, uselargefiles=define, usesocks=undef
use64bitint=define, use64bitall=undef, uselongdouble=undef
usemymalloc=n, bincompat5005=undef
Compiler:
cc='gcc', ccflags =' -s -O2 -DWIN32 -DPERL_TEXTMODE_SCRIPTS -DPERL_IMPLICIT_CONTEXT -DPERL_IMPLICIT_SYS -DUSE_PERLIO -fno-strict-aliasing -mms-bitfields',
optimize='-s -O2',
cppflags='-DWIN32'
ccversion='', gccversion='4.7.3', gccosandvers=''
intsize=4, longsize=4, ptrsize=4, doublesize=8, byteorder=12345678
d_longlong=define, longlongsize=8, d_longdbl=define, longdblsize=12
ivtype='long long', ivsize=8, nvtype='double', nvsize=8, Off_t='long long', lseeksize=8
alignbytes=8, prototype=define
Linker and Libraries:
ld='g++', ldflags ='-s -L"C:\Strawberry\perl\lib\CORE" -L"C:\Strawberry\c\lib"'
libpth=C:\Strawberry\c\lib C:\Strawberry\c\i686-w64-mingw32\lib C:\Strawberry\c\lib\gcc\i686-w64-mingw32\4.7.3
libs=-lmoldname -lkernel32 -luser32 -lgdi32 -lwinspool -lcomdlg32 -ladvapi32 -lshell32 -lole32 -loleaut32 -lnetapi32 -luuid -lws2_32 -lmpr -lwinmm -lversion -lodbc32 -lodbccp32 -lcomctl32
perllibs=-lmoldname -lkernel32 -luser32 -lgdi32 -lwinspool -lcomdlg32 -ladvapi32 -lshell32 -lole32 -loleaut32 -lnetapi32 -luuid -lws2_32 -lmpr -lwinmm -lversion -lodbc32 -lodbccp32 -lcomctl32
libc=, so=dll, useshrplib=true, libperl=libperl518.a
gnulibc_version=''
Dynamic Linking:
dlsrc=dl_win32.xs, dlext=dll, d_dlsymun=undef, ccdlflags=' '
cccdlflags=' ', lddlflags='-mdll -s -L"C:\Strawberry\perl\lib\CORE" -L"C:\Strawberry\c\lib"'
Characteristics of this binary (from libperl):
Compile-time options: HAS_TIMES HAVE_INTERP_INTERN MULTIPLICITY
PERLIO_LAYERS PERL_DONT_CREATE_GVSV
PERL_HASH_FUNC_ONE_AT_A_TIME_HARD
PERL_IMPLICIT_CONTEXT PERL_IMPLICIT_SYS
PERL_MALLOC_WRAP PERL_PRESERVE_IVUV PERL_SAWAMPERSAND
USE_64_BIT_INT USE_ITHREADS USE_LARGE_FILES
USE_LOCALE USE_LOCALE_COLLATE USE_LOCALE_CTYPE
USE_LOCALE_NUMERIC USE_PERLIO USE_PERL_ATOF
Built under MSWin32
Compiled at Oct 2 2014 12:19:54
%ENV:
PERL5LIB="C:\home\journey\perl5\lib\perl5"
PERL5_CPANPLUS_IS_RUNNING="7488"
PERL5_CPAN_IS_RUNNING="7488"
PERL_LOCAL_LIB_ROOT="C:\home\journey\perl5"
PERL_MB_OPT="--install_base "C:\\home\\journey\\perl5""
PERL_MM_OPT="INSTALL_BASE=C:\\home\\journey\\perl5"
PERL_MM_USE_DEFAULT="1"
PERL_USE_UNSAFE_INC="1"
@INC:
C:\home\journey\perl5\lib\perl5/MSWin32-x86-multi-thread-64int
C:\home\journey\perl5\lib\perl5
C:/Strawberry/perl/site/lib
C:/Strawberry/perl/vendor/lib
C:/Strawberry/perl/lib
.