Back
From: metabase:user:320bfe00-2aae-11df-837a-5e0a49663a4f
Subject: PASS Patterns-ChainOfResponsibility-0.02 v5.25.2 GNU/Linux
Date: 2016-05-23T17:45:02Z
This distribution has been tested as part of the CPAN Testers
project, supporting the Perl programming language. See
http://wiki.cpantesters.org/ for more information or email
questions to cpan-testers-discuss@perl.org
--
Dear John Napiorkowski,
This is a computer-generated report for Patterns-ChainOfResponsibility-0.02
on perl 5.25.2, created by CPAN-Reporter-1.2017.
Thank you for uploading your work to CPAN. Congratulations!
All tests were successful.
Sections of this report:
* Tester comments
* Program output
* Prerequisites
* Environment and other context
------------------------------
TESTER COMMENTS
------------------------------
Additional comments from tester:
this report is from an automated smoke testing program
and was not reviewed by a human for accuracy
------------------------------
PROGRAM OUTPUT
------------------------------
Output from '/usr/bin/make test':
PERL_DL_NONLAZY=1 "/tmp/basesmoker-reloperl-vgRg/bin/perl" "-MExtUtils::Command::MM" "-MTest::Harness" "-e" "undef *Test::Harness::Switches; test_harness(0, 'inc', 'blib/lib', 'blib/arch')" t/*.t
Class::MOP::load_class is deprecated at /home/sand/src/perl/repoperls/installed-perls/perl/v5.25.1-42-g397c43d/f7bf/lib/site_perl/5.25.2/x86_64-linux-thread-multi/Class/MOP.pm line 69.
Class::MOP::load_class("Patterns::ChainOfResponsibility::Provider") called at /tmp/loop_over_bdir-13786-E4VPy9/Patterns-ChainOfResponsibility-0.02-0/blib/lib/Patterns/ChainOfResponsibility/Role/Handler.pm line 22
Patterns::ChainOfResponsibility::Role::Handler::__ANON__(Moose::Meta::Class::__ANON__::SERIAL::2=HASH(0x21b0778), "operating_on", MooseX::Role::Parameterized::Meta::Role::Parameterized=HASH(0x22c9958), "consumer", Moose::Meta::Class=HASH(0x2155258)) called at /home/sand/src/perl/repoperls/installed-perls/perl/v5.25.1-42-g397c43d/f7bf/lib/site_perl/5.25.2/MooseX/Role/Parameterized/Meta/Trait/Parameterizable.pm line 88
MooseX::Role::Parameterized::Meta::Trait::Parameterizable::generate_role(Moose::Meta::Class::__ANON__::SERIAL::1=HASH(0x22bd658), "consumer", Moose::Meta::Class=HASH(0x2155258), "parameters", HASH(0x2262658), "orig_apply", CODE(0x1eedf58)) called at /home/sand/src/perl/repoperls/installed-perls/perl/v5.25.1-42-g397c43d/f7bf/lib/site_perl/5.25.2/MooseX/Role/Parameterized/Meta/Trait/Parameterizable.pm line 110
Class::MOP::Class:::around(CODE(0x1eedf58), Moose::Meta::Class::__ANON__::SERIAL::1=HASH(0x22bd658), Moose::Meta::Class=HASH(0x2155258)) called at /home/sand/src/perl/repoperls/installed-perls/perl/v5.25.1-42-g397c43d/f7bf/lib/site_perl/5.25.2/x86_64-linux-thread-multi/Class/MOP/Method/Wrapped.pm line 164
Moose::Meta::Class::__ANON__::SERIAL::1::_wrapped_apply(Moose::Meta::Class::__ANON__::SERIAL::1=HASH(0x22bd658), Moose::Meta::Class=HASH(0x2155258)) called at /home/sand/src/perl/repoperls/installed-perls/perl/v5.25.1-42-g397c43d/f7bf/lib/site_perl/5.25.2/x86_64-linux-thread-multi/Class/MOP/Method/Wrapped.pm line 95
Moose::Meta::Class::__ANON__::SERIAL::1::apply(Moose::Meta::Class::__ANON__::SERIAL::1=HASH(0x22bd658), Moose::Meta::Class=HASH(0x2155258)) called at /home/sand/src/perl/repoperls/installed-perls/perl/v5.25.1-42-g397c43d/f7bf/lib/site_perl/5.25.2/x86_64-linux-thread-multi/Moose/Util.pm line 172
Moose::Util::_apply_all_roles(Moose::Meta::Class=HASH(0x2155258), undef, "Patterns::ChainOfResponsibility::Role::Handler") called at /home/sand/src/perl/repoperls/installed-perls/perl/v5.25.1-42-g397c43d/f7bf/lib/site_perl/5.25.2/x86_64-linux-thread-multi/Moose/Util.pm line 114
Moose::Util::apply_all_roles(Moose::Meta::Class=HASH(0x2155258), "Patterns::ChainOfResponsibility::Role::Handler") called at /home/sand/src/perl/repoperls/installed-perls/perl/v5.25.1-42-g397c43d/f7bf/lib/site_perl/5.25.2/x86_64-linux-thread-multi/Moose.pm line 57
Moose::with(Moose::Meta::Class=HASH(0x2155258), "Patterns::ChainOfResponsibility::Role::Handler") called at /home/sand/src/perl/repoperls/installed-perls/perl/v5.25.1-42-g397c43d/f7bf/lib/site_perl/5.25.2/x86_64-linux-thread-multi/Moose/Exporter.pm line 419
Moose::with("Patterns::ChainOfResponsibility::Role::Handler") called at t/application.t line 9
t/application.t .. ok
t/basic.t ........ ok
Class::MOP::load_class is deprecated at /home/sand/src/perl/repoperls/installed-perls/perl/v5.25.1-42-g397c43d/f7bf/lib/site_perl/5.25.2/x86_64-linux-thread-multi/Class/MOP.pm line 69.
Class::MOP::load_class("Patterns::ChainOfResponsibility::Broadcast") called at /tmp/loop_over_bdir-13786-E4VPy9/Patterns-ChainOfResponsibility-0.02-0/blib/lib/Patterns/ChainOfResponsibility/Role/Handler.pm line 22
Patterns::ChainOfResponsibility::Role::Handler::__ANON__(Moose::Meta::Class::__ANON__::SERIAL::4=HASH(0x215c218), "operating_on", MooseX::Role::Parameterized::Meta::Role::Parameterized=HASH(0x234fa90), "consumer", Moose::Meta::Class=HASH(0x21433d8)) called at /home/sand/src/perl/repoperls/installed-perls/perl/v5.25.1-42-g397c43d/f7bf/lib/site_perl/5.25.2/MooseX/Role/Parameterized/Meta/Trait/Parameterizable.pm line 88
MooseX::Role::Parameterized::Meta::Trait::Parameterizable::generate_role(Moose::Meta::Class::__ANON__::SERIAL::3=HASH(0x2348238), "consumer", Moose::Meta::Class=HASH(0x21433d8), "parameters", HASH(0x228ecb0), "orig_apply", CODE(0x1e9ef58)) called at /home/sand/src/perl/repoperls/installed-perls/perl/v5.25.1-42-g397c43d/f7bf/lib/site_perl/5.25.2/MooseX/Role/Parameterized/Meta/Trait/Parameterizable.pm line 110
Class::MOP::Class:::around(CODE(0x1e9ef58), Moose::Meta::Class::__ANON__::SERIAL::3=HASH(0x2348238), Moose::Meta::Class=HASH(0x21433d8), "dispatcher", "::Broadcast") called at /home/sand/src/perl/repoperls/installed-perls/perl/v5.25.1-42-g397c43d/f7bf/lib/site_perl/5.25.2/x86_64-linux-thread-multi/Class/MOP/Method/Wrapped.pm line 164
Moose::Meta::Class::__ANON__::SERIAL::3::_wrapped_apply(Moose::Meta::Class::__ANON__::SERIAL::3=HASH(0x2348238), Moose::Meta::Class=HASH(0x21433d8), "dispatcher", "::Broadcast") called at /home/sand/src/perl/repoperls/installed-perls/perl/v5.25.1-42-g397c43d/f7bf/lib/site_perl/5.25.2/x86_64-linux-thread-multi/Class/MOP/Method/Wrapped.pm line 95
Moose::Meta::Class::__ANON__::SERIAL::3::apply(Moose::Meta::Class::__ANON__::SERIAL::3=HASH(0x2348238), Moose::Meta::Class=HASH(0x21433d8), "dispatcher", "::Broadcast") called at /home/sand/src/perl/repoperls/installed-perls/perl/v5.25.1-42-g397c43d/f7bf/lib/site_perl/5.25.2/x86_64-linux-thread-multi/Moose/Util.pm line 172
Moose::Util::_apply_all_roles(Moose::Meta::Class=HASH(0x21433d8), undef, "Patterns::ChainOfResponsibility::Role::Handler", HASH(0xd41cd0)) called at /home/sand/src/perl/repoperls/installed-perls/perl/v5.25.1-42-g397c43d/f7bf/lib/site_perl/5.25.2/x86_64-linux-thread-multi/Moose/Util.pm line 114
Moose::Util::apply_all_roles(Moose::Meta::Class=HASH(0x21433d8), "Patterns::ChainOfResponsibility::Role::Handler", HASH(0xd41cd0)) called at /home/sand/src/perl/repoperls/installed-perls/perl/v5.25.1-42-g397c43d/f7bf/lib/site_perl/5.25.2/x86_64-linux-thread-multi/Moose.pm line 57
Moose::with(Moose::Meta::Class=HASH(0x21433d8), "Patterns::ChainOfResponsibility::Role::Handler", HASH(0xd41cd0)) called at /home/sand/src/perl/repoperls/installed-perls/perl/v5.25.1-42-g397c43d/f7bf/lib/site_perl/5.25.2/x86_64-linux-thread-multi/Moose/Exporter.pm line 419
Moose::with("Patterns::ChainOfResponsibility::Role::Handler", HASH(0xd41cd0)) called at t/broadcast.t line 13
t/broadcast.t .... ok
Class::MOP::load_class is deprecated at /home/sand/src/perl/repoperls/installed-perls/perl/v5.25.1-42-g397c43d/f7bf/lib/site_perl/5.25.2/x86_64-linux-thread-multi/Class/MOP.pm line 69.
Class::MOP::load_class("Patterns::ChainOfResponsibility::Filter") called at /tmp/loop_over_bdir-13786-E4VPy9/Patterns-ChainOfResponsibility-0.02-0/blib/lib/Patterns/ChainOfResponsibility/Role/Handler.pm line 22
Patterns::ChainOfResponsibility::Role::Handler::__ANON__(Moose::Meta::Class::__ANON__::SERIAL::2=HASH(0x2fbd890), "operating_on", MooseX::Role::Parameterized::Meta::Role::Parameterized=HASH(0x30dd138), "consumer", Moose::Meta::Class=HASH(0x2f73eb8)) called at /home/sand/src/perl/repoperls/installed-perls/perl/v5.25.1-42-g397c43d/f7bf/lib/site_perl/5.25.2/MooseX/Role/Parameterized/Meta/Trait/Parameterizable.pm line 88
MooseX::Role::Parameterized::Meta::Trait::Parameterizable::generate_role(Moose::Meta::Class::__ANON__::SERIAL::1=HASH(0x30ca708), "consumer", Moose::Meta::Class=HASH(0x2f73eb8), "parameters", HASH(0x3053e58), "orig_apply", CODE(0x2d0cd08)) called at /home/sand/src/perl/repoperls/installed-perls/perl/v5.25.1-42-g397c43d/f7bf/lib/site_perl/5.25.2/MooseX/Role/Parameterized/Meta/Trait/Parameterizable.pm line 110
Class::MOP::Class:::around(CODE(0x2d0cd08), Moose::Meta::Class::__ANON__::SERIAL::1=HASH(0x30ca708), Moose::Meta::Class=HASH(0x2f73eb8), "dispatcher", "::Filter") called at /home/sand/src/perl/repoperls/installed-perls/perl/v5.25.1-42-g397c43d/f7bf/lib/site_perl/5.25.2/x86_64-linux-thread-multi/Class/MOP/Method/Wrapped.pm line 164
Moose::Meta::Class::__ANON__::SERIAL::1::_wrapped_apply(Moose::Meta::Class::__ANON__::SERIAL::1=HASH(0x30ca708), Moose::Meta::Class=HASH(0x2f73eb8), "dispatcher", "::Filter") called at /home/sand/src/perl/repoperls/installed-perls/perl/v5.25.1-42-g397c43d/f7bf/lib/site_perl/5.25.2/x86_64-linux-thread-multi/Class/MOP/Method/Wrapped.pm line 95
Moose::Meta::Class::__ANON__::SERIAL::1::apply(Moose::Meta::Class::__ANON__::SERIAL::1=HASH(0x30ca708), Moose::Meta::Class=HASH(0x2f73eb8), "dispatcher", "::Filter") called at /home/sand/src/perl/repoperls/installed-perls/perl/v5.25.1-42-g397c43d/f7bf/lib/site_perl/5.25.2/x86_64-linux-thread-multi/Moose/Util.pm line 172
Moose::Util::_apply_all_roles(Moose::Meta::Class=HASH(0x2f73eb8), undef, "Patterns::ChainOfResponsibility::Role::Handler", HASH(0x1bafcd0)) called at /home/sand/src/perl/repoperls/installed-perls/perl/v5.25.1-42-g397c43d/f7bf/lib/site_perl/5.25.2/x86_64-linux-thread-multi/Moose/Util.pm line 114
Moose::Util::apply_all_roles(Moose::Meta::Class=HASH(0x2f73eb8), "Patterns::ChainOfResponsibility::Role::Handler", HASH(0x1bafcd0)) called at /home/sand/src/perl/repoperls/installed-perls/perl/v5.25.1-42-g397c43d/f7bf/lib/site_perl/5.25.2/x86_64-linux-thread-multi/Moose.pm line 57
Moose::with(Moose::Meta::Class=HASH(0x2f73eb8), "Patterns::ChainOfResponsibility::Role::Handler", HASH(0x1bafcd0)) called at /home/sand/src/perl/repoperls/installed-perls/perl/v5.25.1-42-g397c43d/f7bf/lib/site_perl/5.25.2/x86_64-linux-thread-multi/Moose/Exporter.pm line 419
Moose::with("Patterns::ChainOfResponsibility::Role::Handler", HASH(0x1bafcd0)) called at t/filter.t line 9
t/filter.t ....... ok
Class::MOP::load_class is deprecated at /home/sand/src/perl/repoperls/installed-perls/perl/v5.25.1-42-g397c43d/f7bf/lib/site_perl/5.25.2/x86_64-linux-thread-multi/Class/MOP.pm line 69.
Class::MOP::load_class("Patterns::ChainOfResponsibility::Provider") called at /tmp/loop_over_bdir-13786-E4VPy9/Patterns-ChainOfResponsibility-0.02-0/blib/lib/Patterns/ChainOfResponsibility/Role/Handler.pm line 22
Patterns::ChainOfResponsibility::Role::Handler::__ANON__(Moose::Meta::Class::__ANON__::SERIAL::2=HASH(0x27029f8), "operating_on", MooseX::Role::Parameterized::Meta::Role::Parameterized=HASH(0x2822e58), "consumer", Moose::Meta::Class=HASH(0x26b6478)) called at /home/sand/src/perl/repoperls/installed-perls/perl/v5.25.1-42-g397c43d/f7bf/lib/site_perl/5.25.2/MooseX/Role/Parameterized/Meta/Trait/Parameterizable.pm line 88
MooseX::Role::Parameterized::Meta::Trait::Parameterizable::generate_role(Moose::Meta::Class::__ANON__::SERIAL::1=HASH(0x280f880), "consumer", Moose::Meta::Class=HASH(0x26b6478), "parameters", HASH(0x279abc0), "orig_apply", CODE(0x2450fc8)) called at /home/sand/src/perl/repoperls/installed-perls/perl/v5.25.1-42-g397c43d/f7bf/lib/site_perl/5.25.2/MooseX/Role/Parameterized/Meta/Trait/Parameterizable.pm line 110
Class::MOP::Class:::around(CODE(0x2450fc8), Moose::Meta::Class::__ANON__::SERIAL::1=HASH(0x280f880), Moose::Meta::Class=HASH(0x26b6478)) called at /home/sand/src/perl/repoperls/installed-perls/perl/v5.25.1-42-g397c43d/f7bf/lib/site_perl/5.25.2/x86_64-linux-thread-multi/Class/MOP/Method/Wrapped.pm line 164
Moose::Meta::Class::__ANON__::SERIAL::1::_wrapped_apply(Moose::Meta::Class::__ANON__::SERIAL::1=HASH(0x280f880), Moose::Meta::Class=HASH(0x26b6478)) called at /home/sand/src/perl/repoperls/installed-perls/perl/v5.25.1-42-g397c43d/f7bf/lib/site_perl/5.25.2/x86_64-linux-thread-multi/Class/MOP/Method/Wrapped.pm line 95
Moose::Meta::Class::__ANON__::SERIAL::1::apply(Moose::Meta::Class::__ANON__::SERIAL::1=HASH(0x280f880), Moose::Meta::Class=HASH(0x26b6478)) called at /home/sand/src/perl/repoperls/installed-perls/perl/v5.25.1-42-g397c43d/f7bf/lib/site_perl/5.25.2/x86_64-linux-thread-multi/Moose/Util.pm line 172
Moose::Util::_apply_all_roles(Moose::Meta::Class=HASH(0x26b6478), undef, "Patterns::ChainOfResponsibility::Role::Handler") called at /home/sand/src/perl/repoperls/installed-perls/perl/v5.25.1-42-g397c43d/f7bf/lib/site_perl/5.25.2/x86_64-linux-thread-multi/Moose/Util.pm line 114
Moose::Util::apply_all_roles(Moose::Meta::Class=HASH(0x26b6478), "Patterns::ChainOfResponsibility::Role::Handler") called at /home/sand/src/perl/repoperls/installed-perls/perl/v5.25.1-42-g397c43d/f7bf/lib/site_perl/5.25.2/x86_64-linux-thread-multi/Moose.pm line 57
Moose::with(Moose::Meta::Class=HASH(0x26b6478), "Patterns::ChainOfResponsibility::Role::Handler") called at /home/sand/src/perl/repoperls/installed-perls/perl/v5.25.1-42-g397c43d/f7bf/lib/site_perl/5.25.2/x86_64-linux-thread-multi/Moose/Exporter.pm line 419
Moose::with("Patterns::ChainOfResponsibility::Role::Handler") called at t/provider.t line 9
t/provider.t ..... ok
All tests successful.
Files=5, Tests=20, 2 wallclock secs ( 0.04 usr 0.03 sys + 1.78 cusr 0.18 csys = 2.03 CPU)
Result: PASS
------------------------------
PREREQUISITES
------------------------------
Prerequisite modules loaded:
requires:
Module Need Have
--------------------------- -------- --------
Moose 1.21 2.1801
MooseX::Role::Parameterized 0.23 1.08
perl 5.008005 5.025002
Test::More 0.96 1.302019
build_requires:
Module Need Have
--------------------------- -------- --------
ExtUtils::MakeMaker 6.42 7.16
Test::More 0.96 1.302019
configure_requires:
Module Need Have
--------------------------- -------- --------
ExtUtils::MakeMaker 6.42 7.16
------------------------------
ENVIRONMENT AND OTHER CONTEXT
------------------------------
Environment variables:
AUTOMATED_TESTING = 1
LANG = en_US.UTF-8
LANGUAGE = en_US:en
PATH = /usr/lib/ccache:/home/sand/bin:/usr/local/bin:/usr/bin:/bin:/usr/games:/usr/local/perl/bin:/usr/X11/bin:/sbin:/usr/sbin
PERL5LIB = /tmp/loop_over_bdir-13786-E4VPy9/FusionInventory-Agent-2.3.17-0/blib/arch:/tmp/loop_over_bdir-13786-E4VPy9/FusionInventory-Agent-2.3.17-0/blib/lib
PERL5OPT =
PERL5_CPANPLUS_IS_RUNNING = 32727
PERL5_CPAN_IS_RUNNING = 32727
PERL_CANARY_STABILITY_NOPROMPT = 1
PERL_MM_USE_DEFAULT = 1
SHELL = /usr/bin/zsh
TERM = screen
Perl special variables (and OS-specific diagnostics, for MSWin32):
$^X = /tmp/basesmoker-reloperl-vgRg/bin/perl
$UID/$EUID = 1005 / 1005
$GID = 1005 1005
$EGID = 1005 1005
Perl module toolchain versions installed:
Module Have
------------------- --------
CPAN 2.13
CPAN::Meta 2.150005
Cwd 3.63
ExtUtils::CBuilder 0.280225
ExtUtils::Command 7.16
ExtUtils::Install 2.04
ExtUtils::MakeMaker 7.16
ExtUtils::Manifest 1.70
ExtUtils::ParseXS 3.31
File::Spec 3.63
JSON 2.90
JSON::PP 2.27300
Module::Build 0.4218
Module::Signature 0.79
Parse::CPAN::Meta 1.4417
Test::Harness 3.36
Test::More 1.302019
YAML 1.15
YAML::Syck 1.29
version 0.9916
--
Summary of my perl5 (revision 5 version 25 subversion 2) configuration:
Commit id: 397c43d88a02adee0747f7e7e7db500858dac48b
Platform:
osname=linux, osvers=4.3.0-1-amd64, archname=x86_64-linux-thread-multi
uname='linux k83 4.3.0-1-amd64 #1 smp debian 4.3.3-7 (2016-01-19) x86_64 gnulinux '
config_args='-Dprefix=/home/sand/src/perl/repoperls/installed-perls/perl/v5.25.1-42-g397c43d/f7bf -Dmyhostname=k83 -Dinstallusrbinperl=n -Uversiononly -Dusedevel -des -Ui_db -Dlibswanted=cl pthread socket inet nsl gdbm dbm malloc dl ld sun m crypt sec util c cposix posix ucb BSD gdbm_compat -Duseithreads -Uuselongdouble -DDEBUGGING=-g'
hint=recommended, useposix=true, d_sigaction=define
useithreads=define, usemultiplicity=define
use64bitint=define, use64bitall=define, uselongdouble=undef
usemymalloc=n, bincompat5005=undef
Compiler:
cc='cc', ccflags ='-D_REENTRANT -D_GNU_SOURCE -fwrapv -fno-strict-aliasing -pipe -fstack-protector-strong -I/usr/local/include -D_LARGEFILE_SOURCE -D_FILE_OFFSET_BITS=64 -D_FORTIFY_SOURCE=2',
optimize='-O2 -g',
cppflags='-D_REENTRANT -D_GNU_SOURCE -fwrapv -fno-strict-aliasing -pipe -fstack-protector-strong -I/usr/local/include'
ccversion='', gccversion='5.3.1 20160121', gccosandvers=''
intsize=4, longsize=8, ptrsize=8, doublesize=8, byteorder=12345678, doublekind=3
d_longlong=define, longlongsize=8, d_longdbl=define, longdblsize=16, longdblkind=3
ivtype='long', ivsize=8, nvtype='double', nvsize=8, Off_t='off_t', lseeksize=8
alignbytes=8, prototype=define
Linker and Libraries:
ld='cc', ldflags =' -fstack-protector-strong -L/usr/local/lib'
libpth=/usr/local/lib /usr/lib/gcc/x86_64-linux-gnu/5/include-fixed /usr/include/x86_64-linux-gnu /usr/lib /lib/x86_64-linux-gnu /lib/../lib /usr/lib/x86_64-linux-gnu /usr/lib/../lib /lib
libs=-lpthread -lnsl -lgdbm -ldl -lm -lcrypt -lutil -lc -lgdbm_compat
perllibs=-lpthread -lnsl -ldl -lm -lcrypt -lutil -lc
libc=libc-2.21.so, so=so, useshrplib=false, libperl=libperl.a
gnulibc_version='2.21'
Dynamic Linking:
dlsrc=dl_dlopen.xs, dlext=so, d_dlsymun=undef, ccdlflags='-Wl,-E'
cccdlflags='-fPIC', lddlflags='-shared -O2 -g -L/usr/local/lib -fstack-protector-strong'
Characteristics of this binary (from libperl):
Compile-time options: HAS_TIMES MULTIPLICITY PERLIO_LAYERS
PERL_COPY_ON_WRITE PERL_DONT_CREATE_GVSV
PERL_HASH_FUNC_ONE_AT_A_TIME_HARD
PERL_IMPLICIT_CONTEXT PERL_MALLOC_WRAP PERL_OP_PARENT
PERL_PRESERVE_IVUV PERL_USE_DEVEL USE_64_BIT_ALL
USE_64_BIT_INT USE_ITHREADS USE_LARGE_FILES
USE_LOCALE USE_LOCALE_COLLATE USE_LOCALE_CTYPE
USE_LOCALE_NUMERIC USE_LOCALE_TIME USE_PERLIO
USE_PERL_ATOF USE_REENTRANT_API
Built under linux
Compiled at May 22 2016 02:49:50
%ENV:
PERL5LIB="/tmp/loop_over_bdir-13786-E4VPy9/FusionInventory-Agent-2.3.17-0/blib/arch:/tmp/loop_over_bdir-13786-E4VPy9/FusionInventory-Agent-2.3.17-0/blib/lib"
PERL5OPT=""
PERL5_CPANPLUS_IS_RUNNING="32727"
PERL5_CPAN_IS_RUNNING="32727"
PERL_CANARY_STABILITY_NOPROMPT="1"
PERL_MM_USE_DEFAULT="1"
@INC:
/tmp/loop_over_bdir-13786-E4VPy9/FusionInventory-Agent-2.3.17-0/blib/arch
/tmp/loop_over_bdir-13786-E4VPy9/FusionInventory-Agent-2.3.17-0/blib/lib
/home/sand/src/perl/repoperls/installed-perls/perl/v5.25.1-42-g397c43d/f7bf/lib/site_perl/5.25.2/x86_64-linux-thread-multi
/home/sand/src/perl/repoperls/installed-perls/perl/v5.25.1-42-g397c43d/f7bf/lib/site_perl/5.25.2
/home/sand/src/perl/repoperls/installed-perls/perl/v5.25.1-42-g397c43d/f7bf/lib/5.25.2/x86_64-linux-thread-multi
/home/sand/src/perl/repoperls/installed-perls/perl/v5.25.1-42-g397c43d/f7bf/lib/5.25.2
.