Report for WebAPI-DBIC-0.004002

Back
From: metabase:user:7298ebcc-b357-11e4-8d18-8eca7e4756b9
Subject: PASS WebAPI-DBIC-0.004002 v5.12.2 GNU/Linux
Date: 2015-08-01T20:29:58Z

This distribution has been tested as part of the CPAN Testers
project, supporting the Perl programming language.  See
http://wiki.cpantesters.org/ for more information or email
questions to cpan-testers-discuss@perl.org


--
Dear TIMB,

This is a computer-generated report for WebAPI-DBIC-0.004002
on perl 5.12.2, created by App::cpanminus::reporter 0.12 (1.7027).

Thank you for uploading your work to CPAN.  Congratulations!
All tests were successful.

Sections of this report:

    * Tester comments
    * Program output
    * Prerequisites
    * Environment and other context

------------------------------
TESTER COMMENTS
------------------------------

Additional comments from tester:

none provided

------------------------------
PROGRAM OUTPUT
------------------------------

Output from '':

Building and testing WebAPI-DBIC-0.004002
cp lib/WebAPI/DBIC/Resource/GenericRoot.pm blib/lib/WebAPI/DBIC/Resource/GenericRoot.pm
cp lib/WebAPI/DBIC/Resource/GenericItemInvoke.pm blib/lib/WebAPI/DBIC/Resource/GenericItemInvoke.pm
cp lib/WebAPI/DBIC/Resource/JSONAPI.pm blib/lib/WebAPI/DBIC/Resource/JSONAPI.pm
cp lib/WebAPI/DBIC/Resource/HAL.pm blib/lib/WebAPI/DBIC/Resource/HAL.pm
cp lib/WebAPI/DBIC/Resource/JSONAPI/Role/DBIC.pm blib/lib/WebAPI/DBIC/Resource/JSONAPI/Role/DBIC.pm
cp lib/WebAPI/DBIC.pm blib/lib/WebAPI/DBIC.pm
cp data_service_api.pod blib/lib/WebAPI/data_service_api.pod
cp lib/WebAPI/DBIC/Resource/HAL/Role/SetWritable.pm blib/lib/WebAPI/DBIC/Resource/HAL/Role/SetWritable.pm
cp NOTES.pod blib/lib/WebAPI/NOTES.pod
cp lib/WebAPI/DBIC/Resource/GenericSet.pm blib/lib/WebAPI/DBIC/Resource/GenericSet.pm
cp lib/WebAPI/DBIC/Resource/Base.pm blib/lib/WebAPI/DBIC/Resource/Base.pm
cp lib/WebAPI/DBIC/Resource/HAL/Role/Item.pm blib/lib/WebAPI/DBIC/Resource/HAL/Role/Item.pm
cp lib/WebAPI/DBIC/Resource/GenericItem.pm blib/lib/WebAPI/DBIC/Resource/GenericItem.pm
cp lib/WebAPI/DBIC/Resource/JSONAPI/Role/ItemWritable.pm blib/lib/WebAPI/DBIC/Resource/JSONAPI/Role/ItemWritable.pm
cp lib/WebAPI/DBIC/Resource/HAL/Role/Set.pm blib/lib/WebAPI/DBIC/Resource/HAL/Role/Set.pm
cp lib/WebAPI/DBIC/Resource/JSONAPI/Role/SetWritable.pm blib/lib/WebAPI/DBIC/Resource/JSONAPI/Role/SetWritable.pm
cp lib/WebAPI/DBIC/Resource/JSONAPI/Role/Set.pm blib/lib/WebAPI/DBIC/Resource/JSONAPI/Role/Set.pm
cp lib/WebAPI/DBIC/Resource/ActiveModel/Role/ItemWritable.pm blib/lib/WebAPI/DBIC/Resource/ActiveModel/Role/ItemWritable.pm
cp lib/WebAPI/DBIC/Resource/ActiveModel/Role/Item.pm blib/lib/WebAPI/DBIC/Resource/ActiveModel/Role/Item.pm
cp lib/WebAPI/DBIC/Resource/GenericSetInvoke.pm blib/lib/WebAPI/DBIC/Resource/GenericSetInvoke.pm
cp lib/WebAPI/DBIC/Resource/HAL/Role/DBIC.pm blib/lib/WebAPI/DBIC/Resource/HAL/Role/DBIC.pm
cp lib/WebAPI/DBIC/Resource/ActiveModel/Role/Set.pm blib/lib/WebAPI/DBIC/Resource/ActiveModel/Role/Set.pm
cp lib/WebAPI/DBIC/Resource/JSONAPI/Role/Item.pm blib/lib/WebAPI/DBIC/Resource/JSONAPI/Role/Item.pm
cp lib/WebAPI/DBIC/Resource/HAL/Role/Root.pm blib/lib/WebAPI/DBIC/Resource/HAL/Role/Root.pm
cp lib/WebAPI/DBIC/Resource/ActiveModel/Role/DBIC.pm blib/lib/WebAPI/DBIC/Resource/ActiveModel/Role/DBIC.pm
cp lib/WebAPI/DBIC/Resource/ActiveModel.pm blib/lib/WebAPI/DBIC/Resource/ActiveModel.pm
cp lib/WebAPI/DBIC/Resource/ActiveModel/Role/SetWritable.pm blib/lib/WebAPI/DBIC/Resource/ActiveModel/Role/SetWritable.pm
cp lib/WebAPI/DBIC/Resource/HAL/Role/ItemWritable.pm blib/lib/WebAPI/DBIC/Resource/HAL/Role/ItemWritable.pm
cp lib/WebAPI/DBIC/Resource/GenericCore.pm blib/lib/WebAPI/DBIC/Resource/GenericCore.pm
cp lib/WebAPI/DBIC/Resource/Role/Relationship.pm blib/lib/WebAPI/DBIC/Resource/Role/Relationship.pm
cp lib/WebAPI/HTTP/Throwable/Role/JSONBody.pm blib/lib/WebAPI/HTTP/Throwable/Role/JSONBody.pm
cp lib/WebAPI/DBIC/Resource/Role/SetInvoke.pm blib/lib/WebAPI/DBIC/Resource/Role/SetInvoke.pm
cp lib/WebAPI/HTTP/Throwable/Factory.pm blib/lib/WebAPI/HTTP/Throwable/Factory.pm
cp lib/WebAPI/DBIC/Route.pm blib/lib/WebAPI/DBIC/Route.pm
cp lib/WebAPI/DBIC/Role/JsonEncoder.pm blib/lib/WebAPI/DBIC/Role/JsonEncoder.pm
cp lib/WebAPI/DBIC/Resource/Role/Set.pm blib/lib/WebAPI/DBIC/Resource/Role/Set.pm
cp lib/WebAPI/DBIC/Resource/Role/DBIC.pm blib/lib/WebAPI/DBIC/Resource/Role/DBIC.pm
cp lib/WebAPI/DBIC/Resource/Role/DBICAuth.pm blib/lib/WebAPI/DBIC/Resource/Role/DBICAuth.pm
cp lib/WebAPI/DBIC/Resource/Role/ItemInvoke.pm blib/lib/WebAPI/DBIC/Resource/Role/ItemInvoke.pm
cp lib/WebAPI/DBIC/RouteMaker.pm blib/lib/WebAPI/DBIC/RouteMaker.pm
cp lib/WebAPI/DBIC/Role/JsonParams.pm blib/lib/WebAPI/DBIC/Role/JsonParams.pm
cp lib/WebAPI/DBIC/Resource/Role/DBICParams.pm blib/lib/WebAPI/DBIC/Resource/Role/DBICParams.pm
cp lib/WebAPI/DBIC/Resource/Role/Item.pm blib/lib/WebAPI/DBIC/Resource/Role/Item.pm
cp lib/WebAPI/DBIC/Resource/Role/Root.pm blib/lib/WebAPI/DBIC/Resource/Role/Root.pm
cp lib/WebAPI/DBIC/Resource/Role/Router.pm blib/lib/WebAPI/DBIC/Resource/Role/Router.pm
cp lib/WebAPI/DBIC/Resource/Role/ItemWritable.pm blib/lib/WebAPI/DBIC/Resource/Role/ItemWritable.pm
cp lib/WebAPI/DBIC/Resource/Role/SetWritable.pm blib/lib/WebAPI/DBIC/Resource/Role/SetWritable.pm
cp lib/WebAPI/DBIC/TypeNamer.pm blib/lib/WebAPI/DBIC/TypeNamer.pm
cp lib/WebAPI/DBIC/Util.pm blib/lib/WebAPI/DBIC/Util.pm
cp lib/WebAPI/DBIC/Resource/Role/Identity.pm blib/lib/WebAPI/DBIC/Resource/Role/Identity.pm
cp lib/WebAPI/DBIC/Resource/Role/DBICException.pm blib/lib/WebAPI/DBIC/Resource/Role/DBICException.pm
cp lib/WebAPI/DBIC/WebApp.pm blib/lib/WebAPI/DBIC/WebApp.pm
cp lib/WebAPI/DBIC/Router.pm blib/lib/WebAPI/DBIC/Router.pm
Manifying 25 pod documents
Manifying 26 pod documents
Manifying 2 pod documents
PERL_DL_NONLAZY=1 "/home/mojolicious/perl5/perlbrew/perls/perl-5.12.2/bin/perl" "-MExtUtils::Command::MM" "-MTest::Harness" "-e" "undef *Test::Harness::Switches; test_harness(0, 'blib/lib', 'blib/arch')" t/*.t t/media-active-model/*.t t/media-hal/*.t t/media-jsonapi/*.t
webapi-dbic-any.psgi syntax OK
webapi-dbic-demo.psgi syntax OK
t/00-compile.t .......................... ok
t/10-basics-req.t ....................... ok
t/11-paging-req.t ....................... ok
t/12-searching-req.t .................... ok
t/13-fields-req.t ....................... ok
t/14-distinct-req.t ..................... ok
t/30-ordering-req.t ..................... ok
t/50-modify-req.t ....................... ok
t/53-put_rel-req.t ...................... ok
Exception: DBIx::Class::Row::get_column(): No such column 'nonesuch' on TestSchema::Result::Artist at /home/mojolicious/.cpanm/work/1438459130.19418/WebAPI-DBIC-0.004002/blib/lib/WebAPI/DBIC/Resource/Role/ItemInvoke.pm line 57
t/60-invoke-req.t ....................... ok
t/90-root-req.t ......................... ok
t/media-active-model/10-basics-req.t .... ok
Child result class TestSchema::Result::CD_to_Producer has multiple keys (cd producer) so relations like cd_to_producer won't have links generated.
t/media-active-model/40-prefetch-req.t .. ok
TestSchema::Result::Artist relationship cds_90s has coderef-based condition which is not handled yet - unknown crosstable_cond_key
t/media-hal/10-basics-req.t ............. ok
TestSchema::Result::Artist relationship cds_90s has coderef-based condition which is not handled yet - unknown crosstable_cond_key
t/media-hal/11-paging-req.t ............. ok
TestSchema::Result::Artist relationship cds_90s has coderef-based condition which is not handled yet - unknown crosstable_cond_key
t/media-hal/12-searching-req.t .......... ok
TestSchema::Result::Artist relationship cds_90s has coderef-based condition which is not handled yet - unknown crosstable_cond_key
t/media-hal/13-fields-req.t ............. ok
t/media-hal/14-distinct-req.t ........... ok
t/media-hal/30-ordering-req.t ........... ok
TestSchema::Result::Artist relationship cds_90s has coderef-based condition which is not handled yet - unknown crosstable_cond_key
t/media-hal/40-prefetch-req.t ........... ok
TestSchema::Result::Artist relationship cds_90s has coderef-based condition which is not handled yet - unknown crosstable_cond_key
t/media-hal/50-modify-req.t ............. ok
TestSchema::Result::Track relationship next_tracks has coderef-based condition which is not handled yet - unknown crosstable_cond_key
t/media-hal/52-post_rel-req.t ........... ok
TestSchema::Result::Track relationship next_tracks has coderef-based condition which is not handled yet - unknown crosstable_cond_key
t/media-hal/53-put_rel-req.t ............ ok
t/media-hal/90-root-req.t ............... ok
t/media-jsonapi/10-basics-req.t ......... ok
Result class TestSchema::Result::CD_to_Producer has multiple keys (cd producer) so relations like cd_to_producer won't have links generated.
t/media-jsonapi/40-prefetch-req.t ....... ok
t/release-pod-syntax.t .................. skipped: these tests are for release candidate testing
All tests successful.
Files=27, Tests=151, 47 wallclock secs ( 0.23 usr  0.05 sys + 42.47 cusr  3.19 csys = 45.94 CPU)
Result: PASS

------------------------------
PREREQUISITES
------------------------------

Prerequisite modules loaded:

runtime:

    Module                      Need     Have    
    --------------------------- -------- --------
  ! Alien::Web::HalBrowser      0        n/a     
  ! Data::Dumper::Concise       0        n/a     
  ! DBD::SQLite                 1.46     n/a     
  ! DBIx::Class                 0.08250  n/a     
  ! HTTP::Headers::ActionPack   0        n/a     
  ! HTTP::Throwable             0        n/a     
  ! JSON::MaybeXS               0        n/a     
  ! Lingua::EN::Inflect         1.894    n/a     
  ! Lingua::EN::Inflect::Number 1.11     n/a     
  ! List::MoreUtils             0.408    n/a     
    List::Util                  0        1.22    
  ! Module::Runtime             0        n/a     
  ! Moo                         1.001000 n/a     
  ! MooX::StrictConstructor     0.006    n/a     
  ! namespace::clean            0.25     n/a     
    parent                      0        0.223   
  ! Path::Router                0.14     n/a     
    perl                        5.010    5.012002
  ! Plack                       1.0033   n/a     
  ! Plack::App::File            0        n/a     
  ! Plack::App::Path::Router    0.08     n/a     
  ! Safe::Isa                   0        n/a     
    Scalar::Util                0        1.22    
  ! SQL::Translator             0.11018  n/a     
  ! String::CamelCase           0        n/a     
    Sub::Exporter               0        0.987   
  ! Sub::Quote                  0        n/a     
  ! Sub::Util                   0        n/a     
    Try::Tiny                   0        0.22    
    URI                         0        1.67    
  ! Web::Machine                0.15     n/a     

configure:

    Module                      Need     Have    
    --------------------------- -------- --------
    ExtUtils::MakeMaker         0        7.04    


------------------------------
ENVIRONMENT AND OTHER CONTEXT
------------------------------

Environment variables:

    PATH = /home/mojolicious/perl5/perlbrew/bin:/home/mojolicious/perl5/perlbrew/perls/perl-5.20.1/bin:/usr/local/bin:/usr/bin:/bin:/usr/local/games:/usr/games:/home/mojolicious/mojolib/5.12.2/6.07/bin
    PERLBREW_BASHRC_VERSION = 0.73
    PERLBREW_HOME = /home/mojolicious/.perlbrew
    PERLBREW_MANPATH = /home/mojolicious/perl5/perlbrew/perls/perl-5.20.1/man
    PERLBREW_PATH = /home/mojolicious/perl5/perlbrew/bin:/home/mojolicious/perl5/perlbrew/perls/perl-5.20.1/bin
    PERLBREW_PERL = perl-5.20.1
    PERLBREW_ROOT = /home/mojolicious/perl5/perlbrew
    PERLBREW_VERSION = 0.73
    SHELL = /bin/bash
    TERM = xterm

Perl special variables (and OS-specific diagnostics, for MSWin32):

    EGID = 1003 1003
    EUID = 1003
    EXECUTABLE_NAME = /home/mojolicious/perl5/perlbrew/perls/perl-5.12.2/bin/perl
    GID = 1003 1003
    UID = 1003

Perl module toolchain versions installed:

    Module              Have    
    ------------------- --------
    CPAN                1.94_56 
    CPAN::Meta          2.143240
    Cwd                 3.31    
    ExtUtils::CBuilder  0.27    
    ExtUtils::Command   1.16    
    ExtUtils::Install   1.55    
    ExtUtils::MakeMaker 7.04    
    ExtUtils::Manifest  1.65    
    ExtUtils::ParseXS   2.21    
    File::Spec          3.31_01 
    JSON                2.90    
    JSON::PP            2.27203 
    Module::Build       0.4211  
    Module::Signature   n/a     
    Parse::CPAN::Meta   1.4414  
    Test::Harness       3.17    
    Test::More          1.001014
    YAML                n/a     
    YAML::Syck          n/a     
    version             0.9912  


--

Summary of my perl5 (revision 5 version 12 subversion 2) configuration:
   
  Platform:
    osname=linux, osvers=3.13.0-042stab094.8, archname=x86_64-linux
    uname='linux lvps92-51-161-142.dedicated.hosteurope.de 3.13.0-042stab094.8 #1 smp tue dec 16 20:36:56 msk 2014 x86_64 x86_64 x86_64 gnulinux '
    config_args='-de -Dprefix=/home/mojolicious/perl5/perlbrew/perls/perl-5.12.2 -Aeval:scriptdir=/home/mojolicious/perl5/perlbrew/perls/perl-5.12.2/bin'
    hint=recommended, useposix=true, d_sigaction=define
    useithreads=undef, usemultiplicity=undef
    useperlio=define, d_sfio=undef, uselargefiles=define, usesocks=undef
    use64bitint=define, use64bitall=define, uselongdouble=undef
    usemymalloc=n, bincompat5005=undef
  Compiler:
    cc='cc', ccflags ='-fno-strict-aliasing -pipe -fstack-protector -I/usr/local/include -D_LARGEFILE_SOURCE -D_FILE_OFFSET_BITS=64',
    optimize='-O2',
    cppflags='-fno-strict-aliasing -pipe -fstack-protector -I/usr/local/include'
    ccversion='', gccversion='4.8.2', gccosandvers=''
    intsize=4, longsize=8, ptrsize=8, doublesize=8, byteorder=12345678
    d_longlong=define, longlongsize=8, d_longdbl=define, longdblsize=16
    ivtype='long', ivsize=8, nvtype='double', nvsize=8, Off_t='off_t', lseeksize=8
    alignbytes=8, prototype=define
  Linker and Libraries:
    ld='cc', ldflags =' -fstack-protector -L/usr/local/lib'
    libpth=/usr/local/lib /lib/x86_64-linux-gnu /lib/../lib /usr/lib/x86_64-linux-gnu /usr/lib/../lib /lib /usr/lib
    libs=-lnsl -ldl -lm -lcrypt -lutil -lc
    perllibs=-lnsl -ldl -lm -lcrypt -lutil -lc
    libc=libc-2.19.so, so=so, useshrplib=false, libperl=libperl.a
    gnulibc_version='2.19'
  Dynamic Linking:
    dlsrc=dl_dlopen.xs, dlext=so, d_dlsymun=undef, ccdlflags='-Wl,-E'
    cccdlflags='-fPIC', lddlflags='-shared -O2 -L/usr/local/lib -fstack-protector'


Characteristics of this binary (from libperl): 
  Compile-time options: PERL_DONT_CREATE_GVSV PERL_MALLOC_WRAP USE_64_BIT_ALL
                        USE_64_BIT_INT USE_LARGE_FILES USE_PERLIO
                        USE_PERL_ATOF
  Locally applied patches:
	Devel::PatchPerl 1.30
  Built under linux
  Compiled at Mar  5 2015 11:20:46
  %ENV:
    PERLBREW_BASHRC_VERSION="0.73"
    PERLBREW_HOME="/home/mojolicious/.perlbrew"
    PERLBREW_MANPATH="/home/mojolicious/perl5/perlbrew/perls/perl-5.20.1/man"
    PERLBREW_PATH="/home/mojolicious/perl5/perlbrew/bin:/home/mojolicious/perl5/perlbrew/perls/perl-5.20.1/bin"
    PERLBREW_PERL="perl-5.20.1"
    PERLBREW_ROOT="/home/mojolicious/perl5/perlbrew"
    PERLBREW_VERSION="0.73"
  @INC:
    /home/mojolicious/perl5/perlbrew/perls/perl-5.12.2/lib/site_perl/5.12.2/x86_64-linux
    /home/mojolicious/perl5/perlbrew/perls/perl-5.12.2/lib/site_perl/5.12.2
    /home/mojolicious/perl5/perlbrew/perls/perl-5.12.2/lib/5.12.2/x86_64-linux
    /home/mojolicious/perl5/perlbrew/perls/perl-5.12.2/lib/5.12.2
    .