Test-Script v1.29 Perl 5 v5.39.1 darwin-2level
- Status
- Pass
- From
- Dist
-
Test-Script v1.29
- Platform
- Perl 5 v5.39.1 darwin-2level
- Date
- 2023-07-22 21:09:43
- ID
- 142016fa-28d4-11ee-a66e-1286c82fa9c0
This distribution has been tested as part of the CPAN Testers
project, supporting the Perl programming language. See
http://wiki.cpantesters.org/ for more information or email
questions to cpan-testers-discuss@perl.org
--
Dear PLICEASE,
This is a computer-generated report for Test-Script-1.29
on perl 5.39.1, created by App::cpanminus::reporter 0.21 (1.7046).
Thank you for uploading your work to CPAN. Congratulations!
All tests were successful.
Sections of this report:
* Tester comments
* Program output
* Prerequisites
* Environment and other context
------------------------------
TESTER COMMENTS
------------------------------
Additional comments from tester:
none provided
------------------------------
PROGRAM OUTPUT
------------------------------
Output from '':
Building and testing Test-Script-1.29
PERL_DL_NONLAZY=1 "/Volumes/chambord/Users/ether/perl5/perlbrew/perls/39.1/bin/perl5.39.1" "-MExtUtils::Command::MM" "-MTest::Harness" "-e" "undef *Test::Harness::Switches; test_harness(0, 'blib/lib', 'blib/arch')" t/*.t
#
#
#
# HARNESS_ACTIVE=1
# HARNESS_OPTIONS=
# HARNESS_VERSION=3.44
# LANG=en_CA.UTF-8
# LC_ALL=en_CA.UTF-8
# LC_CTYPE=en_CA.UTF-8
# PERL5LIB=/Volumes/chambord/Users/ether/.cpanm/work/1690060157.67842/Test-Script-1.29/blib/lib:/Volumes/chambord/Users/ether/.cpanm/work/1690060157.67842/Test-Script-1.29/blib/arch:/Volumes/chambord/Users/ether/.perlbrew/libs/39.1@std/lib/perl5/darwin-2level:/Volumes/chambord/Users/ether/.perlbrew/libs/39.1@std/lib/perl5:/Volumes/chambord/Users/ether/.perlbrew/libs/39.1@std/lib/perl5
# PERLBREW_HOME=/Volumes/chambord/Users/ether/.perlbrew
# PERLBREW_LIB=std
# PERLBREW_MANPATH=/Volumes/chambord/Users/ether/.perlbrew/libs/39.1@std/man:/Volumes/chambord/Users/ether/perl5/perlbrew/perls/39.1/man
# PERLBREW_PATH=/Volumes/chambord/Users/ether/.perlbrew/libs/39.1@std/bin:/Volumes/chambord/Users/ether/perl5/perlbrew/bin:/Volumes/chambord/Users/ether/perl5/perlbrew/perls/39.1/bin
# PERLBREW_PERL=39.1
# PERLBREW_ROOT=/Volumes/chambord/Users/ether/perl5/perlbrew
# PERLBREW_SHELLRC_VERSION=0.96
# PERLBREW_VERSION=0.97
# PERLDOC=-oman
# PERLDOC_PAGER=less -sicMr
# PERL_AUTOINSTALL_PREFER_CPAN=1
# PERL_DL_NONLAZY=1
# PERL_INSTALL_QUIET=1
# PERL_LOCAL_LIB_ROOT=/Volumes/chambord/Users/ether/.perlbrew/libs/39.1@std
# PERL_MB_OPT=--install_base /Volumes/chambord/Users/ether/.perlbrew/libs/39.1@std
# PERL_MM_OPT=INSTALL_BASE=/Volumes/chambord/Users/ether/.perlbrew/libs/39.1@std
# PERL_MM_USE_DEFAULT=1
# PERL_TEST_HARNESS_ASAP=1
# PERL_USE_UNSAFE_INC=0
# SHELL=/bin/bash
#
#
#
# PERL5LIB path
# /Volumes/chambord/Users/ether/.cpanm/work/1690060157.67842/Test-Script-1.29/blib/lib
# /Volumes/chambord/Users/ether/.cpanm/work/1690060157.67842/Test-Script-1.29/blib/arch
# /Volumes/chambord/Users/ether/.perlbrew/libs/39.1@std/lib/perl5/darwin-2level
# /Volumes/chambord/Users/ether/.perlbrew/libs/39.1@std/lib/perl5
# /Volumes/chambord/Users/ether/.perlbrew/libs/39.1@std/lib/perl5
#
#
#
# perl 5.039001 darwin darwin-2level
# Capture::Tiny 0.48
# ExtUtils::MakeMaker 7.70
# File::Spec 3.88
# IO::Handle 1.52
# Probe::Perl 0.03
# Test2::API 1.302195
# Test2::V0 0.000155
# Text::ParseWords 3.31
#
#
#
t/01_use.t ........................ ok
t/00_diag.t ....................... ok
t/test_script__import.t ........... ok
t/bug_gh9.t ....................... ok
t/test_script__exports.t .......... ok
t/test_script__fails.t ............ ok
t/test_script__program_stderr.t ... ok
t/test_script__program_stdout.t ... ok
t/test_script__script_stderr.t .... ok
t/test_script__program_runs.t ..... ok
t/test_script__script_stdout.t .... ok
t/test_script__script_compiles.t .. ok
t/test_script__script_runs.t ...... ok
All tests successful.
Files=13, Tests=91, 1 wallclock secs ( 0.02 usr 0.01 sys + 0.84 cusr 0.30 csys = 1.17 CPU)
Result: PASS
------------------------------
PREREQUISITES
------------------------------
Prerequisite modules loaded:
runtime:
Module Need Have
------------------- -------- --------
Capture::Tiny 0 0.48
File::Spec 0.80 3.88
IO::Handle 0 1.52
perl 5.008001 5.039001
Probe::Perl 0.01 0.03
Test2::API 1.302015 1.302195
Text::ParseWords 0 3.31
build:
Module Need Have
------------------- -------- --------
ExtUtils::MakeMaker 0 7.70
configure:
Module Need Have
------------------- -------- --------
ExtUtils::MakeMaker 0 7.70
------------------------------
ENVIRONMENT AND OTHER CONTEXT
------------------------------
Environment variables:
HARNESS_OPTIONS = j6:c
LANG = en_CA.UTF-8
LC_ALL = en_CA.UTF-8
LC_CTYPE = en_CA.UTF-8
NO_NETWORK_TESTING = 1
PATH = /Volumes/chambord/Users/ether/.perlbrew/libs/39.1@std/bin:/Volumes/chambord/Users/ether/perl5/perlbrew/bin:/Volumes/chambord/Users/ether/perl5/perlbrew/perls/39.1/bin:/Volumes/chambord/Users/ether/bin:/Volumes/chambord/Users/ether/git/misc/install/advocaat/bin:/Volumes/chambord/Users/ether/git/misc/install/generic/bin:/opt/local/bin:/opt/local/sbin:/Volumes/chambord/Users/ether/git/git-hub/lib:/usr/local/bin:/System/Cryptexes/App/usr/bin:/usr/bin:/bin:/usr/sbin:/sbin:/Library/Apple/usr/bin:/var/run/com.apple.security.cryptexd/codex.system/bootstrap/usr/local/bin:/var/run/com.apple.security.cryptexd/codex.system/bootstrap/usr/bin:/var/run/com.apple.security.cryptexd/codex.system/bootstrap/usr/appleinternal/bin:/opt/local/share/git-core/contrib/workdir
PERL5LIB = /Volumes/chambord/Users/ether/.perlbrew/libs/39.1@std/lib/perl5
PERLBREW_HOME = /Volumes/chambord/Users/ether/.perlbrew
PERLBREW_LIB = std
PERLBREW_MANPATH = /Volumes/chambord/Users/ether/.perlbrew/libs/39.1@std/man:/Volumes/chambord/Users/ether/perl5/perlbrew/perls/39.1/man
PERLBREW_PATH = /Volumes/chambord/Users/ether/.perlbrew/libs/39.1@std/bin:/Volumes/chambord/Users/ether/perl5/perlbrew/bin:/Volumes/chambord/Users/ether/perl5/perlbrew/perls/39.1/bin
PERLBREW_PERL = 39.1
PERLBREW_ROOT = /Volumes/chambord/Users/ether/perl5/perlbrew
PERLBREW_SHELLRC_VERSION = 0.96
PERLBREW_VERSION = 0.97
PERLDOC = -oman
PERLDOC_PAGER = less -sicMr
PERL_AUTOINSTALL_PREFER_CPAN = 1
PERL_INSTALL_QUIET = 1
PERL_LOCAL_LIB_ROOT = /Volumes/chambord/Users/ether/.perlbrew/libs/39.1@std
PERL_MB_OPT = --install_base /Volumes/chambord/Users/ether/.perlbrew/libs/39.1@std
PERL_MM_OPT = INSTALL_BASE=/Volumes/chambord/Users/ether/.perlbrew/libs/39.1@std
PERL_TEST_HARNESS_ASAP = 1
PERL_USE_UNSAFE_INC = 0
SHELL = /bin/bash
TERM = xterm-color
Perl special variables (and OS-specific diagnostics, for MSWin32):
EGID = 20 20 12 61 79 80 81 98 701 704 703 702 33 100 204 250 395
EUID = 502
EXECUTABLE_NAME = /Volumes/chambord/Users/ether/perl5/perlbrew/perls/39.1/bin/perl5.39.1
GID = 20 20 12 61 79 80 81 98 701 704 703 702 33 100 204 250 395
UID = 502
Perl module toolchain versions installed:
Module Have
------------------- --------
CPAN 2.36
CPAN::Meta 2.150010
Cwd 3.89
ExtUtils::CBuilder 0.280239
ExtUtils::Command 7.70
ExtUtils::Install 2.22
ExtUtils::MakeMaker 7.70
ExtUtils::Manifest 1.75
ExtUtils::ParseXS 3.51
File::Spec 3.88
JSON n/a
JSON::PP 4.16
Module::Build 0.4234
Module::Signature n/a
Parse::CPAN::Meta 2.150010
Test::Harness 3.44
Test::More 1.302195
YAML n/a
YAML::Syck n/a
version 0.9929
--
Summary of my perl5 (revision 5 version 39 subversion 1) configuration:
Platform:
osname=darwin
osvers=22.4.0
archname=darwin-2level
uname='darwin advocaat 22.4.0 darwin kernel version 22.4.0: mon mar 6 21:01:02 pst 2023; root:xnu-8796.101.5~3release_arm64_t8112 arm64 '
config_args='-de -Dprefix=/Volumes/chambord/Users/ether/perl5/perlbrew/perls/39.1 -Dman1dir=none -Dman3dir=none -Dusedevel -Aeval:scriptdir=/Volumes/chambord/Users/ether/perl5/perlbrew/perls/39.1/bin'
hint=recommended
useposix=true
d_sigaction=define
useithreads=undef
usemultiplicity=undef
use64bitint=define
use64bitall=define
uselongdouble=undef
usemymalloc=n
default_inc_excludes_dot=define
Compiler:
cc='cc'
ccflags ='-fno-common -DPERL_DARWIN -mmacosx-version-min=13.3 -DNO_POSIX_2008_LOCALE -fno-strict-aliasing -pipe -fstack-protector-strong -I/opt/local/include'
optimize='-O3'
cppflags='-fno-common -DPERL_DARWIN -mmacosx-version-min=13.3 -DNO_POSIX_2008_LOCALE -fno-strict-aliasing -pipe -fstack-protector-strong -I/opt/local/include'
ccversion=''
gccversion='Apple LLVM 14.0.3 (clang-1403.0.22.14.1)'
gccosandvers=''
intsize=4
longsize=8
ptrsize=8
doublesize=8
byteorder=12345678
doublekind=3
d_longlong=define
longlongsize=8
d_longdbl=define
longdblsize=8
longdblkind=0
ivtype='long'
ivsize=8
nvtype='double'
nvsize=8
Off_t='off_t'
lseeksize=8
alignbytes=8
prototype=define
Linker and Libraries:
ld='cc'
ldflags =' -mmacosx-version-min=13.3 -fstack-protector-strong -L/opt/local/lib'
libpth=/Applications/Xcode.app/Contents/Developer/Toolchains/XcodeDefault.xctoolchain/usr/lib/clang/14.0.3/lib /Applications/Xcode.app/Contents/Developer/Platforms/MacOSX.platform/Developer/SDKs/MacOSX.sdk/usr/lib /Applications/Xcode.app/Contents/Developer/Toolchains/XcodeDefault.xctoolchain/usr/lib /opt/local/lib /usr/lib
libs=-lgdbm
perllibs=
libc=
so=dylib
useshrplib=false
libperl=libperl.a
gnulibc_version=''
Dynamic Linking:
dlsrc=dl_dlopen.xs
dlext=bundle
d_dlsymun=undef
ccdlflags=' '
cccdlflags=' '
lddlflags=' -mmacosx-version-min=13.3 -bundle -undefined dynamic_lookup -L/opt/local/lib -fstack-protector-strong'
Characteristics of this binary (from libperl):
Compile-time options:
HAS_LONG_DOUBLE
HAS_STRTOLD
HAS_TIMES
PERLIO_LAYERS
PERL_COPY_ON_WRITE
PERL_DONT_CREATE_GVSV
PERL_HASH_FUNC_SIPHASH13
PERL_HASH_USE_SBOX32
PERL_MALLOC_WRAP
PERL_OP_PARENT
PERL_PRESERVE_IVUV
PERL_USE_DEVEL
PERL_USE_SAFE_PUTENV
USE_64_BIT_ALL
USE_64_BIT_INT
USE_LARGE_FILES
USE_LOCALE
USE_LOCALE_COLLATE
USE_LOCALE_CTYPE
USE_LOCALE_NUMERIC
USE_LOCALE_TIME
USE_PERLIO
USE_PERL_ATOF
Built under darwin
Compiled at Jul 22 2023 12:50:33
%ENV:
PERL5LIB="/Volumes/chambord/Users/ether/.perlbrew/libs/39.1@std/lib/perl5"
PERLBREW_HOME="/Volumes/chambord/Users/ether/.perlbrew"
PERLBREW_LIB="std"
PERLBREW_MANPATH="/Volumes/chambord/Users/ether/.perlbrew/libs/39.1@std/man:/Volumes/chambord/Users/ether/perl5/perlbrew/perls/39.1/man"
PERLBREW_PATH="/Volumes/chambord/Users/ether/.perlbrew/libs/39.1@std/bin:/Volumes/chambord/Users/ether/perl5/perlbrew/bin:/Volumes/chambord/Users/ether/perl5/perlbrew/perls/39.1/bin"
PERLBREW_PERL="39.1"
PERLBREW_ROOT="/Volumes/chambord/Users/ether/perl5/perlbrew"
PERLBREW_SHELLRC_VERSION="0.96"
PERLBREW_VERSION="0.97"
PERLDOC="-oman"
PERLDOC_PAGER="less -sicMr"
PERL_AUTOINSTALL_PREFER_CPAN="1"
PERL_INSTALL_QUIET="1"
PERL_LOCAL_LIB_ROOT="/Volumes/chambord/Users/ether/.perlbrew/libs/39.1@std"
PERL_MB_OPT="--install_base /Volumes/chambord/Users/ether/.perlbrew/libs/39.1@std"
PERL_MM_OPT="INSTALL_BASE=/Volumes/chambord/Users/ether/.perlbrew/libs/39.1@std"
PERL_TEST_HARNESS_ASAP="1"
PERL_USE_UNSAFE_INC="0"
@INC:
/Volumes/chambord/Users/ether/.perlbrew/libs/39.1@std/lib/perl5/darwin-2level
/Volumes/chambord/Users/ether/.perlbrew/libs/39.1@std/lib/perl5
/Volumes/chambord/Users/ether/perl5/perlbrew/perls/39.1/lib/site_perl/5.39.1/darwin-2level
/Volumes/chambord/Users/ether/perl5/perlbrew/perls/39.1/lib/site_perl/5.39.1
/Volumes/chambord/Users/ether/perl5/perlbrew/perls/39.1/lib/5.39.1/darwin-2level
/Volumes/chambord/Users/ether/perl5/perlbrew/perls/39.1/lib/5.39.1