Pithub v0.01041 Perl 5 v5.36.0 x86_64-linux
- Status
- Pass
- From
- Slaven Rezić
- Dist
-
Pithub v0.01041
- Platform
- Perl 5 v5.36.0 x86_64-linux
- Date
- 2023-08-24 21:42:09
- ID
- 14341d6e-42c7-11ee-a84e-971a6e8775ea
This distribution has been tested as part of the CPAN Testers
project, supporting the Perl programming language. See
http://wiki.cpantesters.org/ for more information or email
questions to cpan-testers-discuss@perl.org
--
Dear Olaf Alders,
This is a computer-generated report for Pithub-0.01041
on perl 5.36.0, created by CPAN-Reporter-1.2018.
Thank you for uploading your work to CPAN. Congratulations!
All tests were successful.
Sections of this report:
* Tester comments
* Program output
* Prerequisites
* Environment and other context
------------------------------
TESTER COMMENTS
------------------------------
Additional comments from tester:
none provided
------------------------------
PROGRAM OUTPUT
------------------------------
Output from '/usr/bin/make test':
PERL_DL_NONLAZY=1 "/opt/perl-5.36.0/bin/perl" "-MExtUtils::Command::MM" "-MTest::Harness" "-e" "undef *Test::Harness::Switches; test_harness(0, 'blib/lib', 'blib/arch')" t/*.t t/live/*.t t/live/repos/actions/*.t
#
# Versions for all modules listed in MYMETA.json (including optional ones):
#
# === Configure Requires ===
#
# Module Want Have
# ------------------- ----- --------
# ExtUtils::MakeMaker any 7.70
# perl 5.006 5.036000
#
# === Build Requires ===
#
# Module Want Have
# ------------------- ---- ----
# ExtUtils::MakeMaker any 7.70
#
# === Test Requires ===
#
# Module Want Have
# ------------------- ----- --------
# Exporter any 5.77
# ExtUtils::MakeMaker any 7.70
# File::Spec any 3.84
# FindBin any 1.53
# HTTP::Response any 6.44
# Import::Into any 1.002005
# MIME::Base64 any 3.16
# Path::Tiny any 0.144
# Scalar::Util any 1.63
# Test::Builder any 1.302195
# Test::Differences any 0.70
# Test::Exception any 0.43
# Test::More any 1.302195
# Test::Most any 0.38
# Test::Needs any 0.002010
# lib any 0.65
# perl 5.010 5.036000
#
# === Test Recommends ===
#
# Module Want Have
# ---------- -------- --------
# CPAN::Meta 2.120900 2.150010
#
# === Runtime Requires ===
#
# Module Want Have
# --------------------- ----- --------
# CHI any 0.61
# Carp any 1.52
# HTTP::Headers any 6.44
# HTTP::Request any 6.44
# HTTP::Request::Common any 6.44
# JSON::MaybeXS any 1.004005
# LWP::UserAgent any 6.71
# Moo any 2.005005
# Moo::Role any 2.005005
# URI any 5.21
# perl 5.010 5.036000
# strict any 1.12
# warnings any 1.58
#
t/00-report-prereqs.t ............. ok
t/basic.t ......................... ok
t/encoding.t ...................... ok
t/events.t ........................ ok
t/gists.t ......................... ok
t/git_data.t ...................... ok
t/issues.t ........................ ok
t/live/basic.t .................... ok
t/live/cache-lru.t ................ skipped: Set PITHUB_TEST_LIVE to true to run these tests
t/live/cache.t .................... skipped: Set PITHUB_TEST_LIVE to true to run these tests
t/live/events.t ................... ok
t/live/gists.t .................... ok
t/live/git_data.t ................. ok
t/live/issues.t ................... ok
t/live/orgs.t ..................... ok
t/live/pull_requests.t ............ ok
t/live/repos.t .................... ok
t/live/repos/actions/workflows.t .. ok
t/live/users.t .................... ok
t/multi.t ......................... ok
t/orgs.t .......................... ok
t/pull_requests.t ................. ok
t/repos.t ......................... ok
t/search.t ........................ ok
t/test.t .......................... ok
t/users.t ......................... ok
All tests successful.
Files=26, Tests=3029, 6 wallclock secs ( 0.26 usr 0.05 sys + 5.46 cusr 0.52 csys = 6.29 CPU)
Result: PASS
------------------------------
PREREQUISITES
------------------------------
Prerequisite modules loaded:
requires:
Module Need Have
--------------------- ----- --------
Carp 0 1.52
CHI 0 0.61
HTTP::Headers 0 6.44
HTTP::Request 0 6.44
HTTP::Request::Common 0 6.44
JSON::MaybeXS 0 1.004005
LWP::UserAgent 0 6.71
Moo 0 2.005005
Moo::Role 0 2.005005
perl 5.010 5.036000
strict 0 1.12
URI 0 5.21
warnings 0 1.58
build_requires:
Module Need Have
--------------------- ----- --------
Exporter 0 5.77
ExtUtils::MakeMaker 0 7.70
File::Spec 0 3.84
FindBin 0 1.53
HTTP::Response 0 6.44
Import::Into 0 1.002005
lib 0 0.65
MIME::Base64 0 3.16
Path::Tiny 0 0.144
Scalar::Util 0 1.63
Test::Builder 0 1.302195
Test::Differences 0 0.70
Test::Exception 0 0.43
Test::More 0 1.302195
Test::Most 0 0.38
Test::Needs 0 0.002010
configure_requires:
Module Need Have
--------------------- ----- --------
ExtUtils::MakeMaker 0 7.70
perl 5.006 5.036000
------------------------------
ENVIRONMENT AND OTHER CONTEXT
------------------------------
Environment variables:
LANG = en_US.UTF-8
PATH = /usr/local/bin:/usr/bin:/bin:/usr/local/sbin:/usr/sbin:/sbin:/home/cpansand/bin/linux-gnu:/home/cpansand/bin/sh:/home/cpansand/bin:/usr/games:/home/cpansand/devel:/home/eserte/src/srezic-misc/scripts
PERL5LIB =
PERL5OPT =
PERL5_CPANPLUS_IS_RUNNING = 30236
PERL5_CPAN_IS_RUNNING = 30236
PERL5_CPAN_IS_RUNNING_IN_RECURSION = 30084,30236
PERLDOC = -MPod::Perldoc::ToTextOverstrike
PERL_BATCH = yes
PERL_CANARY_STABILITY_NOPROMPT = 1
PERL_CPAN_REPORTER_CONFIG = /var/tmp/cpansmoker-1023/2023082418/cpanreporter_000_config.ini
PERL_EXTUTILS_AUTOINSTALL = --defaultdeps
PERL_USE_UNSAFE_INC = 1
SHELL = /usr/bin/zsh
TERM = screen
TMPDIR = /var/tmp/cpansmoker-1023/2023082418
Perl special variables (and OS-specific diagnostics, for MSWin32):
$^X = /opt/perl-5.36.0/bin/perl
$UID/$EUID = 1023 / 1023
$GID = 1023 1023
$EGID = 1023 1023
Perl module toolchain versions installed:
Module Have
------------------- --------
CPAN 2.36
CPAN::Meta 2.150010
Cwd 3.84
ExtUtils::CBuilder 0.280236
ExtUtils::Command 7.70
ExtUtils::Install 2.20
ExtUtils::MakeMaker 7.70
ExtUtils::Manifest 1.73
ExtUtils::ParseXS 3.45
File::Spec 3.84
JSON 4.10
JSON::PP 4.12
Module::Build 0.4234
Module::Signature 0.88
Parse::CPAN::Meta 2.150010
Test::Harness 3.47
Test::More 1.302195
YAML 1.30
YAML::Syck 1.34
version 0.9929
--
Summary of my perl5 (revision 5 version 36 subversion 0) configuration:
Platform:
osname=linux
osvers=3.10.0-1160.76.1.el7.x86_64
archname=x86_64-linux
uname='linux cloud3.bbbike.org 3.10.0-1160.76.1.el7.x86_64 #1 smp wed aug 10 16:21:17 utc 2022 x86_64 x86_64 x86_64 gnulinux '
config_args='-ds -e -Dprefix=/opt/perl-5.36.0 -Dcf_email=srezic@cpan.org'
hint=recommended
useposix=true
d_sigaction=define
useithreads=undef
usemultiplicity=undef
use64bitint=define
use64bitall=define
uselongdouble=undef
usemymalloc=n
default_inc_excludes_dot=define
Compiler:
cc='cc'
ccflags ='-std=gnu99 -fwrapv -fno-strict-aliasing -pipe -fstack-protector-strong -I/usr/local/include -D_LARGEFILE_SOURCE -D_FILE_OFFSET_BITS=64 -D_FORTIFY_SOURCE=2'
optimize='-O2'
cppflags='-std=gnu99 -fwrapv -fno-strict-aliasing -pipe -fstack-protector-strong -I/usr/local/include'
ccversion=''
gccversion='4.8.5 20150623 (Red Hat 4.8.5-44)'
gccosandvers=''
intsize=4
longsize=8
ptrsize=8
doublesize=8
byteorder=12345678
doublekind=3
d_longlong=define
longlongsize=8
d_longdbl=define
longdblsize=16
longdblkind=3
ivtype='long'
ivsize=8
nvtype='double'
nvsize=8
Off_t='off_t'
lseeksize=8
alignbytes=8
prototype=define
Linker and Libraries:
ld='cc'
ldflags =' -fstack-protector-strong -L/usr/local/lib'
libpth=/usr/local/lib /usr/lib /usr/lib64 /usr/local/lib64
libs=-lpthread -lnsl -lgdbm -ldb -ldl -lm -lcrypt -lutil -lc -lgdbm_compat
perllibs=-lpthread -lnsl -ldl -lm -lcrypt -lutil -lc
libc=libc-2.17.so
so=so
useshrplib=false
libperl=libperl.a
gnulibc_version='2.17'
Dynamic Linking:
dlsrc=dl_dlopen.xs
dlext=so
d_dlsymun=undef
ccdlflags='-Wl,-E'
cccdlflags='-fPIC'
lddlflags='-shared -O2 -L/usr/local/lib -fstack-protector-strong'
Characteristics of this binary (from libperl):
Compile-time options:
HAS_TIMES
PERLIO_LAYERS
PERL_COPY_ON_WRITE
PERL_DONT_CREATE_GVSV
PERL_MALLOC_WRAP
PERL_OP_PARENT
PERL_PRESERVE_IVUV
USE_64_BIT_ALL
USE_64_BIT_INT
USE_LARGE_FILES
USE_LOCALE
USE_LOCALE_COLLATE
USE_LOCALE_CTYPE
USE_LOCALE_NUMERIC
USE_LOCALE_TIME
USE_PERLIO
USE_PERL_ATOF
Built under linux
Compiled at Sep 20 2022 21:40:31
%ENV:
PERL5LIB=""
PERL5OPT=""
PERL5_CPANPLUS_IS_RUNNING="30236"
PERL5_CPAN_IS_RUNNING="30236"
PERL5_CPAN_IS_RUNNING_IN_RECURSION="30084,30236"
PERLDOC="-MPod::Perldoc::ToTextOverstrike"
PERL_BATCH="yes"
PERL_CANARY_STABILITY_NOPROMPT="1"
PERL_CPAN_REPORTER_CONFIG="/var/tmp/cpansmoker-1023/2023082418/cpanreporter_000_config.ini"
PERL_EXTUTILS_AUTOINSTALL="--defaultdeps"
PERL_USE_UNSAFE_INC="1"
@INC:
/opt/perl-5.36.0/lib/site_perl/5.36.0/x86_64-linux
/opt/perl-5.36.0/lib/site_perl/5.36.0
/opt/perl-5.36.0/lib/5.36.0/x86_64-linux
/opt/perl-5.36.0/lib/5.36.0
.