ODF-MailMerge v1.001 Perl 5 v5.18.2 amd64-freebsd

Status
Pass
From
Slaven Rezić
Dist
ODF-MailMerge v1.001
Platform
Perl 5 v5.18.2 amd64-freebsd
Date
2023-09-18 05:49:05
ID
14376db0-55e7-11ee-b7b1-6c486e8775ea
This distribution has been tested as part of the CPAN Testers
project, supporting the Perl programming language.  See
http://wiki.cpantesters.org/ for more information or email
questions to cpan-testers-discuss@perl.org


--
Dear Jim Avera,

This is a computer-generated report for ODF-MailMerge-1.001
on perl 5.18.2, created by CPAN-Reporter-1.2019.

Thank you for uploading your work to CPAN.  Congratulations!
All tests were successful.

Sections of this report:

    * Tester comments
    * Program output
    * Prerequisites
    * Environment and other context

------------------------------
TESTER COMMENTS
------------------------------

Additional comments from tester:

none provided

------------------------------
PROGRAM OUTPUT
------------------------------

Output from '/usr/bin/make test':

Skip blib/lib/auto/share/dist/ODF-MailMerge/examples/family_names.csv (unchanged)
Skip blib/lib/auto/share/dist/ODF-MailMerge/examples/Ex_Famnames_output.odt (unchanged)
Skip blib/lib/auto/share/dist/ODF-MailMerge/examples/Ex_Famnames_Skeleton.odt (unchanged)
Skip blib/lib/auto/share/dist/ODF-MailMerge/examples/Ex_Famnames.pl (unchanged)
PERL_DL_NONLAZY=1 "/usr/perl5.18.2/bin/perl" "-MExtUtils::Command::MM" "-MTest::Harness" "-e" "undef *Test::Harness::Switches; test_harness(0, 'blib/lib', 'blib/arch')" t/*.t
t/10_basic.t ............. ok
t/20_mailmerge.t ......... ok
t/90_Ex_Famnames.t ....... skipped: LibreOffice is not avaialble
t/author-pod-coverage.t .. skipped: these tests are for testing by the author
t/author-pod-syntax.t .... skipped: these tests are for testing by the author
All tests successful.
Files=5, Tests=38,  4 wallclock secs ( 0.00 usr  0.04 sys +  3.20 cusr  0.82 csys =  4.06 CPU)
Result: PASS

------------------------------
PREREQUISITES
------------------------------

Prerequisite modules loaded:

requires:

    Module                     Need     Have    
    -------------------------- -------- --------
    Carp                       0        1.50    
    Clone                      0        0.46    
    constant                   0        1.33    
    Data::Dumper::Interp       6.005    6.006   
    Exporter                   0        5.77    
    feature                    0        1.32    
    File::ShareDir             0        1.118   
    List::MoreUtils            0        0.430   
    List::Util                 0        1.63    
    ODF::lpOD                  0        1.126   
    ODF::lpOD_Helper           6.004    6.005   
    Path::Tiny                 0        0.144   
    perl                       5.018    5.018002
    Scalar::Util               0        1.63    
    Spreadsheet::Edit::Log     1000.005 1000.006
    strict                     0        1.07    
    utf8                       0        1.10    
    warnings                   0        1.18    

build_requires:

    Module                     Need     Have    
    -------------------------- -------- --------
    autovivification           0        0.16    
    Cwd                        0        3.75    
    Data::Dumper               0        2.183   
    Data::Dumper::Interp       6.005    6.006   
    DateTime                   0        1.59    
    DateTime::Format::Strptime 0        1.79    
    Encode                     0        3.19    
    English                    0        1.06_01 
    Env                        0        1.04    
    ExtUtils::MakeMaker        0        7.70    
    File::Basename             0        2.84    
    File::Path                 0        2.18    
    File::Spec                 0        3.75    
    File::Spec::Functions      0        3.75    
    File::Temp                 0.23     0.2311  
    FindBin                    0        1.53    
    Getopt::Long               0        2.54    
    Guard                      0        1.023   
    Import::Into               0        1.002005
    indirect                   0        0.39    
    IO::Uncompress::Gunzip     0        2.205   
    JSON                       0        4.10    
    lib                        0        0.63    
    multidimensional           0        0.014   
    parent                     0        0.241   
    POSIX                      0        1.32    
    Spreadsheet::Edit          0        1000.006
    Spreadsheet::Edit::IO      1000.006 1000.006
    Test2::Plugin::BailOnFail  0        0.000156
    Test2::V0                  0        0.000156
    Time::HiRes                0        1.9764  

configure_requires:

    Module                     Need     Have    
    -------------------------- -------- --------
    ExtUtils::MakeMaker        0        7.70    
    File::ShareDir::Install    0.06     0.14    


------------------------------
ENVIRONMENT AND OTHER CONTEXT
------------------------------

Environment variables:

    LC_ALL = de_DE.ISO8859-1
    PATH = /usr/local/bin:/usr/bin:/bin:/usr/local/sbin:/usr/sbin:/sbin:/home/cpansand/bin/freebsd9.3:/home/cpansand/bin/sh:/home/cpansand/bin:/usr/games:/home/cpansand/devel:/usr/home/eserte/src/srezic-misc/scripts
    PERL5LIB = /home/cpansand/.cpan/build/2023091805/Spreadsheet-Edit-1000.006-1/blib/arch:/home/cpansand/.cpan/build/2023091805/Spreadsheet-Edit-1000.006-1/blib/lib:/home/cpansand/.cpan/build/2023091805/ODF-lpOD_Helper-6.005-3/blib/arch:/home/cpansand/.cpan/build/2023091805/ODF-lpOD_Helper-6.005-3/blib/lib
    PERL5OPT = 
    PERL5_CPANPLUS_IS_RUNNING = 37426
    PERL5_CPAN_IS_RUNNING = 37426
    PERL5_CPAN_IS_RUNNING_IN_RECURSION = 36549,37426
    PERLDOC = -MPod::Perldoc::ToTextOverstrike
    PERL_BATCH = yes
    PERL_CANARY_STABILITY_NOPROMPT = 1
    PERL_CPAN_REPORTER_CONFIG = /var/tmp/cpansmoker-1023/2023091805/cpanreporter_000_config.ini
    PERL_EXTUTILS_AUTOINSTALL = --defaultdeps
    PERL_USE_UNSAFE_INC = 1
    SHELL = /usr/local/bin/zsh
    TERM = screen
    TMPDIR = /var/tmp/cpansmoker-1023/2023091805

Perl special variables (and OS-specific diagnostics, for MSWin32):

    $^X = /usr/perl5.18.2/bin/perl
    $UID/$EUID = 1023 / 1023
    $GID = 1023 1023
    $EGID = 1023 1023

Perl module toolchain versions installed:

    Module              Have    
    ------------------- --------
    CPAN                2.36    
    CPAN::Meta          2.150010
    Cwd                 3.75    
    ExtUtils::CBuilder  0.280236
    ExtUtils::Command   7.70    
    ExtUtils::Install   2.22    
    ExtUtils::MakeMaker 7.70    
    ExtUtils::Manifest  1.75    
    ExtUtils::ParseXS   3.51    
    File::Spec          3.75    
    JSON                4.10    
    JSON::PP            4.16    
    Module::Build       0.4234  
    Module::Signature   0.88    
    Parse::CPAN::Meta   2.150010
    Test2               1.302195
    Test::Harness       3.47    
    Test::More          1.302195
    YAML                1.30    
    YAML::Syck          1.34    
    version             0.9929  


--

Summary of my perl5 (revision 5 version 18 subversion 2) configuration:
   
  Platform:
    osname=freebsd, osvers=9.2-release-p4, archname=amd64-freebsd
    uname='freebsd cvrsnica-freebsd-92 9.2-release-p4 freebsd 9.2-release-p4 #0: tue apr 8 18:08:22 utc 2014 root@amd64-builder.daemonology.net:usrobjusrsrcsysgeneric amd64 '
    config_args='-ds -e -Dprefix=/usr/perl5.18.2'
    hint=recommended, useposix=true, d_sigaction=define
    useithreads=undef, usemultiplicity=undef
    useperlio=define, d_sfio=undef, uselargefiles=define, usesocks=undef
    use64bitint=define, use64bitall=define, uselongdouble=undef
    usemymalloc=n, bincompat5005=undef
  Compiler:
    cc='cc', ccflags ='-DHAS_FPSETMASK -DHAS_FLOATINGPOINT_H -fno-strict-aliasing -pipe -fstack-protector -I/usr/local/include',
    optimize='-O',
    cppflags='-DHAS_FPSETMASK -DHAS_FLOATINGPOINT_H -fno-strict-aliasing -pipe -fstack-protector -I/usr/local/include'
    ccversion='', gccversion='4.2.1 20070831 patched [FreeBSD]', gccosandvers=''
    intsize=4, longsize=8, ptrsize=8, doublesize=8, byteorder=12345678
    d_longlong=define, longlongsize=8, d_longdbl=define, longdblsize=16
    ivtype='long', ivsize=8, nvtype='double', nvsize=8, Off_t='off_t', lseeksize=8
    alignbytes=8, prototype=define
  Linker and Libraries:
    ld='cc', ldflags ='-Wl,-E  -fstack-protector -L/usr/local/lib'
    libpth=/usr/lib /usr/local/lib
    libs=-lgdbm -lm -lcrypt -lutil -lc
    perllibs=-lm -lcrypt -lutil -lc
    libc=, so=so, useshrplib=false, libperl=libperl.a
    gnulibc_version=''
  Dynamic Linking:
    dlsrc=dl_dlopen.xs, dlext=so, d_dlsymun=undef, ccdlflags=' '
    cccdlflags='-DPIC -fPIC', lddlflags='-shared  -L/usr/local/lib -fstack-protector'


Characteristics of this binary (from libperl): 
  Compile-time options: HAS_TIMES PERLIO_LAYERS PERL_DONT_CREATE_GVSV
                        PERL_HASH_FUNC_ONE_AT_A_TIME_HARD PERL_MALLOC_WRAP
                        PERL_PRESERVE_IVUV PERL_SAWAMPERSAND USE_64_BIT_ALL
                        USE_64_BIT_INT USE_LARGE_FILES USE_LOCALE
                        USE_LOCALE_COLLATE USE_LOCALE_CTYPE
                        USE_LOCALE_NUMERIC USE_PERLIO USE_PERL_ATOF
  Built under freebsd
  Compiled at May 16 2014 01:27:28
  %ENV:
    PERL5LIB="/home/cpansand/.cpan/build/2023091805/Spreadsheet-Edit-1000.006-1/blib/arch:/home/cpansand/.cpan/build/2023091805/Spreadsheet-Edit-1000.006-1/blib/lib:/home/cpansand/.cpan/build/2023091805/ODF-lpOD_Helper-6.005-3/blib/arch:/home/cpansand/.cpan/build/2023091805/ODF-lpOD_Helper-6.005-3/blib/lib"
    PERL5OPT=""
    PERL5_CPANPLUS_IS_RUNNING="37426"
    PERL5_CPAN_IS_RUNNING="37426"
    PERL5_CPAN_IS_RUNNING_IN_RECURSION="36549,37426"
    PERLDOC="-MPod::Perldoc::ToTextOverstrike"
    PERL_BATCH="yes"
    PERL_CANARY_STABILITY_NOPROMPT="1"
    PERL_CPAN_REPORTER_CONFIG="/var/tmp/cpansmoker-1023/2023091805/cpanreporter_000_config.ini"
    PERL_EXTUTILS_AUTOINSTALL="--defaultdeps"
    PERL_USE_UNSAFE_INC="1"
  @INC:
    /home/cpansand/.cpan/build/2023091805/Spreadsheet-Edit-1000.006-1/blib/arch
    /home/cpansand/.cpan/build/2023091805/Spreadsheet-Edit-1000.006-1/blib/lib
    /home/cpansand/.cpan/build/2023091805/ODF-lpOD_Helper-6.005-3/blib/arch
    /home/cpansand/.cpan/build/2023091805/ODF-lpOD_Helper-6.005-3/blib/lib
    /usr/perl5.18.2/lib/site_perl/5.18.2/amd64-freebsd
    /usr/perl5.18.2/lib/site_perl/5.18.2
    /usr/perl5.18.2/lib/5.18.2/amd64-freebsd
    /usr/perl5.18.2/lib/5.18.2
    .