Report for Dist-Zilla-PluginBundle-Author-LESPEA-1.008000

Back
From: metabase:user:30ae4450-2aae-11df-837a-5e0a49663a4f
Subject: PASS Dist-Zilla-PluginBundle-Author-LESPEA-1.008000 v5.24.0 RC3 
Date: 2016-05-01T16:43:38Z

This distribution has been tested as part of the CPAN Testers
project, supporting the Perl programming language.  See
http://wiki.cpantesters.org/ for more information or email
questions to cpan-testers-discuss@perl.org


--
Dear Adam Lesperance,

This is a computer-generated report for Dist-Zilla-PluginBundle-Author-LESPEA-1.008000
on perl 5.24.0, created by CPAN-Reporter-1.2017.

Thank you for uploading your work to CPAN.  Congratulations!
All tests were successful.

Sections of this report:

    * Tester comments
    * Program output
    * Prerequisites
    * Environment and other context

------------------------------
TESTER COMMENTS
------------------------------

Additional comments from tester:

this report is from an automated smoke testing program
and was not reviewed by a human for accuracy

------------------------------
PROGRAM OUTPUT
------------------------------

Output from 'C:\Strawberry240rc3\perl\bin\perl.exe ./Build test':

t/00-compile.t .................. ok
# 
# 
# Generated by Dist::Zilla::Plugin::ReportVersions::Tiny v1.10
# perl: 5.024000 (wanted 5.010) on MSWin32 from C:\Strawberry240rc3\perl\bin\perl.exe
# 
# CPAN::Meta::YAML                              => 0.018      (want any version)
# Carp                                          => 1.40       (want any version)
# Dist::Zilla                                   => 5.043      (want 4.300000)
# Dist::Zilla::Plugin::ArchiveRelease           => 4.26       (want any version)
# Dist::Zilla::Plugin::Authority                => 1.009      (want any version)
# Dist::Zilla::Plugin::AutoMetaResources        => 1.21       (want any version)
# Dist::Zilla::Plugin::AutoPrereqs              => 5.043      (want any version)
# Dist::Zilla::Plugin::Bootstrap::lib           => 1.001000   (want any version)
# Dist::Zilla::Plugin::ConfirmRelease           => 5.043      (want any version)
# Dist::Zilla::Plugin::ConsistentVersionTest    => 0.02       (want any version)
# Dist::Zilla::Plugin::CopyFilesFromBuild       => 0.151680   (want any version)
# Dist::Zilla::Plugin::DualBuilders             => 1.002      (want any version)
# Dist::Zilla::Plugin::ExecDir                  => 5.043      (want any version)
# Dist::Zilla::Plugin::ExtraTests               => 5.043      (want any version)
# Dist::Zilla::Plugin::FakeRelease              => 5.043      (want any version)
# Dist::Zilla::Plugin::GatherDir                => 5.043      (want any version)
# Dist::Zilla::Plugin::HasVersionTests          => 1.101420   (want any version)
# Dist::Zilla::Plugin::InstallGuide             => 1.200006   (want any version)
# Dist::Zilla::Plugin::License                  => 5.043      (want any version)
# Dist::Zilla::Plugin::MakeMaker                => 5.043      (want any version)
# Dist::Zilla::Plugin::Manifest                 => 5.043      (want any version)
# Dist::Zilla::Plugin::ManifestSkip             => 5.043      (want any version)
# Dist::Zilla::Plugin::MetaConfig               => 5.043      (want any version)
# Dist::Zilla::Plugin::MetaJSON                 => 5.043      (want any version)
# Dist::Zilla::Plugin::MetaNoIndex              => 5.043      (want any version)
# Dist::Zilla::Plugin::MetaTests                => 5.043      (want any version)
# Dist::Zilla::Plugin::MetaYAML                 => 5.043      (want any version)
# Dist::Zilla::Plugin::MinimumPerl              => 1.006      (want any version)
# Dist::Zilla::Plugin::ModuleBuild              => 5.043      (want any version)
# Dist::Zilla::Plugin::NextRelease              => 5.043      (want any version)
# Dist::Zilla::Plugin::PkgVersion               => 5.043      (want any version)
# Dist::Zilla::Plugin::PodCoverageTests         => 5.043      (want any version)
# Dist::Zilla::Plugin::PodSyntaxTests           => 5.043      (want any version)
# Dist::Zilla::Plugin::PodWeaver                => 4.006      (want any version)
# Dist::Zilla::Plugin::PruneCruft               => 5.043      (want any version)
# Dist::Zilla::Plugin::ReadmeAnyFromPod         => 0.160630   (want any version)
# Dist::Zilla::Plugin::ReportVersions::Tiny     => 1.12       (want any version)
# Dist::Zilla::Plugin::ShareDir                 => 5.043      (want any version)
# Dist::Zilla::Plugin::SpellingCommonMistakesTests => 1.001000   (want any version)
# Dist::Zilla::Plugin::Test::CPAN::Changes      => 0.009      (want 0.005)  
# Dist::Zilla::Plugin::Test::Compile            => 2.054      (want 1.112400)
# Dist::Zilla::Plugin::Test::DistManifest       => 2.000005   (want v2.0.1) 
# Dist::Zilla::Plugin::Test::EOL                => 0.18       (want 0.12)   
# Dist::Zilla::Plugin::Test::Kwalitee           => 2.12       (want any version)
# Dist::Zilla::Plugin::Test::MinimumVersion     => 2.000006   (want v2.0.1) 
# Dist::Zilla::Plugin::Test::NoTabs             => 0.15       (want any version)
# Dist::Zilla::Plugin::Test::Perl::Critic       => 3.000      (want 2.112410)
# Dist::Zilla::Plugin::Test::Portability        => 2.000006   (want v2.0.1) 
# Dist::Zilla::Plugin::Test::Synopsis           => 2.000006   (want v2.0.1) 
# Dist::Zilla::Plugin::TestRelease              => 5.043      (want any version)
# Dist::Zilla::Plugin::UploadToCPAN             => 5.043      (want any version)
# Dist::Zilla::Role::MintingProfile::ShareDir   => 5.043      (want any version)
# Dist::Zilla::Role::PluginBundle::Easy         => 5.043      (want any version)
# File::ShareDir::Install                       => 0.10       (want 0.03)   
# File::Spec                                    => 3.63       (want any version)
# IO::Handle                                    => 1.36       (want any version)
# IPC::Open3                                    => 1.20       (want any version)
# Module::Build                                 => 0.4218     (want 0.3601) 
# Moose                                         => 2.1605     (want 2.0)    
# Perl::Critic                                  => 1.126      (want 1.118)  
# Perl::Critic::Bangs                           => 1.10       (want 1.08)   
# Perl::Critic::Lax                             => 0.011      (want any version)
# Perl::Critic::Pulp                            => 90         (want any version)
# Perl::Critic::StricterSubs                    => 0.05       (want any version)
# Perl::Critic::Swift                           => v1.0.3     (want any version)
# Perl::MinimumVersion                          => 1.38       (want any version)
# Perl::OSType                                  => 1.009      (want any version)
# Perl::PrereqScanner                           => 1.023      (want any version)
# Pod::Coverage::TrustPod                       => 0.100003   (want any version)
# Pod::Elemental::Transformer::List             => 0.102000   (want any version)
# Pod::Spell                                    => 1.19       (want any version)
# Pod::Weaver                                   => 4.012      (want 3.101632)
# Pod::Weaver::Config::Assembler                => 4.012      (want any version)
# Pod::Weaver::Section::Installation            => 1.101421   (want any version)
# Pod::Weaver::Section::SeeAlso                 => 1.003      (want any version)
# Pod::Weaver::Section::Support                 => 1.007      (want any version)
# Pod::Weaver::Section::WarrantyDisclaimer      => 0.121290   (want any version)
# Test::CPAN::Meta                              => 0.25       (want any version)
# Test::More                                    => 1.001014   (want 0.88)   
# Test::Perl::Critic                            => 1.03       (want any version)
# Test::Pod::Content                            => 0.0.6      (want any version)
# namespace::autoclean                          => 0.28       (want any version)
# strict                                        => 1.11       (want any version)
# utf8                                          => 1.19       (want any version)
# warnings                                      => 1.36       (want any version)
# 
# Thanks for using my code.  I hope it works for you.
# If not, please try and include this output in the bug report.
# That will help me reproduce the issue and solve your problem.
# 
t/000-report-versions-tiny.t .... ok
t/author-critic.t ............... skipped: these tests are for testing by the author
t/author-test-eol.t ............. skipped: these tests are for testing by the author
t/release-common_spelling.t ..... skipped: these tests are for release candidate testing
t/release-consistent-version.t .. skipped: these tests are for release candidate testing
t/release-cpan-changes.t ........ skipped: these tests are for release candidate testing
t/release-dist-manifest.t ....... skipped: these tests are for release candidate testing
t/release-distmeta.t ............ skipped: these tests are for release candidate testing
t/release-has-version.t ......... skipped: these tests are for release candidate testing
t/release-kwalitee.t ............ skipped: these tests are for release candidate testing
t/release-minimum-version.t ..... skipped: these tests are for release candidate testing
t/release-no-tabs.t ............. skipped: these tests are for release candidate testing
t/release-pod-coverage.t ........ skipped: these tests are for release candidate testing
t/release-pod-syntax.t .......... skipped: these tests are for release candidate testing
All tests successful.
Files=15, Tests=4, 11 wallclock secs ( 0.08 usr +  0.06 sys =  0.14 CPU)
Result: PASS

------------------------------
PREREQUISITES
------------------------------

Prerequisite modules loaded:

requires:

    Module                                           Need     Have    
    ------------------------------------------------ -------- --------
    Carp                                             0        1.40    
    CPAN::Meta::YAML                                 0        0.018   
    Dist::Zilla                                      4.300000 5.043   
    Dist::Zilla::Plugin::ArchiveRelease              0        4.26    
    Dist::Zilla::Plugin::Authority                   0        1.009   
    Dist::Zilla::Plugin::AutoMetaResources           0        1.21    
    Dist::Zilla::Plugin::AutoPrereqs                 0        5.043   
    Dist::Zilla::Plugin::ConfirmRelease              0        5.043   
    Dist::Zilla::Plugin::ConsistentVersionTest       0        0.02    
    Dist::Zilla::Plugin::CopyFilesFromBuild          0        0.151680
    Dist::Zilla::Plugin::DualBuilders                0        1.002   
    Dist::Zilla::Plugin::ExecDir                     0        5.043   
    Dist::Zilla::Plugin::ExtraTests                  0        5.043   
    Dist::Zilla::Plugin::FakeRelease                 0        5.043   
    Dist::Zilla::Plugin::GatherDir                   0        5.043   
    Dist::Zilla::Plugin::HasVersionTests             0        1.101420
    Dist::Zilla::Plugin::InstallGuide                0        1.200006
    Dist::Zilla::Plugin::License                     0        5.043   
    Dist::Zilla::Plugin::MakeMaker                   0        5.043   
    Dist::Zilla::Plugin::Manifest                    0        5.043   
    Dist::Zilla::Plugin::ManifestSkip                0        5.043   
    Dist::Zilla::Plugin::MetaConfig                  0        5.043   
    Dist::Zilla::Plugin::MetaJSON                    0        5.043   
    Dist::Zilla::Plugin::MetaNoIndex                 0        5.043   
    Dist::Zilla::Plugin::MetaTests                   0        5.043   
    Dist::Zilla::Plugin::MetaYAML                    0        5.043   
    Dist::Zilla::Plugin::MinimumPerl                 0        1.006   
    Dist::Zilla::Plugin::ModuleBuild                 0        5.043   
    Dist::Zilla::Plugin::NextRelease                 0        5.043   
    Dist::Zilla::Plugin::PkgVersion                  0        5.043   
    Dist::Zilla::Plugin::PodCoverageTests            0        5.043   
    Dist::Zilla::Plugin::PodSyntaxTests              0        5.043   
    Dist::Zilla::Plugin::PodWeaver                   0        4.006   
    Dist::Zilla::Plugin::PruneCruft                  0        5.043   
    Dist::Zilla::Plugin::ReadmeAnyFromPod            0        0.160630
    Dist::Zilla::Plugin::ReportVersions::Tiny        0        1.12    
    Dist::Zilla::Plugin::ShareDir                    0        5.043   
    Dist::Zilla::Plugin::SpellingCommonMistakesTests 0        1.001000
    Dist::Zilla::Plugin::Test::Compile               1.112400 2.054   
    Dist::Zilla::Plugin::Test::CPAN::Changes         0.005    0.009   
    Dist::Zilla::Plugin::Test::DistManifest          v2.0.1   2.000005
    Dist::Zilla::Plugin::Test::EOL                   0.12     0.18    
    Dist::Zilla::Plugin::Test::Kwalitee              0        2.12    
    Dist::Zilla::Plugin::Test::MinimumVersion        v2.0.1   2.000006
    Dist::Zilla::Plugin::Test::NoTabs                0        0.15    
    Dist::Zilla::Plugin::Test::Perl::Critic          2.112410 3.000   
    Dist::Zilla::Plugin::Test::Portability           v2.0.1   2.000006
    Dist::Zilla::Plugin::Test::Synopsis              v2.0.1   2.000006
    Dist::Zilla::Plugin::TestRelease                 0        5.043   
    Dist::Zilla::Plugin::UploadToCPAN                0        5.043   
    Dist::Zilla::Role::MintingProfile::ShareDir      0        5.043   
    Dist::Zilla::Role::PluginBundle::Easy            0        5.043   
    File::ShareDir                                   1.00     1.102   
    Moose                                            2.0      2.1605  
    namespace::autoclean                             0        0.28    
    perl                                             5.010    5.024000
    Perl::Critic                                     1.118    1.126   
    Perl::Critic::Bangs                              1.08     1.10    
    Perl::Critic::Lax                                0        0.011   
    Perl::Critic::Pulp                               0        90      
    Perl::Critic::StricterSubs                       0        0.05    
    Perl::Critic::Swift                              0        v1.0.3  
    Perl::MinimumVersion                             0        1.38    
    Perl::OSType                                     0        1.009   
    Perl::PrereqScanner                              0        1.023   
    Pod::Coverage::TrustPod                          0        0.100003
    Pod::Elemental::Transformer::List                0        0.102000
    Pod::Spell                                       0        1.19    
    Pod::Weaver                                      3.101632 4.012   
    Pod::Weaver::Config::Assembler                   0        4.012   
    Pod::Weaver::Section::Installation               0        1.101421
    Pod::Weaver::Section::SeeAlso                    0        1.003   
    Pod::Weaver::Section::Support                    0        1.007   
    Pod::Weaver::Section::WarrantyDisclaimer         0        0.121290
    strict                                           0        1.11    
    Test::CPAN::Meta                                 0        0.25    
    Test::Perl::Critic                               0        1.03    
    Test::Pod::Content                               0        0.0.6   
    utf8                                             0        1.19    
    warnings                                         0        1.36    

build_requires:

    Module                                           Need     Have    
    ------------------------------------------------ -------- --------
    Dist::Zilla::Plugin::Bootstrap::lib              0        1.001000
    File::Spec                                       0        3.63    
    IO::Handle                                       0        1.36    
    IPC::Open3                                       0        1.20    
    Module::Build                                    0.3601   0.4218  
    perl                                             5.010    5.024000
    Test::More                                       0.88     1.001014

configure_requires:

    Module                                           Need     Have    
    ------------------------------------------------ -------- --------
    File::ShareDir::Install                          0.03     0.10    
    Module::Build                                    0.3601   0.4218  


------------------------------
ENVIRONMENT AND OTHER CONTEXT
------------------------------

Environment variables:

    AUTOMATED_TESTING = 1
    COMSPEC = C:\WINDOWS\system32\cmd.exe
    NONINTERACTIVE_TESTING = 1
    NUMBER_OF_PROCESSORS = 1
    PATH = C:\Program Files\Far Manager\;C:\WINDOWS\system32;C:\WINDOWS;C:\WINDOWS\System32\Wbem;C:\Strawberry240rc3\c\bin;C:\Strawberry240rc3\perl\site\bin;C:\Strawberry240rc3\perl\bin;C:\Git\cmd
    PERL5LIB = 
    PERL5OPT = 
    PERL5_CPANPLUS_IS_RUNNING = 1676
    PERL5_CPAN_IS_RUNNING = 1676
    PERL5_CPAN_IS_RUNNING_IN_RECURSION = 1324,1676
    PERL_CR_SMOKER_CURRENT = Task::BeLike::LESPEA
    PERL_EXTUTILS_AUTOINSTALL = --defaultdeps
    PERL_HASH_SEED = 0x11111111
    PERL_MM_USE_DEFAULT = 1
    PROCESSOR_IDENTIFIER = x86 Family 16 Model 5 Stepping 3, AuthenticAMD
    TEMP = C:\DOCUME~1\c\LOCALS~1\Temp

Perl special variables (and OS-specific diagnostics, for MSWin32):

    $^X = C:\Strawberry240rc3\perl\bin\perl.exe
    $UID/$EUID = 0 / 0
    $GID = 0
    $EGID = 0
    Win32::GetOSName = WinXP/.Net
    Win32::GetOSVersion = Service Pack 3, 5, 1, 2600, 2, 3, 0, 256, 1
    Win32::FsType = NTFS
    Win32::IsAdminUser = 1

Perl module toolchain versions installed:

    Module              Have    
    ------------------- --------
    CPAN                2.11    
    CPAN::Meta          2.150005
    Cwd                 3.63    
    ExtUtils::CBuilder  0.280225
    ExtUtils::Command   7.10    
    ExtUtils::Install   2.04    
    ExtUtils::MakeMaker 7.10_01 
    ExtUtils::Manifest  1.70    
    ExtUtils::ParseXS   3.31    
    File::Spec          3.63    
    JSON                2.90    
    JSON::PP            2.27400 
    Module::Build       0.4218  
    Module::Signature   0.79    
    Parse::CPAN::Meta   1.4417  
    Test::Harness       3.36    
    Test::More          1.001014
    YAML                1.15    
    YAML::Syck          1.29    
    version             0.9916  


--

Summary of my perl5 (revision 5 version 24 subversion 0) configuration:
   
  Platform:
    osname=MSWin32, osvers=4.0, archname=MSWin32-x86-multi-thread-64int
    uname='Win32 strawberry-perl 5.24.0.1-beta1 #1 Wed Apr 27 22:47:33 2016 i386'
    config_args='undef'
    hint=recommended, useposix=true, d_sigaction=undef
    useithreads=define, usemultiplicity=define
    use64bitint=define, use64bitall=undef, uselongdouble=undef
    usemymalloc=n, bincompat5005=undef
  Compiler:
    cc='gcc', ccflags =' -s -O2 -DWIN32  -DPERL_TEXTMODE_SCRIPTS -DPERL_IMPLICIT_CONTEXT -DPERL_IMPLICIT_SYS -fwrapv -fno-strict-aliasing -mms-bitfields',
    optimize='-s -O2',
    cppflags='-DWIN32'
    ccversion='', gccversion='4.9.2', gccosandvers=''
    intsize=4, longsize=4, ptrsize=4, doublesize=8, byteorder=12345678, doublekind=3
    d_longlong=define, longlongsize=8, d_longdbl=define, longdblsize=12, longdblkind=3
    ivtype='long long', ivsize=8, nvtype='double', nvsize=8, Off_t='long long', lseeksize=8
    alignbytes=8, prototype=define
  Linker and Libraries:
    ld='g++', ldflags ='-s -L"C:\STRAWB~1\perl\lib\CORE" -L"C:\STRAWB~1\c\lib"'
    libpth=C:\STRAWB~1\c\lib C:\STRAWB~1\c\i686-w64-mingw32\lib C:\STRAWB~1\c\lib\gcc\i686-w64-mingw32\4.9.2
    libs=-lmoldname -lkernel32 -luser32 -lgdi32 -lwinspool -lcomdlg32 -ladvapi32 -lshell32 -lole32 -loleaut32 -lnetapi32 -luuid -lws2_32 -lmpr -lwinmm -lversion -lodbc32 -lodbccp32 -lcomctl32
    perllibs=-lmoldname -lkernel32 -luser32 -lgdi32 -lwinspool -lcomdlg32 -ladvapi32 -lshell32 -lole32 -loleaut32 -lnetapi32 -luuid -lws2_32 -lmpr -lwinmm -lversion -lodbc32 -lodbccp32 -lcomctl32
    libc=, so=dll, useshrplib=true, libperl=libperl524.a
    gnulibc_version=''
  Dynamic Linking:
    dlsrc=dl_win32.xs, dlext=xs.dll, d_dlsymun=undef, ccdlflags=' '
    cccdlflags=' ', lddlflags='-mdll -s -L"C:\STRAWB~1\perl\lib\CORE" -L"C:\STRAWB~1\c\lib"'


Characteristics of this binary (from libperl): 
  Compile-time options: HAS_TIMES HAVE_INTERP_INTERN MULTIPLICITY
                        PERLIO_LAYERS PERL_COPY_ON_WRITE
                        PERL_DONT_CREATE_GVSV
                        PERL_HASH_FUNC_ONE_AT_A_TIME_HARD
                        PERL_IMPLICIT_CONTEXT PERL_IMPLICIT_SYS
                        PERL_MALLOC_WRAP PERL_PRESERVE_IVUV USE_64_BIT_INT
                        USE_ITHREADS USE_LARGE_FILES USE_LOCALE
                        USE_LOCALE_COLLATE USE_LOCALE_CTYPE
                        USE_LOCALE_NUMERIC USE_LOCALE_TIME USE_PERLIO
                        USE_PERL_ATOF
  Locally applied patches:
	RC3
  Built under MSWin32
  Compiled at Apr 27 2016 22:55:33
  %ENV:
    PERL5_CPANPLUS_IS_RUNNING="1676"
    PERL5_CPAN_IS_RUNNING="1676"
    PERL5_CPAN_IS_RUNNING_IN_RECURSION="1324,1676"
    PERL_CR_SMOKER_CURRENT="Task::BeLike::LESPEA"
    PERL_EXTUTILS_AUTOINSTALL="--defaultdeps"
    PERL_HASH_SEED="0x11111111"
    PERL_MM_USE_DEFAULT="1"
  @INC:
    C:/Strawberry240rc3/perl/site/lib
    C:/Strawberry240rc3/perl/vendor/lib
    C:/Strawberry240rc3/perl/lib
    .