IO-Stringy v2.113 Perl 5 v5.37.2 x86_64-linux
- Status
- Pass
- From
- James E Keenan
- Dist
-
IO-Stringy v2.113
- Platform
- Perl 5 v5.37.2 x86_64-linux
- Date
- 2022-10-22 13:26:04
- ID
- 1464d02c-520d-11ed-b07c-26e7d4fb6917
This distribution has been tested as part of the CPAN Testers
project, supporting the Perl programming language. See
http://wiki.cpantesters.org/ for more information or email
questions to cpan-testers-discuss@perl.org
--
Dear Chase Whitener,
This is a computer-generated report for IO-Stringy-2.113
on perl 5.37.2, created by CPAN-Reporter-1.2018.
Thank you for uploading your work to CPAN. Congratulations!
All tests were successful.
Sections of this report:
* Tester comments
* Program output
* Prerequisites
* Environment and other context
------------------------------
TESTER COMMENTS
------------------------------
Additional comments from tester:
none provided
------------------------------
PROGRAM OUTPUT
------------------------------
Output from '/usr/bin/make test':
PERL_DL_NONLAZY=1 "/home/jkeenan/testing/v5.37.2/bin/perl" "-MExtUtils::Command::MM" "-MTest::Harness" "-e" "undef *Test::Harness::Switches; test_harness(0, 'blib/lib', 'blib/arch')" t/*.t
#
# Versions for all modules listed in MYMETA.json (including optional ones):
#
# === Configure Requires ===
#
# Module Want Have
# ------------------- ---- ----
# ExtUtils::MakeMaker any 7.64
#
# === Build Requires ===
#
# Module Want Have
# ------------------- ---- ----
# ExtUtils::MakeMaker any 7.64
#
# === Test Requires ===
#
# Module Want Have
# ------------------- ---- --------
# ExtUtils::MakeMaker any 7.64
# File::Basename any 2.85
# File::Spec any 3.86
# File::Temp any 0.2311
# FileHandle any 2.04
# IO::File any 1.48
# IO::Handle any 1.49
# Symbol any 1.09
# Test::More 0.88 1.302191
# Test::Tester any 1.302191
# strict any 1.12
# warnings any 1.58
#
# === Test Recommends ===
#
# Module Want Have
# ---------- -------- --------
# CPAN::Meta 2.120900 2.150010
#
# === Runtime Requires ===
#
# Module Want Have
# ---------- ---- -----
# Carp any 1.53
# Exporter 5.57 5.77
# File::Spec any 3.86
# FileHandle any 2.04
# IO::File any 1.48
# IO::Handle any 1.49
# Symbol any 1.09
# overload any 1.35
# parent any 0.238
# strict any 1.12
# warnings any 1.58
#
t/00-report-prereqs.t .. ok
t/IO_InnerFile.t ....... ok
t/IO_Lines.t ........... ok
t/IO_Scalar.t .......... ok
t/IO_ScalarArray.t ..... ok
t/IO_WrapTie.t ......... ok
t/simple.t ............. ok
t/two.t ................ ok
All tests successful.
Files=8, Tests=127, 1 wallclock secs ( 0.02 usr 0.02 sys + 0.43 cusr 0.05 csys = 0.52 CPU)
Result: PASS
------------------------------
PREREQUISITES
------------------------------
Prerequisite modules loaded:
requires:
Module Need Have
------------------- -------- --------
Carp 0 1.53
Exporter 5.57 5.77
File::Spec 0 3.86
FileHandle 0 2.04
IO::File 0 1.48
IO::Handle 0 1.49
overload 0 1.35
parent 0 0.238
strict 0 1.12
Symbol 0 1.09
warnings 0 1.58
build_requires:
Module Need Have
------------------- -------- --------
ExtUtils::MakeMaker 0 7.64
File::Basename 0 2.85
File::Spec 0 3.86
File::Temp 0 0.2311
FileHandle 0 2.04
IO::File 0 1.48
IO::Handle 0 1.49
strict 0 1.12
Symbol 0 1.09
Test::More 0.88 1.302191
Test::Tester 0 1.302191
warnings 0 1.58
configure_requires:
Module Need Have
------------------- -------- --------
ExtUtils::MakeMaker 0 7.64
opt_build_requires:
Module Need Have
------------------- -------- --------
CPAN::Meta 2.120900 2.150010
------------------------------
ENVIRONMENT AND OTHER CONTEXT
------------------------------
Environment variables:
LANG = en_US.UTF-8
NONINTERACTIVE_TESTING = 1
PATH = /home/jkeenan/perl5/perlbrew/bin:/home/jkeenan/perl5/perlbrew/perls/perl-5.36.0/bin:/usr/lib/ccache:/usr/local/bin:/usr/bin:/bin:/usr/local/games:/usr/games:/home/jkeenan/bin:/home/jkeenan/bin/perl:/home/jkeenan/bin/shell
PERL5LIB =
PERL5OPT =
PERL5_CPANPLUS_IS_RUNNING = 431509
PERL5_CPAN_IS_RUNNING = 431509
PERLBREW_HOME = /home/jkeenan/.perlbrew
PERLBREW_MANPATH = /home/jkeenan/perl5/perlbrew/perls/perl-5.36.0/man
PERLBREW_PATH = /home/jkeenan/perl5/perlbrew/bin:/home/jkeenan/perl5/perlbrew/perls/perl-5.36.0/bin
PERLBREW_PERL = perl-5.36.0
PERLBREW_ROOT = /home/jkeenan/perl5/perlbrew
PERLBREW_SHELLRC_VERSION = 0.91
PERLBREW_VERSION = 0.91
PERL_MM_USE_DEFAULT = 1
PERL_USE_UNSAFE_INC = 1
PERL_WORKDIR = /home/jkeenan/gitwork/perl
SHELL = /bin/bash
TERM = xterm-256color
Perl special variables (and OS-specific diagnostics, for MSWin32):
$^X = /home/jkeenan/testing/v5.37.2/bin/perl
$UID/$EUID = 1000 / 1000
$GID = 1000 27 1000
$EGID = 1000 27 1000
Perl module toolchain versions installed:
Module Have
------------------- --------
CPAN 2.34
CPAN::Meta 2.150010
Cwd 3.86
ExtUtils::CBuilder 0.280237
ExtUtils::Command 7.64
ExtUtils::Install 2.20
ExtUtils::MakeMaker 7.64
ExtUtils::Manifest 1.73
ExtUtils::ParseXS 3.45
File::Spec 3.86
JSON n/a
JSON::PP 4.10
Module::Build 0.4231
Module::Signature n/a
Parse::CPAN::Meta 2.150010
Test::Harness 3.44
Test::More 1.302191
YAML n/a
YAML::Syck n/a
version 0.9929
--
Summary of my perl5 (revision 5 version 37 subversion 2) configuration:
Commit id: 7f9b65d969a1c8b44028cacbb9e88596d1e5a8a3
Platform:
osname=linux
osvers=5.10.0-18-amd64
archname=x86_64-linux
uname='linux bullseye 5.10.0-18-amd64 #1 smp debian 5.10.140-1 (2022-09-02) x86_64 gnulinux '
config_args='-des -Dusedevel -Uversiononly -Dprefix=/home/jkeenan/testing/v5.37.2 -Dman1dir=none -Dman3dir=none'
hint=recommended
useposix=true
d_sigaction=define
useithreads=undef
usemultiplicity=undef
use64bitint=define
use64bitall=define
uselongdouble=undef
usemymalloc=n
default_inc_excludes_dot=define
Compiler:
cc='cc'
ccflags ='-fwrapv -fno-strict-aliasing -pipe -fstack-protector-strong -I/usr/local/include -D_LARGEFILE_SOURCE -D_FILE_OFFSET_BITS=64 -D_FORTIFY_SOURCE=2'
optimize='-O2'
cppflags='-fwrapv -fno-strict-aliasing -pipe -fstack-protector-strong -I/usr/local/include'
ccversion=''
gccversion='10.2.1 20210110'
gccosandvers=''
intsize=4
longsize=8
ptrsize=8
doublesize=8
byteorder=12345678
doublekind=3
d_longlong=define
longlongsize=8
d_longdbl=define
longdblsize=16
longdblkind=3
ivtype='long'
ivsize=8
nvtype='double'
nvsize=8
Off_t='off_t'
lseeksize=8
alignbytes=8
prototype=define
Linker and Libraries:
ld='cc'
ldflags =' -fstack-protector-strong -L/usr/local/lib'
libpth=/usr/local/lib /usr/lib/x86_64-linux-gnu /usr/lib /usr/lib64
libs=-lpthread -lnsl -ldl -lm -lcrypt -lutil -lc
perllibs=-lpthread -lnsl -ldl -lm -lcrypt -lutil -lc
libc=libc-2.31.so
so=so
useshrplib=false
libperl=libperl.a
gnulibc_version='2.31'
Dynamic Linking:
dlsrc=dl_dlopen.xs
dlext=so
d_dlsymun=undef
ccdlflags='-Wl,-E'
cccdlflags='-fPIC'
lddlflags='-shared -O2 -L/usr/local/lib -fstack-protector-strong'
Characteristics of this binary (from libperl):
Compile-time options:
HAS_TIMES
PERLIO_LAYERS
PERL_COPY_ON_WRITE
PERL_DONT_CREATE_GVSV
PERL_MALLOC_WRAP
PERL_OP_PARENT
PERL_PRESERVE_IVUV
PERL_USE_DEVEL
PERL_USE_SAFE_PUTENV
USE_64_BIT_ALL
USE_64_BIT_INT
USE_LARGE_FILES
USE_LOCALE
USE_LOCALE_COLLATE
USE_LOCALE_CTYPE
USE_LOCALE_NUMERIC
USE_LOCALE_TIME
USE_PERLIO
USE_PERL_ATOF
Built under linux
Compiled at Oct 22 2022 12:52:17
%ENV:
PERL5LIB=""
PERL5OPT=""
PERL5_CPANPLUS_IS_RUNNING="431509"
PERL5_CPAN_IS_RUNNING="431509"
PERLBREW_HOME="/home/jkeenan/.perlbrew"
PERLBREW_MANPATH="/home/jkeenan/perl5/perlbrew/perls/perl-5.36.0/man"
PERLBREW_PATH="/home/jkeenan/perl5/perlbrew/bin:/home/jkeenan/perl5/perlbrew/perls/perl-5.36.0/bin"
PERLBREW_PERL="perl-5.36.0"
PERLBREW_ROOT="/home/jkeenan/perl5/perlbrew"
PERLBREW_SHELLRC_VERSION="0.91"
PERLBREW_VERSION="0.91"
PERL_MM_USE_DEFAULT="1"
PERL_USE_UNSAFE_INC="1"
PERL_WORKDIR="/home/jkeenan/gitwork/perl"
@INC:
/home/jkeenan/testing/v5.37.2/lib/perl5/site_perl/5.37.2/x86_64-linux
/home/jkeenan/testing/v5.37.2/lib/perl5/site_perl/5.37.2
/home/jkeenan/testing/v5.37.2/lib/perl5/5.37.2/x86_64-linux
/home/jkeenan/testing/v5.37.2/lib/perl5/5.37.2
.