MooX-Role-JSON_LD v0.0.15 Perl 5 v5.18.4 amd64-freebsd
- Status
- Pass
- From
- Nigel Horne
- Dist
-
MooX-Role-JSON_LD v0.0.15
- Platform
- Perl 5 v5.18.4 amd64-freebsd
- Date
- 2018-08-02 05:22:42
- ID
- 149807b2-9614-11e8-8c0c-3d9fb8d57a06
This distribution has been tested as part of the CPAN Testers
project, supporting the Perl programming language. See
http://wiki.cpantesters.org/ for more information or email
questions to cpan-testers-discuss@perl.org
--
Dear Dave Cross,
This is a computer-generated report for MooX-Role-JSON_LD-0.0.15
on perl 5.18.4, created by CPAN-Reporter-1.2018.
Thank you for uploading your work to CPAN. Congratulations!
All tests were successful.
Sections of this report:
* Tester comments
* Program output
* Prerequisites
* Environment and other context
------------------------------
TESTER COMMENTS
------------------------------
Additional comments from tester:
this report is from an automated smoke testing program
and was not reviewed by a human for accuracy
------------------------------
PROGRAM OUTPUT
------------------------------
Output from '/usr/bin/make test':
PERL_DL_NONLAZY=1 "/usr/home/njh/perl5/perlbrew/perls/perl-5.18.4/bin/perl" "-MExtUtils::Command::MM" "-MTest::Harness" "-e" "undef *Test::Harness::Switches; test_harness(0, 'blib/lib', 'blib/arch')" t/*.t
t/01-load.t ................ ok
t/02-moo-basic.t ........... ok
t/02-moo-moox-json_ld.t .... ok
t/03-moose-basic.t ......... ok
t/04-moox-json-subclass.t .. ok
t/05-moo-nested.t .......... ok
All tests successful.
Files=6, Tests=45, 1 wallclock secs ( 0.00 usr 0.03 sys + 0.81 cusr 0.27 csys = 1.11 CPU)
Result: PASS
------------------------------
PREREQUISITES
------------------------------
Prerequisite modules loaded:
requires:
Module Need Have
-------------------- -------- --------
JSON::MaybeXS 0 1.004000
Moo 0 2.003004
Moose 0 2.2011
perl 5.006000 5.018004
Sub::Quote 0 2.005001
Types::Standard 0 1.004002
build_requires:
Module Need Have
-------------------- -------- --------
namespace::autoclean 0 0.28
Test::More 0 1.302136
configure_requires:
Module Need Have
-------------------- -------- --------
ExtUtils::MakeMaker 0 7.34
------------------------------
ENVIRONMENT AND OTHER CONTEXT
------------------------------
Environment variables:
AUTOMATED_TESTING = 1
PATH = /home/njh/perl5/perlbrew/bin:/home/njh/perl5/perlbrew/perls/perl-5.18.4/bin:/home/njh/src/njh/smoker/bin:/sbin:/bin:/usr/sbin:/usr/bin:/usr/local/sbin:/usr/local/bin
PERL5LIB = /home/njh/.cpan/build/Type-Tiny-1.004002-0/blib/arch:/home/njh/.cpan/build/Type-Tiny-1.004002-0/blib/lib:/home/njh/.cpan/build/Moo-2.003004-0/blib/arch:/home/njh/.cpan/build/Moo-2.003004-0/blib/lib:/home/njh/.cpan/build/Sub-Quote-2.005001-0/blib/arch:/home/njh/.cpan/build/Sub-Quote-2.005001-0/blib/lib:/home/njh/.cpan/build/Role-Tiny-2.000006-0/blib/arch:/home/njh/.cpan/build/Role-Tiny-2.000006-0/blib/lib:/home/njh/.cpan/build/Class-Method-Modifiers-2.12-0/blib/arch:/home/njh/.cpan/build/Class-Method-Modifiers-2.12-0/blib/lib:/home/njh/.cpan/build/HTTP-Tiny-0.075-0/blib/arch:/home/njh/.cpan/build/HTTP-Tiny-0.075-0/blib/lib
PERL5OPT =
PERL5_CPANPLUS_IS_RUNNING = 70576
PERL5_CPAN_IS_RUNNING = 70576
PERLBREW_HOME = /home/njh/.perlbrew
PERLBREW_MANPATH = /home/njh/perl5/perlbrew/perls/perl-5.18.4/man
PERLBREW_PATH = /home/njh/perl5/perlbrew/bin:/home/njh/perl5/perlbrew/perls/perl-5.18.4/bin
PERLBREW_PERL = perl-5.18.4
PERLBREW_ROOT = /home/njh/perl5/perlbrew
PERLBREW_SHELLRC_VERSION = 0.83
PERLBREW_VERSION = 0.83
SHELL = /bin/sh
TMPDIR = /tmp/testwrapper.70564
Perl special variables (and OS-specific diagnostics, for MSWin32):
$^X = /usr/home/njh/perl5/perlbrew/perls/perl-5.18.4/bin/perl
$UID/$EUID = 1000 / 1000
$GID = 1000 1000 0
$EGID = 1000 1000 0
Perl module toolchain versions installed:
Module Have
------------------- --------
CPAN 2.16
CPAN::Meta 2.150010
Cwd 3.74
ExtUtils::CBuilder 0.280230
ExtUtils::Command 7.34
ExtUtils::Install 2.14
ExtUtils::MakeMaker 7.34
ExtUtils::Manifest 1.71
ExtUtils::ParseXS 3.35
File::Spec 3.74
JSON 2.97001
JSON::PP 2.97001
Module::Build 0.4224
Module::Signature n/a
Parse::CPAN::Meta 2.150010
Test::Harness 3.42
Test::More 1.302136
YAML 1.26
YAML::Syck 1.30
version 0.9924
--
Summary of my perl5 (revision 5 version 18 subversion 4) configuration:
Platform:
osname=freebsd, osvers=11.1-release-p4, archname=amd64-freebsd
uname='freebsd njh3.vultr.com 11.1-release-p4 freebsd 11.1-release-p4 #0: tue nov 14 06:12:40 utc 2017 root@amd64-builder.daemonology.net:usrobjusrsrcsysgeneric amd64 '
config_args='-de -Dprefix=/home/njh/perl5/perlbrew/perls/perl-5.18.4 -Aeval:scriptdir=/home/njh/perl5/perlbrew/perls/perl-5.18.4/bin'
hint=recommended, useposix=true, d_sigaction=define
useithreads=undef, usemultiplicity=undef
useperlio=define, d_sfio=undef, uselargefiles=define, usesocks=undef
use64bitint=define, use64bitall=define, uselongdouble=undef
usemymalloc=n, bincompat5005=undef
Compiler:
cc='cc', ccflags ='-DHAS_FPSETMASK -DHAS_FLOATINGPOINT_H -fno-strict-aliasing -pipe -fstack-protector -I/usr/local/include',
optimize='-O',
cppflags='-DHAS_FPSETMASK -DHAS_FLOATINGPOINT_H -fno-strict-aliasing -pipe -fstack-protector -I/usr/local/include'
ccversion='', gccversion='4.2.1 Compatible FreeBSD Clang 4.0.0 (tags/RELEASE_400/final 297347)', gccosandvers=''
intsize=4, longsize=8, ptrsize=8, doublesize=8, byteorder=12345678
d_longlong=define, longlongsize=8, d_longdbl=define, longdblsize=16
ivtype='long', ivsize=8, nvtype='double', nvsize=8, Off_t='off_t', lseeksize=8
alignbytes=8, prototype=define
Linker and Libraries:
ld='cc', ldflags ='-Wl,-E -fstack-protector -L/usr/local/lib'
libpth=/usr/lib /usr/local/lib
libs=-lm -lcrypt -lutil -lc
perllibs=-lm -lcrypt -lutil -lc
libc=, so=so, useshrplib=false, libperl=libperl.a
gnulibc_version=''
Dynamic Linking:
dlsrc=dl_dlopen.xs, dlext=so, d_dlsymun=undef, ccdlflags=' '
cccdlflags='-DPIC -fPIC', lddlflags='-shared -L/usr/local/lib -fstack-protector'
Characteristics of this binary (from libperl):
Compile-time options: HAS_TIMES PERLIO_LAYERS PERL_DONT_CREATE_GVSV
PERL_HASH_FUNC_ONE_AT_A_TIME_HARD PERL_MALLOC_WRAP
PERL_PRESERVE_IVUV PERL_SAWAMPERSAND USE_64_BIT_ALL
USE_64_BIT_INT USE_LARGE_FILES USE_LOCALE
USE_LOCALE_COLLATE USE_LOCALE_CTYPE
USE_LOCALE_NUMERIC USE_PERLIO USE_PERL_ATOF
Locally applied patches:
Devel::PatchPerl 1.48
Built under freebsd
Compiled at Jun 14 2018 10:28:24
%ENV:
PERL5LIB="/home/njh/.cpan/build/Type-Tiny-1.004002-0/blib/arch:/home/njh/.cpan/build/Type-Tiny-1.004002-0/blib/lib:/home/njh/.cpan/build/Moo-2.003004-0/blib/arch:/home/njh/.cpan/build/Moo-2.003004-0/blib/lib:/home/njh/.cpan/build/Sub-Quote-2.005001-0/blib/arch:/home/njh/.cpan/build/Sub-Quote-2.005001-0/blib/lib:/home/njh/.cpan/build/Role-Tiny-2.000006-0/blib/arch:/home/njh/.cpan/build/Role-Tiny-2.000006-0/blib/lib:/home/njh/.cpan/build/Class-Method-Modifiers-2.12-0/blib/arch:/home/njh/.cpan/build/Class-Method-Modifiers-2.12-0/blib/lib:/home/njh/.cpan/build/HTTP-Tiny-0.075-0/blib/arch:/home/njh/.cpan/build/HTTP-Tiny-0.075-0/blib/lib"
PERL5OPT=""
PERL5_CPANPLUS_IS_RUNNING="70576"
PERL5_CPAN_IS_RUNNING="70576"
PERLBREW_HOME="/home/njh/.perlbrew"
PERLBREW_MANPATH="/home/njh/perl5/perlbrew/perls/perl-5.18.4/man"
PERLBREW_PATH="/home/njh/perl5/perlbrew/bin:/home/njh/perl5/perlbrew/perls/perl-5.18.4/bin"
PERLBREW_PERL="perl-5.18.4"
PERLBREW_ROOT="/home/njh/perl5/perlbrew"
PERLBREW_SHELLRC_VERSION="0.83"
PERLBREW_VERSION="0.83"
@INC:
/home/njh/.cpan/build/Type-Tiny-1.004002-0/blib/arch
/home/njh/.cpan/build/Type-Tiny-1.004002-0/blib/lib
/home/njh/.cpan/build/Moo-2.003004-0/blib/arch
/home/njh/.cpan/build/Moo-2.003004-0/blib/lib
/home/njh/.cpan/build/Sub-Quote-2.005001-0/blib/arch
/home/njh/.cpan/build/Sub-Quote-2.005001-0/blib/lib
/home/njh/.cpan/build/Role-Tiny-2.000006-0/blib/arch
/home/njh/.cpan/build/Role-Tiny-2.000006-0/blib/lib
/home/njh/.cpan/build/Class-Method-Modifiers-2.12-0/blib/arch
/home/njh/.cpan/build/Class-Method-Modifiers-2.12-0/blib/lib
/home/njh/.cpan/build/HTTP-Tiny-0.075-0/blib/arch
/home/njh/.cpan/build/HTTP-Tiny-0.075-0/blib/lib
/home/njh/perl5/perlbrew/perls/perl-5.18.4/lib/site_perl/5.18.4/amd64-freebsd
/home/njh/perl5/perlbrew/perls/perl-5.18.4/lib/site_perl/5.18.4
/home/njh/perl5/perlbrew/perls/perl-5.18.4/lib/5.18.4/amd64-freebsd
/home/njh/perl5/perlbrew/perls/perl-5.18.4/lib/5.18.4
.