Report for Wiki-Toolkit-0.79

Back
From: metabase:user:320bfe00-2aae-11df-837a-5e0a49663a4f
Subject: PASS Wiki-Toolkit-0.79 v5.13.5 GNU/Linux
Date: 2010-09-22T03:11:24Z

This distribution has been tested as part of the CPAN Testers
project, supporting the Perl programming language.  See
http://wiki.cpantesters.org/ for more information or email
questions to cpan-testers-discuss@perl.org


--
Dear Dominic Hargreaves,

This is a computer-generated report for Wiki-Toolkit-0.79
on perl 5.13.5, created by CPAN-Reporter-1.1801.

Thank you for uploading your work to CPAN.  Congratulations!
All tests were successful.

Sections of this report:

    * Tester comments
    * Program output
    * Prerequisites
    * Environment and other context

------------------------------
TESTER COMMENTS
------------------------------

Additional comments from tester:

none provided

------------------------------
PROGRAM OUTPUT
------------------------------

Output from '/usr/bin/make test':

make[1]: Entering directory `/home/sand/.cpan/build/Wiki-Toolkit-0.79-ri1u4y'
PERL_DL_NONLAZY=1 /home/src/perl/repoperls/installed-perls/perl/v5.13.5-49-ga6485a2/bin/perl "-MExtUtils::Command::MM" "-e" "test_harness(0, 'blib/lib', 'blib/arch')" t/*.t
t/001_load.t ........................... ok
t/002_datastore_setup.t ................ ok
t/003_instantiate.t .................... ok
t/004_write_and_retrieve.t ............. skipped: no backends configured
t/005_delete.t ......................... skipped: no backends configured
t/006_list_all.t ....................... skipped: no backends configured
t/007_search.t ......................... skipped: no backends configured
t/008_write_and_rewrite.t .............. skipped: no backends configured
t/009_backlinks.t ...................... skipped: no backends configured
t/010_metadata.t ....................... skipped: no backends configured
t/011_recent_changes.t ................. skipped: no backends configured
t/012_blank_data.t ..................... skipped: no backends configured
t/013_fuzzy_title_match.t .............. skipped: no backends configured
t/014_advanced_metadata.t .............. skipped: no backends configured
t/015_dangling_links.t ................. skipped: no backends configured
t/016_recent_changes_between.t ......... skipped: no backends configured
t/017_delete_version.t ................. skipped: no backends configured
t/018_rc_multiple_metadata_criteria.t .. skipped: no backends configured
t/019_recent_changes_case.t ............ skipped: no backends configured
t/020_node_exists_case_insensitive.t ... skipped: no backends configured
t/021_moderation.t ..................... skipped: no backends configured
t/022_list_unmoderated.t ............... skipped: no backends configured
t/025_list_node_all_versions.t ......... skipped: no backends configured
t/026_schema_current.t ................. skipped: no backends configured
t/027_list_last_version_before.t ....... skipped: no backends configured
t/040_rename.t ......................... skipped: no backends configured
t/050_mysql_store.t .................... ok
t/051_pg_store.t ....................... ok
t/052_sqlite_store.t ................... ok
t/060_recent_changes_new_only.t ........ skipped: no backends configured
t/061_list_metadata_by_type.t .......... skipped: no backends configured
t/100_formatting.t ..................... ok
t/101_default_formatter.t .............. ok
t/102_multiple_formatter.t ............. ok
t/150_plugins.t ........................ skipped: no backends configured
t/151_plugin_methods.t ................. skipped: no backends configured
t/152_pre_plugin_approval.t ............ skipped: no backends configured
t/297_feed_rss_recentchanges.t ......... ok
t/298_feed_rss_node_all_versions.t ..... ok
t/299_feed_rss_gen_node_dist_feed.t .... ok
t/300_feed_atom_setup.t ................ ok
t/301_feed_atom_add_test_data.t ........ ok
Use of qw(...) as parentheses is deprecated at /home/sand/.cpan/build/Wiki-Toolkit-0.79-ri1u4y/blib/lib/Wiki/Toolkit/Feed/Atom.pm line 214.
t/302_feed_atom_recentchanges.t ........ ok
Use of qw(...) as parentheses is deprecated at /home/sand/.cpan/build/Wiki-Toolkit-0.79-ri1u4y/blib/lib/Wiki/Toolkit/Feed/Atom.pm line 214.
t/303_feed_atom_node_all_versions.t .... ok
Use of qw(...) as parentheses is deprecated at /home/sand/.cpan/build/Wiki-Toolkit-0.79-ri1u4y/blib/lib/Wiki/Toolkit/Feed/Atom.pm line 214.
t/304_feed_atom_gen_node_dist_feed.t ... ok
t/400_upgrade.t ........................ skipped: no backends configured
t/401_null_change.t .................... skipped: no backends configured
t/500_pod.t ............................ ok
All tests successful.
Files=48, Tests=417,  4 wallclock secs ( 0.19 usr  0.07 sys +  2.81 cusr  0.39 csys =  3.46 CPU)
Result: PASS
make[1]: Leaving directory `/home/sand/.cpan/build/Wiki-Toolkit-0.79-ri1u4y'

------------------------------
PREREQUISITES
------------------------------

Prerequisite modules loaded:

requires:

    Module              Need Have   
    ------------------- ---- -------
    DBI                 0    1.614  
    Digest::MD5         0    2.40   
    HTML::PullParser    0    3.57   
    Test::More          0    0.97_01
    Text::WikiFormat    0.78 0.79   
    Time::Piece         0    1.20_01

build_requires:

    Module              Need Have   
    ------------------- ---- -------
    ExtUtils::MakeMaker 0    6.57_05


------------------------------
ENVIRONMENT AND OTHER CONTEXT
------------------------------

Environment variables:

    LANG = en_US.UTF-8
    PATH = /home/sand/bin:/usr/local/bin:/usr/bin:/bin:/usr/bin/X11:/usr/games:/usr/local/perl/bin:/usr/X11/bin:/sbin:/usr/sbin
    PERL5LIB = 
    PERL5OPT = 
    PERL5_CPANPLUS_IS_RUNNING = 22847
    PERL5_CPAN_IS_RUNNING = 22847
    SHELL = /usr/bin/zsh
    TERM = screen

Perl special variables (and OS-specific diagnostics, for MSWin32):

    $^X = /home/src/perl/repoperls/installed-perls/perl/v5.13.5-49-ga6485a2/bin/perl
    $UID/$EUID = 1001 / 1001
    $GID = 1001 1001
    $EGID = 1001 1001

Perl module toolchain versions installed:

    Module              Have   
    ------------------- -------
    CPAN                1.94_57
    Cwd                 3.33   
    ExtUtils::CBuilder  0.2703 
    ExtUtils::Command   1.16   
    ExtUtils::Install   1.55   
    ExtUtils::MakeMaker 6.57_05
    ExtUtils::Manifest  1.58   
    ExtUtils::ParseXS   2.2207 
    File::Spec          3.33   
    Module::Build       0.3607 
    Module::Signature   0.66   
    Test::Harness       3.22   
    Test::More          0.97_01
    YAML                0.72   
    YAML::Syck          1.14   
    version             0.82   


--

Summary of my perl5 (revision 5 version 13 subversion 5) configuration:
  Commit id: a6485a247941d126734ee4585a7e19bf7e31097e
  Platform:
    osname=linux, osvers=2.6.32-2-amd64, archname=x86_64-linux-thread-multi-ld
    uname='linux k81 2.6.32-2-amd64 #1 smp fri feb 12 00:01:47 utc 2010 x86_64 gnulinux '
    config_args='-Dprefix=/home/src/perl/repoperls/installed-perls/perl/v5.13.5-49-ga6485a2 -Dinstallusrbinperl=n -Uversiononly -Dusedevel -des -Ui_db -Duseithreads -Duselongdouble'
    hint=recommended, useposix=true, d_sigaction=define
    useithreads=define, usemultiplicity=define
    useperlio=define, d_sfio=undef, uselargefiles=define, usesocks=undef
    use64bitint=define, use64bitall=define, uselongdouble=define
    usemymalloc=n, bincompat5005=undef
  Compiler:
    cc='cc', ccflags ='-D_REENTRANT -D_GNU_SOURCE -fno-strict-aliasing -pipe -fstack-protector -I/usr/local/include -D_LARGEFILE_SOURCE -D_FILE_OFFSET_BITS=64',
    optimize='-O2',
    cppflags='-D_REENTRANT -D_GNU_SOURCE -fno-strict-aliasing -pipe -fstack-protector -I/usr/local/include'
    ccversion='', gccversion='4.4.4', gccosandvers=''
    intsize=4, longsize=8, ptrsize=8, doublesize=8, byteorder=12345678
    d_longlong=define, longlongsize=8, d_longdbl=define, longdblsize=16
    ivtype='long', ivsize=8, nvtype='long double', nvsize=16, Off_t='off_t', lseeksize=8
    alignbytes=16, prototype=define
  Linker and Libraries:
    ld='cc', ldflags =' -fstack-protector -L/usr/local/lib'
    libpth=/usr/local/lib /lib /usr/lib /lib64 /usr/lib64
    libs=-lnsl -lgdbm -ldb -ldl -lm -lcrypt -lutil -lpthread -lc -lgdbm_compat
    perllibs=-lnsl -ldl -lm -lcrypt -lutil -lpthread -lc
    libc=/lib/libc-2.11.2.so, so=so, useshrplib=false, libperl=libperl.a
    gnulibc_version='2.11.2'
  Dynamic Linking:
    dlsrc=dl_dlopen.xs, dlext=so, d_dlsymun=undef, ccdlflags='-Wl,-E'
    cccdlflags='-fPIC', lddlflags='-shared -O2 -L/usr/local/lib -fstack-protector'


Characteristics of this binary (from libperl): 
  Compile-time options: MULTIPLICITY PERL_DONT_CREATE_GVSV
                        PERL_IMPLICIT_CONTEXT PERL_MALLOC_WRAP PERL_USE_DEVEL
                        USE_64_BIT_ALL USE_64_BIT_INT USE_ITHREADS
                        USE_LARGE_FILES USE_LONG_DOUBLE USE_PERLIO
                        USE_PERL_ATOF USE_REENTRANT_API
  Built under linux
  Compiled at Sep 22 2010 03:24:52
  %ENV:
    PERL5LIB=""
    PERL5OPT=""
    PERL5_CPANPLUS_IS_RUNNING="22847"
    PERL5_CPAN_IS_RUNNING="22847"
  @INC:
    /home/src/perl/repoperls/installed-perls/perl/v5.13.5-49-ga6485a2/lib/site_perl/5.13.5/x86_64-linux-thread-multi-ld
    /home/src/perl/repoperls/installed-perls/perl/v5.13.5-49-ga6485a2/lib/site_perl/5.13.5
    /home/src/perl/repoperls/installed-perls/perl/v5.13.5-49-ga6485a2/lib/5.13.5/x86_64-linux-thread-multi-ld
    /home/src/perl/repoperls/installed-perls/perl/v5.13.5-49-ga6485a2/lib/5.13.5
    .