Log-Any-Plugin v0.012 Perl 5 v5.36.0 x86_64-linux
- Status
- Pass
- From
- Slaven Rezić
- Dist
-
Log-Any-Plugin v0.012
- Platform
- Perl 5 v5.36.0 x86_64-linux
- Date
- 2023-12-26 09:42:27
- ID
- 14c20a8a-a3d3-11ee-9dd3-d7e06d8775ea
This distribution has been tested as part of the CPAN Testers
project, supporting the Perl programming language. See
http://wiki.cpantesters.org/ for more information or email
questions to cpan-testers-discuss@perl.org
--
Dear Stephen Thirlwall,
This is a computer-generated report for Log-Any-Plugin-0.012
on perl 5.36.0, created by CPAN-Reporter-1.2018.
Thank you for uploading your work to CPAN. Congratulations!
All tests were successful.
Sections of this report:
* Tester comments
* Program output
* Prerequisites
* Environment and other context
------------------------------
TESTER COMMENTS
------------------------------
Additional comments from tester:
none provided
------------------------------
PROGRAM OUTPUT
------------------------------
Output from '/usr/bin/make test':
PERL_DL_NONLAZY=1 "/opt/perl-5.36.0/bin/perl" "-MExtUtils::Command::MM" "-MTest::Harness" "-e" "undef *Test::Harness::Switches; test_harness(0, 'blib/lib', 'blib/arch')" t/*.t t/plugin/*.t
t/00-compile.t ...................... ok
t/author-critic.t ................... skipped: these tests are for testing by the author
t/author-distmeta.t ................. skipped: these tests are for testing by the author
t/author-eol.t ...................... skipped: these tests are for testing by the author
t/author-no-tabs.t .................. skipped: these tests are for testing by the author
t/author-pod-coverage.t ............. skipped: these tests are for testing by the author
t/author-pod-syntax.t ............... skipped: these tests are for testing by the author
t/author-portability.t .............. skipped: these tests are for testing by the author
t/author-synopsis.t ................. skipped: these tests are for testing by the author
t/plugin/context-stack.t ............ ok
t/plugin/encode-custom.t ............ ok
t/plugin/encode-default.t ........... ok
鸿涠ð© -- adapter with encoding set should have no warnings or errors on wide char output
鸿涠ð© -- adapter with encoding set should have no warnings or errors on wide char output
t/plugin/encode-rationale.t ......... ok
t/plugin/levels.t ................... ok
t/plugin/stringify-alt-separator.t .. ok
t/plugin/stringify.t ................ ok
t/release-check-changes.t ........... skipped: these tests are for release candidate testing
t/release-cpan-changes.t ............ skipped: these tests are for release candidate testing
t/release-meta-json.t ............... skipped: these tests are for release candidate testing
t/util.t ............................ ok
All tests successful.
Files=20, Tests=76, 1 wallclock secs ( 0.04 usr 0.01 sys + 0.62 cusr 0.09 csys = 0.76 CPU)
Result: PASS
------------------------------
PREREQUISITES
------------------------------
Prerequisite modules loaded:
requires:
Module Need Have
----------------------- ----- --------
base 0 2.27
Carp 0 1.52
Class::Load 0 0.25
Data::Dumper 0 2.184
Encode 0 3.19
Exporter 0 5.77
Log::Any 1.00 1.713
Log::Any::Adapter::Util 0 1.713
perl 5.008 5.036000
Scope::Guard 0 0.21
strict 0 1.12
warnings 0 1.58
build_requires:
Module Need Have
----------------------- ----- --------
ExtUtils::MakeMaker 0 7.70
File::Spec 0 3.84
IO::Handle 0 1.51
IPC::Open3 0 1.22
Log::Any::Adapter 0 1.713
Log::Any::Test 0 1.713
Test::Differences 0 0.70
Test::Exception 0 0.43
Test::More 0 1.302196
Test::NoWarnings 0 1.06
Test::Warn 0 0.37
utf8 0 1.24
configure_requires:
Module Need Have
----------------------- ----- --------
ExtUtils::MakeMaker 0 7.70
perl 5.006 5.036000
------------------------------
ENVIRONMENT AND OTHER CONTEXT
------------------------------
Environment variables:
LANG = en_US.UTF-8
PATH = /usr/local/bin:/usr/bin:/bin:/usr/local/sbin:/usr/sbin:/sbin:/home/cpansand/bin/linux-gnu:/home/cpansand/bin/sh:/home/cpansand/bin:/usr/games:/home/cpansand/devel:/home/eserte/src/srezic-misc/scripts
PERL5LIB = /home/cpansand/.cpan/build/2023122609/Log-Any-Adapter-MojoLog-0.04-0/blib/arch:/home/cpansand/.cpan/build/2023122609/Log-Any-Adapter-MojoLog-0.04-0/blib/lib
PERL5OPT =
PERL5_CPANPLUS_IS_RUNNING = 9031
PERL5_CPAN_IS_RUNNING = 9031
PERL5_CPAN_IS_RUNNING_IN_RECURSION = 7205,9031
PERLDOC = -MPod::Perldoc::ToTextOverstrike
PERL_BATCH = yes
PERL_CANARY_STABILITY_NOPROMPT = 1
PERL_CPAN_REPORTER_CONFIG = /var/tmp/cpansmoker-1023/2023122608/cpanreporter_001_config.ini
PERL_EXTUTILS_AUTOINSTALL = --defaultdeps
PERL_USE_UNSAFE_INC = 1
SHELL = /usr/bin/zsh
TERM = screen
TMPDIR = /var/tmp/cpansmoker-1023/2023122608
Perl special variables (and OS-specific diagnostics, for MSWin32):
$^X = /opt/perl-5.36.0/bin/perl
$UID/$EUID = 1023 / 1023
$GID = 1023 1023
$EGID = 1023 1023
Perl module toolchain versions installed:
Module Have
------------------- --------
CPAN 2.36
CPAN::Meta 2.150010
Cwd 3.84
ExtUtils::CBuilder 0.280236
ExtUtils::Command 7.70
ExtUtils::Install 2.20
ExtUtils::MakeMaker 7.70
ExtUtils::Manifest 1.75
ExtUtils::ParseXS 3.51
File::Spec 3.84
JSON 4.10
JSON::PP 4.12
Module::Build 0.4234
Module::Signature 0.88
Parse::CPAN::Meta 2.150010
Test::Harness 3.47
Test::More 1.302196
YAML 1.30
YAML::Syck 1.34
version 0.9930
--
Summary of my perl5 (revision 5 version 36 subversion 0) configuration:
Platform:
osname=linux
osvers=3.10.0-1160.76.1.el7.x86_64
archname=x86_64-linux
uname='linux cloud3.bbbike.org 3.10.0-1160.76.1.el7.x86_64 #1 smp wed aug 10 16:21:17 utc 2022 x86_64 x86_64 x86_64 gnulinux '
config_args='-ds -e -Dprefix=/opt/perl-5.36.0 -Dcf_email=srezic@cpan.org'
hint=recommended
useposix=true
d_sigaction=define
useithreads=undef
usemultiplicity=undef
use64bitint=define
use64bitall=define
uselongdouble=undef
usemymalloc=n
default_inc_excludes_dot=define
Compiler:
cc='cc'
ccflags ='-std=gnu99 -fwrapv -fno-strict-aliasing -pipe -fstack-protector-strong -I/usr/local/include -D_LARGEFILE_SOURCE -D_FILE_OFFSET_BITS=64 -D_FORTIFY_SOURCE=2'
optimize='-O2'
cppflags='-std=gnu99 -fwrapv -fno-strict-aliasing -pipe -fstack-protector-strong -I/usr/local/include'
ccversion=''
gccversion='4.8.5 20150623 (Red Hat 4.8.5-44)'
gccosandvers=''
intsize=4
longsize=8
ptrsize=8
doublesize=8
byteorder=12345678
doublekind=3
d_longlong=define
longlongsize=8
d_longdbl=define
longdblsize=16
longdblkind=3
ivtype='long'
ivsize=8
nvtype='double'
nvsize=8
Off_t='off_t'
lseeksize=8
alignbytes=8
prototype=define
Linker and Libraries:
ld='cc'
ldflags =' -fstack-protector-strong -L/usr/local/lib'
libpth=/usr/local/lib /usr/lib /usr/lib64 /usr/local/lib64
libs=-lpthread -lnsl -lgdbm -ldb -ldl -lm -lcrypt -lutil -lc -lgdbm_compat
perllibs=-lpthread -lnsl -ldl -lm -lcrypt -lutil -lc
libc=libc-2.17.so
so=so
useshrplib=false
libperl=libperl.a
gnulibc_version='2.17'
Dynamic Linking:
dlsrc=dl_dlopen.xs
dlext=so
d_dlsymun=undef
ccdlflags='-Wl,-E'
cccdlflags='-fPIC'
lddlflags='-shared -O2 -L/usr/local/lib -fstack-protector-strong'
Characteristics of this binary (from libperl):
Compile-time options:
HAS_TIMES
PERLIO_LAYERS
PERL_COPY_ON_WRITE
PERL_DONT_CREATE_GVSV
PERL_MALLOC_WRAP
PERL_OP_PARENT
PERL_PRESERVE_IVUV
USE_64_BIT_ALL
USE_64_BIT_INT
USE_LARGE_FILES
USE_LOCALE
USE_LOCALE_COLLATE
USE_LOCALE_CTYPE
USE_LOCALE_NUMERIC
USE_LOCALE_TIME
USE_PERLIO
USE_PERL_ATOF
Built under linux
Compiled at Sep 20 2022 21:40:31
%ENV:
PERL5LIB="/home/cpansand/.cpan/build/2023122609/Log-Any-Adapter-MojoLog-0.04-0/blib/arch:/home/cpansand/.cpan/build/2023122609/Log-Any-Adapter-MojoLog-0.04-0/blib/lib"
PERL5OPT=""
PERL5_CPANPLUS_IS_RUNNING="9031"
PERL5_CPAN_IS_RUNNING="9031"
PERL5_CPAN_IS_RUNNING_IN_RECURSION="7205,9031"
PERLDOC="-MPod::Perldoc::ToTextOverstrike"
PERL_BATCH="yes"
PERL_CANARY_STABILITY_NOPROMPT="1"
PERL_CPAN_REPORTER_CONFIG="/var/tmp/cpansmoker-1023/2023122608/cpanreporter_001_config.ini"
PERL_EXTUTILS_AUTOINSTALL="--defaultdeps"
PERL_USE_UNSAFE_INC="1"
@INC:
/home/cpansand/.cpan/build/2023122609/Log-Any-Adapter-MojoLog-0.04-0/blib/arch
/home/cpansand/.cpan/build/2023122609/Log-Any-Adapter-MojoLog-0.04-0/blib/lib
/opt/perl-5.36.0/lib/site_perl/5.36.0/x86_64-linux
/opt/perl-5.36.0/lib/site_perl/5.36.0
/opt/perl-5.36.0/lib/5.36.0/x86_64-linux
/opt/perl-5.36.0/lib/5.36.0
.