Report for Regexp-Common-2016060801

Back
From: metabase:user:dc1c8589-6bf4-1014-abca-562cf06b08ef
Subject: PASS Regexp-Common-2016060801 v5.20.3 Mac OS X
Date: 2016-06-09T00:49:54Z

This distribution has been tested as part of the CPAN Testers
project, supporting the Perl programming language.  See
http://wiki.cpantesters.org/ for more information or email
questions to cpan-testers-discuss@perl.org


--
Dear Abigail,

This is a computer-generated report for Regexp-Common-2016060801
on perl 5.20.3, created by CPAN-Reporter-1.2017.

Thank you for uploading your work to CPAN.  Congratulations!
All tests were successful.

Sections of this report:

    * Tester comments
    * Program output
    * Prerequisites
    * Environment and other context

------------------------------
TESTER COMMENTS
------------------------------

Additional comments from tester:

none provided

------------------------------
PROGRAM OUTPUT
------------------------------

Output from '/usr/bin/make test':

PERL_DL_NONLAZY=1 "/Users/chadwick/CASE_SENSITIVE_FS/perl5/perlbrew/perls/perl-5.20/bin/perl" "-MExtUtils::Command::MM" "-MTest::Harness" "-e" "undef *Test::Harness::Switches; test_harness(0, 'blib/lib', 'blib/arch')" t/*.t t/*/*.t
t/comment/delimited.t ............ ok
t/comment/html.t ................. ok
t/comment/nested.t ............... ok
t/comment/pascal.t ............... ok
t/comment/single_line.t .......... ok
t/comment/single_or_multiline.t .. ok
t/delimited/101_delimited.t ...... skipped: Test::Regexp not found
t/delimited/111_bquoted.t ........ skipped: Test::Regexp not found
t/net/101_ipv4.t ................. ok
t/net/102_ipv4_strict.t .......... skipped: Test::Regexp not found
t/net/111_ipv6.t ................. ok
t/net/121_mac.t .................. ok
t/net/131_domain.t ............... ok
t/number/101_integer.t ........... skipped: Test::Regexp not found
t/number/111_integer_base.t ...... skipped: Test::Regexp not found
t/number/121_integer_places.t .... skipped: Test::Regexp not found
t/number/122_integer_places.t .... skipped: Test::Regexp not found
t/number/123_integer_places.t .... skipped: Test::Regexp not found
t/number/131_integer_sep.t ....... skipped: Test::Regexp not found
t/number/141_integer_group.t ..... skipped: Test::Regexp not found
t/number/701_squares.t ........... skipped: Test::Regexp not found
t/number/801_roman.t ............. skipped: Test::Regexp not found
t/number/decimal.t ............... ok
t/number/number.t ................ ok
t/SEN/usa_ssn.t .................. ok
t/test___luhn.t .................. ok
t/test_balanced.t ................ ok
t/test_bases.t ................... ok
t/test_bases_sep.t ............... ok
t/test_comments.t ................ ok
t/test_curry.t ................... ok
t/test_i.t ....................... ok
t/test_lingua_palindrome.t ....... ok
t/test_list.t .................... ok
t/test_no_import.t ............... ok
t/test_profanity.t ............... ok
t/test_sub.t ..................... ok
t/test_sub_named.t ............... ok
t/test_ws.t ...................... ok
t/URI/any.t ...................... ok
t/URI/fax.t ...................... ok
t/URI/file.t ..................... ok
t/URI/ftp.t ...................... ok
t/URI/gopher.t ................... ok
t/URI/http.t ..................... ok
t/URI/news.t ..................... ok
t/URI/nntp.t ..................... ok
t/URI/pop.t ...................... ok
t/URI/prospero.t ................. ok
t/URI/tel.t ...................... ok
t/URI/telnet.t ................... ok
t/URI/tv.t ....................... ok
t/URI/wais.t ..................... ok
t/zip/101_austria.t .............. skipped: Test::Regexp not found
t/zip/111_australia.t ............ skipped: Test::Regexp not found
t/zip/112_australia.t ............ skipped: Test::Regexp not found
t/zip/121_belgium.t .............. skipped: Test::Regexp not found
t/zip/131_denmark.t .............. skipped: Test::Regexp not found
t/zip/141_greenland.t ............ skipped: Test::Regexp not found
t/zip/151_norway.t ............... skipped: Test::Regexp not found
t/zip/161_liechtenstein.t ........ skipped: Test::Regexp not found
t/zip/171_switzerland.t .......... skipped: Test::Regexp not found
t/zip/181_italy.t ................ skipped: Test::Regexp not found
t/zip/191_germany.t .............. skipped: Test::Regexp not found
t/zip/201_luxembourg.t ........... skipped: Test::Regexp not found
t/zip/211_france.t ............... skipped: Test::Regexp not found
t/zip/221_monaco.t ............... skipped: Test::Regexp not found
t/zip/231_san-marino.t ........... skipped: Test::Regexp not found
t/zip/241_vatican-city.t ......... skipped: Test::Regexp not found
t/zip/netherlands.t .............. ok
t/zip/spain.t .................... ok
t/zip/us.t ....................... ok
t/zip/zip.t ...................... ok
All tests successful.
Files=73, Tests=149252, 31 wallclock secs (10.55 usr  0.25 sys + 20.35 cusr  0.96 csys = 32.11 CPU)
Result: PASS

------------------------------
PREREQUISITES
------------------------------

Prerequisite modules loaded:

requires:

    Module              Need Have    
    ------------------- ---- --------
    Config              0    5.020003
    perl                5.01 5.020003
    strict              0    1.08    
    vars                0    1.03    
    warnings            0    1.23    

build_requires:

    Module              Need Have    
    ------------------- ---- --------
    Config              0    5.020003
    strict              0    1.08    
    Test::More          0    1.302026
    vars                0    1.03    
    warnings            0    1.23    

configure_requires:

    Module              Need Have    
    ------------------- ---- --------
    Config              0    5.020003
    ExtUtils::MakeMaker 0    7.18    
    perl                5.01 5.020003
    strict              0    1.08    
    vars                0    1.03    
    warnings            0    1.23    

opt_build_requires:

    Module              Need Have    
    ------------------- ---- --------
  ! Test::Regexp        0    n/a     


------------------------------
ENVIRONMENT AND OTHER CONTEXT
------------------------------

Environment variables:

    LANG = ko_KR.UTF-8
    NONINTERACTIVE_TESTING = 1
    PATH = /Users/chadwick/asymptote/bin:/Users/chadwick/bin:/usr/local/bin:/Users/chadwick/.anyenv/envs/pyenv/shims:/Users/chadwick/.anyenv/envs/pyenv/bin:/Users/chadwick/.anyenv/envs/ndenv/shims:/Users/chadwick/.anyenv/envs/ndenv/bin:/Users/chadwick/.anyenv/envs/jenv/shims:/Users/chadwick/.anyenv/envs/jenv/bin:/Users/chadwick/.anyenv/envs/goenv/shims:/Users/chadwick/.anyenv/envs/goenv/bin:/Users/chadwick/.anyenv/bin:/Users/chadwick/.rakudobrew/bin:/Users/chadwick/perl5/perlbrew/bin:/Users/chadwick/perl5/perlbrew/perls/perl-5.20/bin:/usr/local/bin:/usr/bin:/bin:/usr/sbin:/sbin:/opt/X11/bin:/Library/TeX/texbin
    PERL5LIB = 
    PERL5OPT = 
    PERL5_CPANPLUS_IS_RUNNING = 7470
    PERL5_CPAN_IS_RUNNING = 7470
    PERLBREW_BASHRC_VERSION = 0.75
    PERLBREW_HOME = /Users/chadwick/.perlbrew
    PERLBREW_MANPATH = /Users/chadwick/perl5/perlbrew/perls/perl-5.20/man
    PERLBREW_PATH = /Users/chadwick/perl5/perlbrew/bin:/Users/chadwick/perl5/perlbrew/perls/perl-5.20/bin
    PERLBREW_PERL = perl-5.20
    PERLBREW_ROOT = /Users/chadwick/perl5/perlbrew
    PERLBREW_VERSION = 0.75
    PERL_MM_USE_DEFAULT = 1
    SHELL = /usr/local/bin/bash
    TERM = xterm-256color
    TMPDIR = /var/folders/5v/bskbxfxj1dd1rvy3btm829v00000gn/T/

Perl special variables (and OS-specific diagnostics, for MSWin32):

    $^X = /Users/chadwick/CASE_SENSITIVE_FS/perl5/perlbrew/perls/perl-5.20/bin/perl
    $UID/$EUID = 501 / 501
    $GID = 20 20 12 61 79 80 81 98 701 33 100 204 395 398 399
    $EGID = 20 20 12 61 79 80 81 98 701 33 100 204 395 398 399

Perl module toolchain versions installed:

    Module              Have    
    ------------------- --------
    CPAN                2.10    
    CPAN::Meta          2.150005
    Cwd                 3.62    
    ExtUtils::CBuilder  0.280224
    ExtUtils::Command   7.18    
    ExtUtils::Install   2.04    
    ExtUtils::MakeMaker 7.18    
    ExtUtils::Manifest  1.70    
    ExtUtils::ParseXS   3.30    
    File::Spec          3.62    
    JSON                2.90    
    JSON::PP            2.27400 
    Module::Build       0.4218  
    Module::Signature   n/a     
    Parse::CPAN::Meta   1.4417  
    Test::Harness       3.36    
    Test::More          1.302026
    YAML                1.15    
    YAML::Syck          1.29    
    version             0.9917  


--

Summary of my perl5 (revision 5 version 20 subversion 3) configuration:
   
  Platform:
    osname=darwin, osvers=15.5.0, archname=darwin-thread-multi-2level
    uname='darwin chadwick.local 15.5.0 darwin kernel version 15.5.0: tue apr 19 18:36:36 pdt 2016; root:xnu-3248.50.21~8release_x86_64 x86_64 '
    config_args='-de -Dprefix=/Users/chadwick/perl5/perlbrew/perls/perl-5.20 -Dman1dir=none -Dman3dir=none -Dusethreads -Aeval:scriptdir=/Users/chadwick/perl5/perlbrew/perls/perl-5.20/bin'
    hint=recommended, useposix=true, d_sigaction=define
    useithreads=define, usemultiplicity=define
    use64bitint=define, use64bitall=define, uselongdouble=undef
    usemymalloc=n, bincompat5005=undef
  Compiler:
    cc='cc', ccflags ='-fno-common -DPERL_DARWIN -fno-strict-aliasing -pipe -fstack-protector -I/usr/local/include',
    optimize='-O3',
    cppflags='-fno-common -DPERL_DARWIN -fno-strict-aliasing -pipe -fstack-protector -I/usr/local/include'
    ccversion='', gccversion='4.2.1 Compatible Apple LLVM 7.3.0 (clang-703.0.31)', gccosandvers=''
    intsize=4, longsize=8, ptrsize=8, doublesize=8, byteorder=12345678
    d_longlong=define, longlongsize=8, d_longdbl=define, longdblsize=16
    ivtype='long', ivsize=8, nvtype='double', nvsize=8, Off_t='off_t', lseeksize=8
    alignbytes=8, prototype=define
  Linker and Libraries:
    ld='env MACOSX_DEPLOYMENT_TARGET=10.3 cc', ldflags =' -fstack-protector -L/usr/local/lib'
    libpth=/usr/local/lib /Applications/Xcode.app/Contents/Developer/Toolchains/XcodeDefault.xctoolchain/usr/bin/../lib/clang/7.3.0/lib /Applications/Xcode.app/Contents/Developer/Toolchains/XcodeDefault.xctoolchain/usr/lib /usr/lib
    libs=-lpthread -ldbm -ldb -ldl -lm -lutil -lc
    perllibs=-lpthread -ldl -lm -lutil -lc
    libc=, so=dylib, useshrplib=false, libperl=libperl.a
    gnulibc_version=''
  Dynamic Linking:
    dlsrc=dl_dlopen.xs, dlext=bundle, d_dlsymun=undef, ccdlflags=' '
    cccdlflags=' ', lddlflags=' -bundle -undefined dynamic_lookup -L/usr/local/lib -fstack-protector'


Characteristics of this binary (from libperl): 
  Compile-time options: HAS_TIMES MULTIPLICITY PERLIO_LAYERS
                        PERL_DONT_CREATE_GVSV
                        PERL_HASH_FUNC_ONE_AT_A_TIME_HARD
                        PERL_IMPLICIT_CONTEXT PERL_MALLOC_WRAP
                        PERL_NEW_COPY_ON_WRITE PERL_PRESERVE_IVUV
                        USE_64_BIT_ALL USE_64_BIT_INT USE_ITHREADS
                        USE_LARGE_FILES USE_LOCALE USE_LOCALE_COLLATE
                        USE_LOCALE_CTYPE USE_LOCALE_NUMERIC USE_PERLIO
                        USE_PERL_ATOF USE_REENTRANT_API
  Locally applied patches:
	Devel::PatchPerl 1.34
  Built under darwin
  Compiled at May 26 2016 15:44:58
  %ENV:
    PERL5LIB=""
    PERL5OPT=""
    PERL5_CPANPLUS_IS_RUNNING="7470"
    PERL5_CPAN_IS_RUNNING="7470"
    PERLBREW_BASHRC_VERSION="0.75"
    PERLBREW_HOME="/Users/chadwick/.perlbrew"
    PERLBREW_MANPATH="/Users/chadwick/perl5/perlbrew/perls/perl-5.20/man"
    PERLBREW_PATH="/Users/chadwick/perl5/perlbrew/bin:/Users/chadwick/perl5/perlbrew/perls/perl-5.20/bin"
    PERLBREW_PERL="perl-5.20"
    PERLBREW_ROOT="/Users/chadwick/perl5/perlbrew"
    PERLBREW_VERSION="0.75"
    PERL_MM_USE_DEFAULT="1"
  @INC:
    /Users/chadwick/perl5/perlbrew/perls/perl-5.20/lib/site_perl/5.20.3/darwin-thread-multi-2level
    /Users/chadwick/perl5/perlbrew/perls/perl-5.20/lib/site_perl/5.20.3
    /Users/chadwick/perl5/perlbrew/perls/perl-5.20/lib/5.20.3/darwin-thread-multi-2level
    /Users/chadwick/perl5/perlbrew/perls/perl-5.20/lib/5.20.3
    /Users/chadwick/perl5/perlbrew/perls/perl-5.20/lib/site_perl/5.20.2/darwin-thread-multi-2level
    /Users/chadwick/perl5/perlbrew/perls/perl-5.20/lib/site_perl/5.20.2
    /Users/chadwick/perl5/perlbrew/perls/perl-5.20/lib/site_perl
    .