MaxMind-DB-Writer v0.300004 Perl 5 v5.26.2 x86_64-linux-thread-multi-ld

Status
Pass
From
Andreas J. König (ANDK)
Dist
MaxMind-DB-Writer v0.300004
Platform
Perl 5 v5.26.2 x86_64-linux-thread-multi-ld
Date
2023-11-07 12:27:57
ID
153a6a9c-7d69-11ee-8306-c719f9cc417e
This distribution has been tested as part of the CPAN Testers
project, supporting the Perl programming language.  See
http://wiki.cpantesters.org/ for more information or email
questions to cpan-testers-discuss@perl.org


--
Dear MaxMind, Inc.,

This is a computer-generated report for MaxMind-DB-Writer-0.300004
on perl 5.26.2, created by CPAN-Reporter-1.2018.

Thank you for uploading your work to CPAN.  Congratulations!
All tests were successful.

Sections of this report:

    * Tester comments
    * Program output
    * Prerequisites
    * Environment and other context

------------------------------
TESTER COMMENTS
------------------------------

Additional comments from tester:

this report is from an automated smoke testing program
and was not reviewed by a human for accuracy

------------------------------
PROGRAM OUTPUT
------------------------------

Output from './Build test':

# 
# Versions for all modules listed in MYMETA.json (including optional ones):
# 
# === Configure Requires ===
# 
#     Module        Want   Have
#     ------------- ---- ------
#     Module::Build 0.28 0.4231
# 
# === Build Requires ===
# 
#     Module             Want     Have
#     ------------------ ---- --------
#     ExtUtils::CBuilder  any 0.280236
#     Module::Build      0.28   0.4231
# 
# === Test Requires ===
# 
#     Module                          Want     Have
#     ------------------------------- ---- --------
#     Data::Printer                    any 1.001000
#     Devel::Refcount                  any     0.10
#     ExtUtils::MakeMaker              any     7.70
#     File::Spec                       any     3.75
#     File::Temp                       any   0.2311
#     JSON                             any     4.10
#     List::AllUtils                   any     0.19
#     List::Util                       any     1.63
#     MaxMind::DB::Reader              any 1.000014
#     Net::Works::Address              any     0.22
#     Scalar::Util                     any     1.63
#     Test::Bits                       any     0.02
#     Test::Builder                    any 1.302195
#     Test::Fatal                      any    0.017
#     Test::HexDifferences             any    1.001
#     Test::MaxMind::DB::Common::Data  any 0.040001
#     Test::More                      0.96 1.302195
#     Test::Requires                   any     0.11
#     Test::Warnings                   any    0.031
#     lib                              any     0.64
#     utf8                             any     1.19
# 
# === Test Recommends ===
# 
#     Module         Want     Have
#     ---------- -------- --------
#     CPAN::Meta 2.120900 2.150010
# 
# === Runtime Requires ===
# 
#     Module                           Want     Have
#     ---------------------------- -------- --------
#     Carp                              any     1.42
#     Data::Dumper::Concise             any    2.023
#     Data::IEEE754                     any     0.02
#     Digest::MD5                       any     2.55
#     Digest::SHA                       any     6.02
#     Encode                            any     3.19
#     Exporter                          any     5.77
#     IO::Handle                        any     1.51
#     Math::Int128                     0.21     0.22
#     Math::Int64                      0.51     0.54
#     MaxMind::DB::Common          0.031003 0.040001
#     MaxMind::DB::Metadata             any 0.040001
#     MaxMind::DB::Reader::Decoder      any 1.000014
#     MaxMind::DB::Role::Debugs         any 0.040001
#     Moose                             any   2.2206
#     Moose::Util::TypeConstraints      any   2.2206
#     MooseX::Params::Validate          any     0.21
#     MooseX::StrictConstructor         any     0.21
#     Net::Works::Network               any     0.22
#     Sereal::Decoder                   any    5.004
#     Sereal::Encoder                 3.002    5.004
#     Test::Deep::NoTest                any    undef
#     XSLoader                          any     0.27
#     autodie                           any     2.35
#     bytes                             any     1.05
#     constant                          any     1.33
#     namespace::autoclean              any     0.29
#     perl                         5.013002 5.026002
#     strict                            any     1.11
#     warnings                          any     1.37
# 
t/00-report-prereqs.t ...................................... ok
t/MaxMind/DB/Writer/Serializer-deduplication.t ............. ok
t/MaxMind/DB/Writer/Serializer-large-pointer.t ............. ok
t/MaxMind/DB/Writer/Serializer-types/array.t ............... ok
t/MaxMind/DB/Writer/Serializer-types/boolean.t ............. ok
t/MaxMind/DB/Writer/Serializer-types/bytes.t ............... ok
t/MaxMind/DB/Writer/Serializer-types/double.t .............. ok
t/MaxMind/DB/Writer/Serializer-types/end_marker.t .......... ok
t/MaxMind/DB/Writer/Serializer-types/float.t ............... ok
t/MaxMind/DB/Writer/Serializer-types/int32.t ............... ok
t/MaxMind/DB/Writer/Serializer-types/map.t ................. ok
t/MaxMind/DB/Writer/Serializer-types/pointer.t ............. ok
t/MaxMind/DB/Writer/Serializer-types/uint128.t ............. ok
t/MaxMind/DB/Writer/Serializer-types/uint16.t .............. ok
t/MaxMind/DB/Writer/Serializer-types/uint32.t .............. ok
t/MaxMind/DB/Writer/Serializer-types/uint64.t .............. ok
t/MaxMind/DB/Writer/Serializer-types/utf8_string.t ......... ok
t/MaxMind/DB/Writer/Serializer-utf8-as-bytes.t ............. ok
t/MaxMind/DB/Writer/Serializer-utf8-round-trip.t ........... ok
t/MaxMind/DB/Writer/Serializer.t ........................... ok
MaxMind::DB::Writer::Tree is deprecated and should no longer be used at t/MaxMind/DB/Writer/Tree-bigint.t line 7.
t/MaxMind/DB/Writer/Tree-bigint.t .......................... ok
MaxMind::DB::Writer::Tree is deprecated and should no longer be used at t/MaxMind/DB/Writer/Tree-data-references.t line 5.
t/MaxMind/DB/Writer/Tree-data-references.t ................. ok
MaxMind::DB::Writer::Tree is deprecated and should no longer be used at t/lib/Test/MaxMind/DB/Writer.pm line 11.
t/MaxMind/DB/Writer/Tree-freeze-thaw.t ..................... ok
MaxMind::DB::Writer::Tree is deprecated and should no longer be used at t/MaxMind/DB/Writer/Tree-insert-range.t line 6.
t/MaxMind/DB/Writer/Tree-insert-range.t .................... ok
MaxMind::DB::Writer::Tree is deprecated and should no longer be used at t/MaxMind/DB/Writer/Tree-ipv4-and-6.t line 7.
t/MaxMind/DB/Writer/Tree-ipv4-and-6.t ...................... ok
MaxMind::DB::Writer::Tree is deprecated and should no longer be used at t/MaxMind/DB/Writer/Tree-ipv6-aliases.t line 6.
t/MaxMind/DB/Writer/Tree-ipv6-aliases.t .................... ok
MaxMind::DB::Writer::Tree is deprecated and should no longer be used at t/lib/Test/MaxMind/DB/Writer.pm line 11.
t/MaxMind/DB/Writer/Tree-iterator-large-dataset.t .......... ok
MaxMind::DB::Writer::Tree is deprecated and should no longer be used at t/lib/Test/MaxMind/DB/Writer.pm line 11.
t/MaxMind/DB/Writer/Tree-iterator.t ........................ ok
MaxMind::DB::Writer::Tree is deprecated and should no longer be used at t/MaxMind/DB/Writer/Tree-output/0-0-0-0.t line 10.
t/MaxMind/DB/Writer/Tree-output/0-0-0-0.t .................. ok
MaxMind::DB::Writer::Tree is deprecated and should no longer be used at t/MaxMind/DB/Writer/Tree-output/basic.t line 8.
t/MaxMind/DB/Writer/Tree-output/basic.t .................... ok
MaxMind::DB::Writer::Tree is deprecated and should no longer be used at t/MaxMind/DB/Writer/Tree-output/freeze-thaw-record-size.t line 8.
t/MaxMind/DB/Writer/Tree-output/freeze-thaw-record-size.t .. ok
MaxMind::DB::Writer::Tree is deprecated and should no longer be used at t/MaxMind/DB/Writer/Tree-output/freeze-then-write-bug.t line 8.
t/MaxMind/DB/Writer/Tree-output/freeze-then-write-bug.t .... ok
MaxMind::DB::Writer::Tree is deprecated and should no longer be used at t/MaxMind/DB/Writer/Tree-output/ipv6-aliases.t line 10.
t/MaxMind/DB/Writer/Tree-output/ipv6-aliases.t ............. ok
MaxMind::DB::Writer::Tree is deprecated and should no longer be used at t/lib/Test/MaxMind/DB/Writer.pm line 11.
t/MaxMind/DB/Writer/Tree-output/record-deduplication.t ..... ok
MaxMind::DB::Writer::Tree is deprecated and should no longer be used at t/MaxMind/DB/Writer/Tree-output/utf8-data.t line 11.
t/MaxMind/DB/Writer/Tree-output/utf8-data.t ................ ok
MaxMind::DB::Writer::Tree is deprecated and should no longer be used at t/lib/Test/MaxMind/DB/Writer.pm line 11.
t/MaxMind/DB/Writer/Tree-record-collisions.t ............... ok
MaxMind::DB::Writer::Tree is deprecated and should no longer be used at t/MaxMind/DB/Writer/Tree-thaw-merge.t line 14.
t/MaxMind/DB/Writer/Tree-thaw-merge.t ...................... ok
MaxMind::DB::Writer::Tree is deprecated and should no longer be used at t/lib/Test/MaxMind/DB/Writer.pm line 11.
t/MaxMind/DB/Writer/Tree.t ................................. ok
t/MaxMind/DB/Writer/Util.t ................................. ok
All tests successful.
Files=39, Tests=458, 42 wallclock secs ( 0.54 usr  0.20 sys + 30.17 cusr  4.63 csys = 35.54 CPU)
Result: PASS

------------------------------
PREREQUISITES
------------------------------

Prerequisite modules loaded:

requires:

    Module                          Need     Have    
    ------------------------------- -------- --------
    autodie                         0        2.35    
    bytes                           0        1.05    
    Carp                            0        1.42    
    constant                        0        1.33    
    Data::Dumper::Concise           0        2.023   
    Data::IEEE754                   0        0.02    
    Digest::MD5                     0        2.55    
    Digest::SHA                     0        6.02    
    Encode                          0        3.19    
    Exporter                        0        5.77    
    IO::Handle                      0        1.51    
    Math::Int128                    0.21     0.22    
    Math::Int64                     0.51     0.54    
    MaxMind::DB::Common             0.031003 0.040001
    MaxMind::DB::Metadata           0        0.040001
    MaxMind::DB::Reader::Decoder    0        1.000014
    MaxMind::DB::Role::Debugs       0        0.040001
    Moose                           0        2.2206  
    Moose::Util::TypeConstraints    0        2.2206  
    MooseX::Params::Validate        0        0.21    
    MooseX::StrictConstructor       0        0.21    
    namespace::autoclean            0        0.29    
    Net::Works::Network             0        0.22    
    perl                            5.013002 5.026002
    Sereal::Decoder                 0        5.004   
    Sereal::Encoder                 3.002    5.004   
    strict                          0        1.11    
    Test::Deep::NoTest              0        0       
    warnings                        0        1.37    
    XSLoader                        0        0.27    

build_requires:

    Module                          Need     Have    
    ------------------------------- -------- --------
    Data::Printer                   0        1.001000
    Devel::Refcount                 0        0.10    
    ExtUtils::CBuilder              0        0.280236
    ExtUtils::MakeMaker             0        7.70    
    File::Spec                      0        3.75    
    File::Temp                      0        0.2311  
    JSON                            0        4.10    
    lib                             0        0.64    
    List::AllUtils                  0        0.19    
    List::Util                      0        1.63    
    MaxMind::DB::Reader             0        1.000014
    Module::Build                   0.28     0.4231  
    Net::Works::Address             0        0.22    
    Scalar::Util                    0        1.63    
    Test::Bits                      0        0.02    
    Test::Builder                   0        1.302195
    Test::Fatal                     0        0.017   
    Test::HexDifferences            0        1.001   
    Test::MaxMind::DB::Common::Data 0        0.040001
    Test::More                      0.96     1.302195
    Test::Requires                  0        0.11    
    Test::Warnings                  0        0.031   
    utf8                            0        1.19    

configure_requires:

    Module                          Need     Have    
    ------------------------------- -------- --------
    Module::Build                   0.28     0.4231  


------------------------------
ENVIRONMENT AND OTHER CONTEXT
------------------------------

Environment variables:

    AUTOMATED_TESTING = 1
    LANG = en_US.UTF-8
    LANGUAGE = en_US:en
    PATH = /home/sand/bin:/usr/local/bin:/usr/bin:/bin:/usr/games:/usr/local/perl/bin:/usr/X11/bin:/sbin:/usr/sbin
    PERL5LIB = 
    PERL5OPT = 
    PERL5_CPANPLUS_IS_RUNNING = 1066398
    PERL5_CPAN_IS_RUNNING = 1066398
    PERL_CANARY_STABILITY_NOPROMPT = 1
    PERL_MM_USE_DEFAULT = 1
    PERL_USE_UNSAFE_INC = 1
    SHELL = /usr/bin/zsh
    TERM = screen

Perl special variables (and OS-specific diagnostics, for MSWin32):

    $^X = /home/sand/src/perl/repoperls/installed-perls/host/k93msid/v5.26.2/ac75/bin/perl
    $UID/$EUID = 1005 / 1005
    $GID = 1005 1005
    $EGID = 1005 1005

Perl module toolchain versions installed:

    Module              Have    
    ------------------- --------
    CPAN                2.29    
    CPAN::Meta          2.150010
    Cwd                 3.75    
    ExtUtils::CBuilder  0.280236
    ExtUtils::Command   7.70    
    ExtUtils::Install   2.06    
    ExtUtils::MakeMaker 7.70    
    ExtUtils::Manifest  1.70    
    ExtUtils::ParseXS   3.51    
    File::Spec          3.75    
    JSON                4.10    
    JSON::PP            4.07    
    Module::Build       0.4231  
    Module::Signature   0.83    
    Parse::CPAN::Meta   2.150010
    Test::Harness       3.47    
    Test::More          1.302195
    YAML                1.30    
    YAML::Syck          1.32    
    version             0.9925  


--

Summary of my perl5 (revision 5 version 26 subversion 2) configuration:
  Derived from: c5b1997939178730653db9e80f90cd53d722fe8d
  Platform:
    osname=linux
    osvers=5.3.0-2-amd64
    archname=x86_64-linux-thread-multi-ld
    uname='linux k93msid 5.3.0-2-amd64 #1 smp debian 5.3.9-3 (2019-11-19) x86_64 gnulinux '
    config_args='-Dprefix=/home/sand/src/perl/repoperls/installed-perls/host/k93msid/v5.26.2/ac75 -Dmyhostname=k93msid -Dinstallusrbinperl=n -Uversiononly -Dusedevel -des -Ui_db -Dlibswanted=cl pthread socket inet nsl gdbm dbm malloc dl ld sun m crypt sec util c cposix posix ucb BSD gdbm_compat -Duseithreads -Duselongdouble -DEBUGGING=both'
    hint=recommended
    useposix=true
    d_sigaction=define
    useithreads=define
    usemultiplicity=define
    use64bitint=define
    use64bitall=define
    uselongdouble=define
    usemymalloc=n
    default_inc_excludes_dot=define
    bincompat5005=undef
  Compiler:
    cc='cc'
    ccflags ='-D_REENTRANT -D_GNU_SOURCE -fwrapv -DDEBUGGING -fno-strict-aliasing -pipe -fstack-protector-strong -I/usr/local/include -D_LARGEFILE_SOURCE -D_FILE_OFFSET_BITS=64'
    optimize='-O2 -g'
    cppflags='-D_REENTRANT -D_GNU_SOURCE -fwrapv -DDEBUGGING -fno-strict-aliasing -pipe -fstack-protector-strong -I/usr/local/include'
    ccversion=''
    gccversion='9.2.1 20191109'
    gccosandvers=''
    intsize=4
    longsize=8
    ptrsize=8
    doublesize=8
    byteorder=12345678
    doublekind=3
    d_longlong=define
    longlongsize=8
    d_longdbl=define
    longdblsize=16
    longdblkind=3
    ivtype='long'
    ivsize=8
    nvtype='long double'
    nvsize=16
    Off_t='off_t'
    lseeksize=8
    alignbytes=16
    prototype=define
  Linker and Libraries:
    ld='cc'
    ldflags =' -fstack-protector-strong -L/usr/local/lib'
    libpth=/usr/local/lib /usr/lib/gcc/x86_64-linux-gnu/9/include-fixed /usr/include/x86_64-linux-gnu /usr/lib /lib/x86_64-linux-gnu /lib/../lib /usr/lib/x86_64-linux-gnu /usr/lib/../lib /lib
    libs=-lpthread -lnsl -ldl -lm -lcrypt -lutil -lc
    perllibs=-lpthread -lnsl -ldl -lm -lcrypt -lutil -lc
    libc=libc-2.29.so
    so=so
    useshrplib=false
    libperl=libperl.a
    gnulibc_version='2.29'
  Dynamic Linking:
    dlsrc=dl_dlopen.xs
    dlext=so
    d_dlsymun=undef
    ccdlflags='-Wl,-E'
    cccdlflags='-fPIC'
    lddlflags='-shared -O2 -g -L/usr/local/lib -fstack-protector-strong'


Characteristics of this binary (from libperl): 
  Compile-time options:
    DEBUGGING
    HAS_TIMES
    MULTIPLICITY
    PERLIO_LAYERS
    PERL_COPY_ON_WRITE
    PERL_DONT_CREATE_GVSV
    PERL_IMPLICIT_CONTEXT
    PERL_MALLOC_WRAP
    PERL_OP_PARENT
    PERL_PRESERVE_IVUV
    PERL_TRACK_MEMPOOL
    PERL_USE_DEVEL
    USE_64_BIT_ALL
    USE_64_BIT_INT
    USE_ITHREADS
    USE_LARGE_FILES
    USE_LOCALE
    USE_LOCALE_COLLATE
    USE_LOCALE_CTYPE
    USE_LOCALE_NUMERIC
    USE_LOCALE_TIME
    USE_LONG_DOUBLE
    USE_PERLIO
    USE_PERL_ATOF
    USE_REENTRANT_API
  Locally applied patches:
    uncommitted-changes
  Built under linux
  Compiled at May 21 2020 13:10:14
  %ENV:
    PERL5LIB=""
    PERL5OPT=""
    PERL5_CPANPLUS_IS_RUNNING="1066398"
    PERL5_CPAN_IS_RUNNING="1066398"
    PERL_CANARY_STABILITY_NOPROMPT="1"
    PERL_MM_USE_DEFAULT="1"
    PERL_USE_UNSAFE_INC="1"
  @INC:
    /home/sand/src/perl/repoperls/installed-perls/host/k93msid/v5.26.2/ac75/lib/site_perl/5.26.2/x86_64-linux-thread-multi-ld
    /home/sand/src/perl/repoperls/installed-perls/host/k93msid/v5.26.2/ac75/lib/site_perl/5.26.2
    /home/sand/src/perl/repoperls/installed-perls/host/k93msid/v5.26.2/ac75/lib/5.26.2/x86_64-linux-thread-multi-ld
    /home/sand/src/perl/repoperls/installed-perls/host/k93msid/v5.26.2/ac75/lib/5.26.2
    .