Back
From: metabase:user:314402c4-2aae-11df-837a-5e0a49663a4f
Subject: PASS XML-SAX-Writer-0.53 v5.18.0 FreeBSD
Date: 2013-09-25T07:14:14Z
This distribution has been tested as part of the CPAN Testers
project, supporting the Perl programming language. See
http://wiki.cpantesters.org/ for more information or email
questions to cpan-testers-discuss@perl.org
--
Dear Chris Prather,
This is a computer-generated report for XML-SAX-Writer-0.53
on perl 5.18.0, created by CPAN-Reporter-1.2010.
Thank you for uploading your work to CPAN. Congratulations!
All tests were successful.
Sections of this report:
* Tester comments
* Program output
* Prerequisites
* Environment and other context
------------------------------
TESTER COMMENTS
------------------------------
Additional comments from tester:
none provided
------------------------------
PROGRAM OUTPUT
------------------------------
Output from '/usr/bin/make test':
PERL_DL_NONLAZY=1 /usr/perl5.18.0/bin/perl5.18.0 "-MExtUtils::Command::MM" "-e" "test_harness(0, 'inc', 'blib/lib', 'blib/arch')" t/*.t
t/05basic.t ...... ok
t/10consumers.t .. ok
t/20bugs.t ....... ok
All tests successful.
Files=3, Tests=47, 1 wallclock secs ( 0.05 usr 0.02 sys + 0.30 cusr 0.16 csys = 0.54 CPU)
Result: PASS
------------------------------
PREREQUISITES
------------------------------
Prerequisite modules loaded:
requires:
Module Need Have
----------------------- ---- ----
Encode 2.12 2.49
XML::Filter::BufferText 1.00 1.01
XML::NamespaceSupport 1.00 1.11
XML::SAX::Exception 1.01 1.08
build_requires:
Module Need Have
----------------------- ---- ----
ExtUtils::MakeMaker 6.42 6.66
Test::More 0.40 0.98
configure_requires:
Module Need Have
----------------------- ---- ----
ExtUtils::MakeMaker 6.42 6.66
------------------------------
ENVIRONMENT AND OTHER CONTEXT
------------------------------
Environment variables:
DBIC_NO_WARN_BAD_PERL = 1
PATH = /usr/local/bin:/usr/bin:/bin:/usr/local/sbin:/usr/sbin:/sbin:/home/e/eserte/bin/freebsd9.0:/home/e/eserte/bin/sh:/home/e/eserte/bin:/usr/games:/home/e/eserte/devel:/home/e/eserte/src/srezic-misc/scripts
PERL5LIB = /usr/local/src/CPAN/build/XML-Filter-BufferText-1.01-8jaRL0/blib/arch:/usr/local/src/CPAN/build/XML-Filter-BufferText-1.01-8jaRL0/blib/lib:/usr/local/src/CPAN/build/XML-Filter-DOMFilter-LibXML-0.02-1D9Cis/blib/arch:/usr/local/src/CPAN/build/XML-Filter-DOMFilter-LibXML-0.02-1D9Cis/blib/lib:/usr/local/src/CPAN/build/IO-stringy-2.110-9d0H00/blib/arch:/usr/local/src/CPAN/build/IO-stringy-2.110-9d0H00/blib/lib:/usr/local/src/CPAN/build/XML-LibXSLT-1.81-jk2QeB/blib/arch:/usr/local/src/CPAN/build/XML-LibXSLT-1.81-jk2QeB/blib/lib:/usr/local/src/CPAN/build/XML-XUpdate-LibXML-0.6.0-RuotXb/blib/arch:/usr/local/src/CPAN/build/XML-XUpdate-LibXML-0.6.0-RuotXb/blib/lib:/usr/local/src/CPAN/build/XML-LibXML-Iterator-1.04-i_t3Ha/blib/arch:/usr/local/src/CPAN/build/XML-LibXML-Iterator-1.04-i_t3Ha/blib/lib:/usr/local/src/CPAN/build/XML-NodeFilter-0.01-fBrwWY/blib/arch:/usr/local/src/CPAN/build/XML-NodeFilter-0.01-fBrwWY/blib/lib
PERL5OPT =
PERL5_CPANPLUS_IS_RUNNING = 71717
PERL5_CPAN_IS_RUNNING = 71717
PERL5_CPAN_IS_RUNNING_IN_RECURSION = 71062,71717
PERLDOC = -MPod::Perldoc::ToTextOverstrike
PERL_BATCH = yes
PERL_CPAN_REPORTER_CONFIG = /var/tmp/cpansmoker-1000/2NqzRUSKxH_config.ini
PERL_EXTUTILS_AUTOINSTALL = --defaultdeps
PERL_HTML_DISPLAY_CLASS = HTML::Display::Mozilla
SHELL = /usr/local/bin/zsh
TERM = screen
TMPDIR = /var/tmp/cpansmoker-1000
Perl special variables (and OS-specific diagnostics, for MSWin32):
$^X = /usr/perl5.18.0/bin/perl5.18.0
$UID/$EUID = 1000 / 1000
$GID = 1000 1000 0 5 920 1023 1024
$EGID = 1000 1000 0 5 920 1023 1024
Perl module toolchain versions installed:
Module Have
------------------- --------
CPAN 2.00
CPAN::Meta 2.120921
Cwd 3.40
ExtUtils::CBuilder 0.280210
ExtUtils::Command 1.17
ExtUtils::Install 1.59
ExtUtils::MakeMaker 6.66
ExtUtils::Manifest 1.63
ExtUtils::ParseXS 3.18
File::Spec 3.40
JSON 2.57
JSON::PP 2.27202
Module::Build 0.4003
Module::Signature n/a
Parse::CPAN::Meta 1.4404
Test::Harness 3.26
Test::More 0.98
YAML 0.84
YAML::Syck 1.27
version 0.9902
--
Summary of my perl5 (revision 5 version 18 subversion 0) configuration:
Platform:
osname=freebsd, osvers=9.0-release, archname=amd64-freebsd
uname='freebsd cvrsnica.herceg.de 9.0-release freebsd 9.0-release #0: tue jan 3 07:46:30 utc 2012 root@farrell.cse.buffalo.edu:usrobjusrsrcsysgeneric amd64 '
config_args='-D useshrplib=true -Dprefix=/usr/perl5.18.0 -Dusemymalloc=n -D cc=ccache cc -Dgccansipedantic -de'
hint=recommended, useposix=true, d_sigaction=define
useithreads=undef, usemultiplicity=undef
useperlio=define, d_sfio=undef, uselargefiles=define, usesocks=undef
use64bitint=define, use64bitall=define, uselongdouble=undef
usemymalloc=n, bincompat5005=undef
Compiler:
cc='ccache cc', ccflags ='-DHAS_FPSETMASK -DHAS_FLOATINGPOINT_H -fno-strict-aliasing -pipe -fstack-protector -I/usr/local/include',
optimize='-O2 -pipe',
cppflags='-DHAS_FPSETMASK -DHAS_FLOATINGPOINT_H -fno-strict-aliasing -pipe -fstack-protector -I/usr/local/include'
ccversion='', gccversion='4.2.1 20070831 patched [FreeBSD]', gccosandvers=''
intsize=4, longsize=8, ptrsize=8, doublesize=8, byteorder=12345678
d_longlong=define, longlongsize=8, d_longdbl=define, longdblsize=16
ivtype='long', ivsize=8, nvtype='double', nvsize=8, Off_t='off_t', lseeksize=8
alignbytes=8, prototype=define
Linker and Libraries:
ld='ccache cc', ldflags ='-Wl,-E -fstack-protector -L/usr/local/lib'
libpth=/usr/lib /usr/local/lib
libs=-lgdbm -lm -lcrypt -lutil -lc
perllibs=-lm -lcrypt -lutil -lc
libc=, so=so, useshrplib=true, libperl=libperl.so
gnulibc_version=''
Dynamic Linking:
dlsrc=dl_dlopen.xs, dlext=so, d_dlsymun=undef, ccdlflags=' -Wl,-R/usr/perl5.18.0/lib/5.18.0/amd64-freebsd/CORE'
cccdlflags='-DPIC -fPIC', lddlflags='-shared -L/usr/local/lib -fstack-protector'
Characteristics of this binary (from libperl):
Compile-time options: HAS_TIMES PERLIO_LAYERS PERL_DONT_CREATE_GVSV
PERL_HASH_FUNC_ONE_AT_A_TIME_HARD PERL_MALLOC_WRAP
PERL_PRESERVE_IVUV PERL_SAWAMPERSAND PERL_USE_DEVEL
USE_64_BIT_ALL USE_64_BIT_INT USE_LARGE_FILES
USE_LOCALE USE_LOCALE_COLLATE USE_LOCALE_CTYPE
USE_LOCALE_NUMERIC USE_PERLIO USE_PERL_ATOF
Built under freebsd
Compiled at May 21 2013 09:33:29
%ENV:
PERL5LIB="/usr/local/src/CPAN/build/XML-Filter-BufferText-1.01-8jaRL0/blib/arch:/usr/local/src/CPAN/build/XML-Filter-BufferText-1.01-8jaRL0/blib/lib:/usr/local/src/CPAN/build/XML-Filter-DOMFilter-LibXML-0.02-1D9Cis/blib/arch:/usr/local/src/CPAN/build/XML-Filter-DOMFilter-LibXML-0.02-1D9Cis/blib/lib:/usr/local/src/CPAN/build/IO-stringy-2.110-9d0H00/blib/arch:/usr/local/src/CPAN/build/IO-stringy-2.110-9d0H00/blib/lib:/usr/local/src/CPAN/build/XML-LibXSLT-1.81-jk2QeB/blib/arch:/usr/local/src/CPAN/build/XML-LibXSLT-1.81-jk2QeB/blib/lib:/usr/local/src/CPAN/build/XML-XUpdate-LibXML-0.6.0-RuotXb/blib/arch:/usr/local/src/CPAN/build/XML-XUpdate-LibXML-0.6.0-RuotXb/blib/lib:/usr/local/src/CPAN/build/XML-LibXML-Iterator-1.04-i_t3Ha/blib/arch:/usr/local/src/CPAN/build/XML-LibXML-Iterator-1.04-i_t3Ha/blib/lib:/usr/local/src/CPAN/build/XML-NodeFilter-0.01-fBrwWY/blib/arch:/usr/local/src/CPAN/build/XML-NodeFilter-0.01-fBrwWY/blib/lib"
PERL5OPT=""
PERL5_CPANPLUS_IS_RUNNING="71717"
PERL5_CPAN_IS_RUNNING="71717"
PERL5_CPAN_IS_RUNNING_IN_RECURSION="71062,71717"
PERLDOC="-MPod::Perldoc::ToTextOverstrike"
PERL_BATCH="yes"
PERL_CPAN_REPORTER_CONFIG="/var/tmp/cpansmoker-1000/2NqzRUSKxH_config.ini"
PERL_EXTUTILS_AUTOINSTALL="--defaultdeps"
PERL_HTML_DISPLAY_CLASS="HTML::Display::Mozilla"
@INC:
/usr/local/src/CPAN/build/XML-Filter-BufferText-1.01-8jaRL0/blib/arch
/usr/local/src/CPAN/build/XML-Filter-BufferText-1.01-8jaRL0/blib/lib
/usr/local/src/CPAN/build/XML-Filter-DOMFilter-LibXML-0.02-1D9Cis/blib/arch
/usr/local/src/CPAN/build/XML-Filter-DOMFilter-LibXML-0.02-1D9Cis/blib/lib
/usr/local/src/CPAN/build/IO-stringy-2.110-9d0H00/blib/arch
/usr/local/src/CPAN/build/IO-stringy-2.110-9d0H00/blib/lib
/usr/local/src/CPAN/build/XML-LibXSLT-1.81-jk2QeB/blib/arch
/usr/local/src/CPAN/build/XML-LibXSLT-1.81-jk2QeB/blib/lib
/usr/local/src/CPAN/build/XML-XUpdate-LibXML-0.6.0-RuotXb/blib/arch
/usr/local/src/CPAN/build/XML-XUpdate-LibXML-0.6.0-RuotXb/blib/lib
/usr/local/src/CPAN/build/XML-LibXML-Iterator-1.04-i_t3Ha/blib/arch
/usr/local/src/CPAN/build/XML-LibXML-Iterator-1.04-i_t3Ha/blib/lib
/usr/local/src/CPAN/build/XML-NodeFilter-0.01-fBrwWY/blib/arch
/usr/local/src/CPAN/build/XML-NodeFilter-0.01-fBrwWY/blib/lib
/usr/perl5.18.0/lib/site_perl/5.18.0/amd64-freebsd
/usr/perl5.18.0/lib/site_perl/5.18.0
/usr/perl5.18.0/lib/5.18.0/amd64-freebsd
/usr/perl5.18.0/lib/5.18.0
.