Starman v0.4017 Perl 5 v5.38.0 darwin-thread-multi-ld-2level

Status
Pass
From
Dist
Starman v0.4017
Platform
Perl 5 v5.38.0 darwin-thread-multi-ld-2level
Date
2023-09-19 02:06:02
ID
1563c1b6-5691-11ee-9024-a0f39cefc40c
This distribution has been tested as part of the CPAN Testers
project, supporting the Perl programming language.  See
http://wiki.cpantesters.org/ for more information or email
questions to cpan-testers-discuss@perl.org


--
Dear Tatsuhiko Miyagawa,

This is a computer-generated report for Starman-0.4017
on perl 5.38.0, created by CPAN-Reporter-1.2019.

Thank you for uploading your work to CPAN.  Congratulations!
All tests were successful.

Sections of this report:

    * Tester comments
    * Program output
    * Prerequisites
    * Environment and other context

------------------------------
TESTER COMMENTS
------------------------------

Additional comments from tester:

none provided

------------------------------
PROGRAM OUTPUT
------------------------------

Output from './Build test':

t/00_compile.t ........... ok
t/author-pod-syntax.t .... skipped: these tests are for testing by the author
2023/09/18-22:05:56 Starman::Server (type Net::Server::PreFork) starting! pid(91828)
Binding to TCP port 62054 on host 127.0.0.1 with IPv4
Setting gid to "20 20 20 12 61 79 80 81 98 398 399 400 101 705 703 33 100 204"
2023/09/18-22:05:56 Server closing!
t/chunked_req.t .......... ok
t/chunked_termination.t .. ok
2023/09/18-22:05:57 Starman::Server (type Net::Server::PreFork) starting! pid(91836)
Binding to TCP port 62063 on host 127.0.0.1 with IPv4
Setting gid to "20 20 20 12 61 79 80 81 98 398 399 400 101 705 703 33 100 204"
2023/09/18-22:05:57 Server closing!
t/chunked_zero_length.t .. ok
2023/09/18-22:05:57 Starman::Server (type Net::Server::PreFork) starting! pid(91843)
Binding to TCP port 62072 on host 127.0.0.1 with IPv4
Setting gid to "20 20 20 12 61 79 80 81 98 398 399 400 101 705 703 33 100 204"
2023/09/18-22:05:57 Server closing!
t/early-hints.t .......... ok
2023/09/18-22:05:57 Starman::Server (type Net::Server::PreFork) starting! pid(91850)
Binding to TCP port 62081 on host 127.0.0.1 with IPv4
Setting gid to "20 20 20 12 61 79 80 81 98 398 399 400 101 705 703 33 100 204"
2023/09/18-22:05:58 Server closing!
t/eintr.t ................ ok
2023/09/18-22:05:58 Starman::Server (type Net::Server::PreFork) starting! pid(91860)
Binding to TCP port 62087 on host 127.0.0.1 with IPv4
Setting gid to "20 20 20 12 61 79 80 81 98 398 399 400 101 705 703 33 100 204"
2023/09/18-22:05:58 Server closing!
t/expect.t ............... ok
2023/09/18-22:05:59 Starman::Server (type Net::Server::PreFork) starting! pid(91868)
Binding to TCP port 62096 on host 127.0.0.1 with IPv4
Setting gid to "20 20 20 12 61 79 80 81 98 398 399 400 101 705 703 33 100 204"
2023/09/18-22:05:59 Server closing!
2023/09/18-22:05:59 Starman::Server (type Net::Server::PreFork) starting! pid(91874)
Binding to TCP port 62127 on host 127.0.0.1 with IPv4
Setting gid to "20 20 20 12 61 79 80 81 98 398 399 400 101 705 703 33 100 204"
2023/09/18-22:05:59 Server closing!
t/harakiri.t ............. ok
2023/09/18-22:05:59 Starman::Server (type Net::Server::PreFork) starting! pid(91901)
Binding to TCP port 62158 on host 127.0.0.1 with IPv4
Setting gid to "20 20 20 12 61 79 80 81 98 398 399 400 101 705 703 33 100 204"
2023/09/18-22:05:59 Server closing!
t/lf_only_request.t ...... ok
2023/09/18-22:05:59 Starman::Server (type Net::Server::PreFork) starting! pid(91908)
Binding to TCP port 62167 on host 127.0.0.1 with IPv4
Setting gid to "20 20 20 12 61 79 80 81 98 398 399 400 101 705 703 33 100 204"
2023/09/18-22:05:59 Server closing!
t/no_chunked_head.t ...... ok
t/release-findbin.t ...... skipped: these tests are for release candidate testing
t/release-rand.t ......... skipped: these tests are for release candidate testing
2023/09/18-22:06:00 Starman::Server (type Net::Server::PreFork) starting! pid(91917)
Binding to TCP port 62175 on host 127.0.0.1 with IPv4
Setting gid to "20 20 20 12 61 79 80 81 98 398 399 400 101 705 703 33 100 204"
2023/09/18-22:06:00 Server closing!
t/single_zero.t .......... ok
2023/09/18-22:06:00 Starman::Server (type Net::Server::PreFork) starting! pid(91924)
Resolved [localhost]:62183 to [::1]:62183, IPv6
Resolved [localhost]:62183 to [fe80::1%lo0]:62183, IPv6
Resolved [localhost]:62183 to [127.0.0.1]:62183, IPv4
Binding to SSL port 62183 on host ::1 with IPv6
Binding to SSL port 62183 on host fe80::1%lo0 with IPv6
Binding to SSL port 62183 on host 127.0.0.1 with IPv4
Setting gid to "20 20 20 12 61 79 80 81 98 398 399 400 101 705 703 33 100 204"
Passed serialize value of none is incompatible with multiple ports - using default serialize
Could not finalize SSL connection with client handle (SSL accept attempt failed error:0A000126:SSL routines::unexpected eof while reading)
2023/09/18-22:06:00 Server closing!
t/ssl.t .................. ok
2023/09/18-22:06:00 Starman::Server (type Net::Server::PreFork) starting! pid(91932)
Resolved [localhost]:62193 to [::1]:62193, IPv6
Resolved [localhost]:62193 to [fe80::1%lo0]:62193, IPv6
Resolved [localhost]:62193 to [127.0.0.1]:62193, IPv4
Binding to SSL port 62193 on host ::1 with IPv6
Binding to SSL port 62193 on host fe80::1%lo0 with IPv6
Binding to SSL port 62193 on host 127.0.0.1 with IPv4
Setting gid to "20 20 20 12 61 79 80 81 98 398 399 400 101 705 703 33 100 204"
Passed serialize value of none is incompatible with multiple ports - using default serialize
Could not finalize SSL connection with client handle (SSL accept attempt failed error:0A000126:SSL routines::unexpected eof while reading)
2023/09/18-22:06:00 Server closing!
t/ssl_largebody.t ........ ok
2023/09/18-22:06:01 Starman::Server (type Net::Server::PreFork) starting! pid(91940)
Binding to TCP port 62203 on host 127.0.0.1 with IPv4
Setting gid to "20 20 20 12 61 79 80 81 98 398 399 400 101 705 703 33 100 204"
2023/09/18-22:06:01 Server closing!
t/suite.t ................ ok
All tests successful.
Files=17, Tests=125,  5 wallclock secs ( 0.06 usr  0.05 sys +  2.62 cusr  1.04 csys =  3.77 CPU)
Result: PASS

------------------------------
PREREQUISITES
------------------------------

Prerequisite modules loaded:

requires:

    Module                   Need     Have    
    ------------------------ -------- --------
    Data::Dump               0        1.25    
    HTTP::Date               0        6.06    
    HTTP::Parser::XS         0        0.17    
    HTTP::Status             0        6.44    
    Net::Server              2.007    2.014   
    parent                   0        0.241   
    perl                     5.008001 5.038000
    Plack                    0.9971   1.0050  
    Test::TCP                2.00     2.22    

build_requires:

    Module                   Need     Have    
    ------------------------ -------- --------
    LWP::UserAgent           0        6.72    
    Test::More               0        1.302195
    Test::Requires           0        0.11    

configure_requires:

    Module                   Need     Have    
    ------------------------ -------- --------
    Module::Build::Tiny      0.034    0.046   

opt_requires:

    Module                   Need     Have    
    ------------------------ -------- --------
    Net::Server::SS::PreFork 0        0.05    
    Server::Starter          0        0.35    


------------------------------
ENVIRONMENT AND OTHER CONTEXT
------------------------------

Environment variables:

    CPAN_RUN_SHELL_TEST_WITHOUT_EXPECT = 1
    LANG = en_US.UTF-8
    LANGUAGE = en_US:en:C
    LC_ADDRESS = en_US.UTF-8
    LC_ALL = en_US.UTF-8
    LC_COLLATE = C.UTF-8
    LC_IDENTIFICATION = en_US.UTF-8
    LC_MEASUREMENT = en_US.UTF-8
    LC_MESSAGES = POSIX
    LC_MONETARY = en_US.UTF-8
    LC_NAME = en_US.UTF-8
    LC_NUMERIC = en_US.UTF-8
    LC_PAPER = en_US.UTF-8
    LC_TELEPHONE = en_US.UTF-8
    LC_TERMINAL = iTerm2
    LC_TERMINAL_VERSION = 3.5.0beta11
    LC_TIME = en_US.UTF-8
    LDFLAGS = -Wl,-syslibroot,/Applications/Xcode.app/Contents/Developer/Platforms/MacOSX.platform/Developer/SDKs/MacOSX.sdk -mmacosx-version-min=13 -L/Applications/Xcode.app/Contents/Developer/Platforms/MacOSX.platform/Developer/SDKs/MacOSX13.3.sdk/usr/lib -L/usr/local/lib -L/usr/local/opt/openssl@3/lib -L/usr/local/opt/readline/lib -L/usr/local/opt/zlib/lib -L/usr/local/opt/bzip2/lib -L/usr/local/opt/icu4c/lib -L/usr/local/opt/expat/lib -L/usr/local/opt/libxslt/lib -L/usr/local/opt/libxml2/lib -L/usr/local/opt/bison/lib -L/usr/local/opt/berkeley-db/lib -L/usr/local/opt/sqlite/lib -L/usr/local/opt/libarchive/lib
    LD_LIBRARY_PATH = :/usr/lib:/usr/local/lib
    NONINTERACTIVE_TESTING = 1
    PATH = /Users/b1-bloom/.local/bin:/Users/b1-bloom/.cargo/bin:/usr/local/opt/libtool/libexec/gnubin:/usr/local/opt/gnupg/bin:/Users/b1-bloom/.bin:/opt/perl5/bin:/opt/perl5/perls/perl-5.38.0/bin:/Users/b1-bloom/Library/Python/3.11/bin:/Users/b1-bloom/Library/Python/3.10/bin:/Users/b1-bloom/Library/Python/3.9/bin:/Users/b1-bloom/.pyenv/bin:/Users/b1-bloom/.rbenv/bin:/Users/b1-bloom/.jenv/bin:/opt/luarocks/bin:/usr/local/opt/luajit-openresty/bin:/Users/b1-bloom/.mint/bin:/Users/b1-bloom/Bloom-Development/Bloom-Project/B1-Local/B1-GOLANG/bin:/usr/local/opt/go/libexec/bin:/Users/b1-bloom/.deno/bin:/usr/local/opt/autoconf/bin:/usr/local/opt/tnftp/bin:/usr/local/opt/telnet/bin:/usr/local/opt/gnu-which/libexec/gnubin:/usr/local/opt/grep/libexec/gnubin:/usr/local/opt/bison/bin:/opt/metasploit-framework/bin:/usr/local/opt/ncurses/bin:/usr/local/opt/awk/bin:/usr/local/opt/berkeley-db/bin:/usr/local/opt/lsof/bin:/usr/local/opt/git/bin:/usr/local/opt/rtmpdump/bin:/usr/local/opt/unzip/bin:/usr/local/opt/bzip2/bin:/usr/local/opt/libarchive/bin:/usr/local/opt/expat/bin:/usr/local/opt/libxslt/bin:/usr/local/opt/libxml2/bin:/usr/local/opt/sqlite/bin:/usr/local/opt/file-formula/bin:/usr/local/opt/man-db/libexec/man-db:/usr/local/opt/man-db/libexec/sbin:/usr/local/opt/man-db/libexec/bin:/usr/local/opt/apr-util/bin:/usr/local/opt/apr/bin:/usr/local/opt/icu4c/sbin:/usr/local/opt/icu4c/bin:/Applications/Visual Studio Code - Insiders.app/Contents/Resources/app/bin:/opt/DevTools/DictionaryDevelopmentKit/bin:/Users/b1-bloom/.yarn/bin:/Users/b1-bloom/.osx-sysdir/FinderMD/bin:/usr/local/opt/openssl@3/bin:/Users/b1-bloom/.jenv/shims:/Users/b1-bloom/.pyenv/shims:/Users/b1-bloom/.nvm/versions/node/v20.7.0/bin:/Users/b1-bloom/.rbenv/shims:/usr/local/bin:/usr/local/sbin:/Library/Apple/usr/bin:/usr/bin:/usr/sbin:/bin:/sbin:/System/Cryptexes/App/usr/bin:/usr/local/MacGPG2/bin:/opt/X11/bin:/Applications/Wireshark.app/Contents/MacOS:/var/run/com.apple.security.cryptexd/codex.system/bootstrap/usr/local/bin:/var/run/com.apple.security.cryptexd/codex.system/bootstrap/usr/bin:/var/run/com.apple.security.cryptexd/codex.system/bootstrap/usr/appleinternal/bin:/Applications/iTerm.app/Contents/Resources/utilities:/System/Library/CoreServices:/usr/libexec:/Users/b1-bloom/Bloom-Development/Bloom-Terminal/B3-Term/plugins/jq/bin:/Users/b1-bloom/.composer/vendor/bin:/Users/b1-bloom/.config/nvim/plugged/fzf/binflex
    PERL5LIB = 
    PERL5OPT = 
    PERL5_CPANPLUS_IS_RUNNING = 79539
    PERL5_CPAN_IS_RUNNING = 79539
    PERLBREW_CPAN_MIRROR = https://cpan.metacpan.org
    PERLBREW_HOME = /Users/b1-bloom/.perlbrew
    PERLBREW_MANPATH = /opt/perl5/perls/perl-5.38.0/man
    PERLBREW_PATH = /opt/perl5/bin:/opt/perl5/perls/perl-5.38.0/bin
    PERLBREW_PERL = perl-5.38.0
    PERLBREW_ROOT = /opt/perl5
    PERLBREW_SHELLRC_VERSION = 0.98
    PERLBREW_VERSION = 0.98
    PERL_AUTOINSTALL = 1
    PERL_CPANM_OPT = -v --with-recommends --with-suggests --man-pages --auto-cleanup
    PERL_EXTUTILS_AUTOINSTALL = 1
    PERL_MM_USE_DEFAULT = 1
    PERL_USE_UNSAFE_INC = 1
    SHELL = /usr/local/bin/zsh
    TERM = xterm-256color
    TMPDIR = /var/folders/jn/jcn2g_t16f9b_gpcjvfgzvs80000gn/T/

Perl special variables (and OS-specific diagnostics, for MSWin32):

    $^X = /opt/perl5/perls/perl-5.38.0/bin/perl5.38.0
    $UID/$EUID = 501 / 501
    $GID = 20 20 12 61 79 80 81 98 398 399 400 101 705 703 33 100 204
    $EGID = 20 20 12 61 79 80 81 98 398 399 400 101 705 703 33 100 204

Perl module toolchain versions installed:

    Module              Have    
    ------------------- --------
    CPAN                2.36    
    CPAN::Meta          2.150010
    Cwd                 3.89    
    ExtUtils::CBuilder  0.280238
    ExtUtils::Command   7.70    
    ExtUtils::Install   2.22    
    ExtUtils::MakeMaker 7.70    
    ExtUtils::Manifest  1.75    
    ExtUtils::ParseXS   3.51    
    File::Spec          3.88    
    JSON                4.10    
    JSON::PP            4.16    
    Module::Build       0.4234  
    Module::Signature   0.88    
    Parse::CPAN::Meta   2.150010
    Test2               1.302195
    Test::Harness       3.47    
    Test::More          1.302195
    YAML                1.30    
    YAML::Syck          1.34    
    version             0.9930  


--

Summary of my perl5 (revision 5 version 38 subversion 0) configuration:
   
  Platform:
    osname=darwin
    osvers=22.6.0
    archname=darwin-thread-multi-ld-2level
    uname='darwin ast-03.local 22.6.0 darwin kernel version 22.6.0: wed jul 5 22:21:56 pdt 2023; root:xnu-8796.141.3~6release_x86_64 x86_64 '
    config_args='-de -Dprefix=/opt/perl5/perls/perl-5.38.0 -Duseshrplib -Duselargefiles -Dusethreads -Dusedevel -Dsed=/usr/local/opt/gnu-sed/libexec/gnubin/sed -Doptimize=-O3 -Dusemultiplicity -Duse64bitint -Dusethreads -Duse64bitall -Dcc=clang -Duselongdouble -Aeval:scriptdir=/opt/perl5/perls/perl-5.38.0/bin'
    hint=recommended
    useposix=true
    d_sigaction=define
    useithreads=define
    usemultiplicity=define
    use64bitint=define
    use64bitall=define
    uselongdouble=define
    usemymalloc=n
    default_inc_excludes_dot=define
  Compiler:
    cc='clang'
    ccflags ='-fno-common -DPERL_DARWIN -no-cpp-precomp -mmacosx-version-min=13.5 -DNO_POSIX_2008_LOCALE -arch x86_64 -fno-strict-aliasing -pipe -fstack-protector-strong -I/usr/local/include'
    optimize='-O3'
    cppflags='-no-cpp-precomp -arch x86_64 -fno-common -DPERL_DARWIN -no-cpp-precomp -mmacosx-version-min=13.5 -DNO_POSIX_2008_LOCALE -arch x86_64 -fno-strict-aliasing -pipe -fstack-protector-strong -I/usr/local/include'
    ccversion=''
    gccversion='Apple LLVM 14.0.3 (clang-1403.0.22.14.1)'
    gccosandvers=''
    intsize=4
    longsize=8
    ptrsize=8
    doublesize=8
    byteorder=12345678
    doublekind=3
    d_longlong=define
    longlongsize=8
    d_longdbl=define
    longdblsize=16
    longdblkind=3
    ivtype='long'
    ivsize=8
    nvtype='long double'
    nvsize=16
    Off_t='off_t'
    lseeksize=8
    alignbytes=16
    prototype=define
  Linker and Libraries:
    ld='clang -arch x86_64'
    ldflags =' -mmacosx-version-min=13.5 -arch x86_64 -fstack-protector-strong -L/usr/local/lib'
    libpth=/Applications/Xcode.app/Contents/Developer/Toolchains/XcodeDefault.xctoolchain/usr/lib/clang/14.0.3/lib /Applications/Xcode.app/Contents/Developer/Platforms/MacOSX.platform/Developer/SDKs/MacOSX.sdk/usr/lib /Applications/Xcode.app/Contents/Developer/Toolchains/XcodeDefault.xctoolchain/usr/lib /usr/local/lib /usr/lib
    libs=-lgdbm -ldbm
    perllibs=
    libc=
    so=dylib
    useshrplib=true
    libperl=libperl.dylib
    gnulibc_version=''
  Dynamic Linking:
    dlsrc=dl_dlopen.xs
    dlext=bundle
    d_dlsymun=undef
    ccdlflags=' '
    cccdlflags=' '
    lddlflags=' -mmacosx-version-min=13.5 -bundle -undefined dynamic_lookup -L/usr/local/lib -fstack-protector-strong'


Characteristics of this binary (from libperl): 
  Compile-time options:
    HAS_LONG_DOUBLE
    HAS_STRTOLD
    HAS_TIMES
    MULTIPLICITY
    PERLIO_LAYERS
    PERL_COPY_ON_WRITE
    PERL_DONT_CREATE_GVSV
    PERL_HASH_FUNC_SIPHASH13
    PERL_HASH_USE_SBOX32
    PERL_MALLOC_WRAP
    PERL_OP_PARENT
    PERL_PRESERVE_IVUV
    PERL_USE_DEVEL
    PERL_USE_SAFE_PUTENV
    USE_64_BIT_ALL
    USE_64_BIT_INT
    USE_ITHREADS
    USE_LARGE_FILES
    USE_LOCALE
    USE_LOCALE_COLLATE
    USE_LOCALE_CTYPE
    USE_LOCALE_NUMERIC
    USE_LOCALE_TIME
    USE_LONG_DOUBLE
    USE_PERLIO
    USE_PERL_ATOF
    USE_REENTRANT_API
  Built under darwin
  Compiled at Aug 21 2023 14:58:34
  %ENV:
    PERL5LIB=""
    PERL5OPT=""
    PERL5_CPANPLUS_IS_RUNNING="79539"
    PERL5_CPAN_IS_RUNNING="79539"
    PERLBREW_CPAN_MIRROR="https://cpan.metacpan.org"
    PERLBREW_HOME="/Users/b1-bloom/.perlbrew"
    PERLBREW_MANPATH="/opt/perl5/perls/perl-5.38.0/man"
    PERLBREW_PATH="/opt/perl5/bin:/opt/perl5/perls/perl-5.38.0/bin"
    PERLBREW_PERL="perl-5.38.0"
    PERLBREW_ROOT="/opt/perl5"
    PERLBREW_SHELLRC_VERSION="0.98"
    PERLBREW_VERSION="0.98"
    PERL_AUTOINSTALL="1"
    PERL_CPANM_OPT="-v --with-recommends --with-suggests --man-pages --auto-cleanup"
    PERL_EXTUTILS_AUTOINSTALL="1"
    PERL_MM_USE_DEFAULT="1"
    PERL_USE_UNSAFE_INC="1"
  @INC:
    /opt/perl5/perls/perl-5.38.0/lib/site_perl/5.38.0/darwin-thread-multi-ld-2level
    /opt/perl5/perls/perl-5.38.0/lib/site_perl/5.38.0
    /opt/perl5/perls/perl-5.38.0/lib/5.38.0/darwin-thread-multi-ld-2level
    /opt/perl5/perls/perl-5.38.0/lib/5.38.0
    .