TaskPipe v0.09 Perl 5 v5.40.0 RC1 x86_64-linux
- Status
- Pass
- From
- Andreas J. König (ANDK)
- Dist
-
TaskPipe v0.09
- Platform
- Perl 5 v5.40.0 RC1 x86_64-linux
- Date
- 2024-05-27 17:32:25
- ID
- 1575187e-1c4f-11ef-9f34-23fd127b00df
This distribution has been tested as part of the CPAN Testers
project, supporting the Perl programming language. See
http://wiki.cpantesters.org/ for more information or email
questions to cpan-testers-discuss@perl.org
--
Dear Tom Gracey,
This is a computer-generated report for TaskPipe-0.09
on perl 5.40.0, created by CPAN-Reporter-1.2019.
Thank you for uploading your work to CPAN. Congratulations!
All tests were successful.
Sections of this report:
* Tester comments
* Program output
* Prerequisites
* Environment and other context
------------------------------
TESTER COMMENTS
------------------------------
Additional comments from tester:
this report is from an automated smoke testing program
and was not reviewed by a human for accuracy
------------------------------
PROGRAM OUTPUT
------------------------------
Output from '/usr/bin/make test':
PERL_DL_NONLAZY=1 "/tmp/basesmoker-reloperl-PJME/bin/perl" "-MExtUtils::Command::MM" "-MTest::Harness" "-e" "undef *Test::Harness::Switches; test_harness(0, 'blib/lib', 'blib/arch')" t/*.t
t/00_base_modules.t .......... ok
t/01_resume.t ................ skipped: DB info for threaded tests was not provided
t/02_threads.t ............... skipped: DB info for threaded tests was not provided
Running resume mechanism tests. Please be patient - this will take some time
t/03_single_thread_resume.t .. ok
Running plan tests. Please be patient - this will take some time
t/04_plan.t .................. ok
All tests successful.
Files=5, Tests=277, 502 wallclock secs ( 0.05 usr 0.02 sys + 163.81 cusr 3.82 csys = 167.70 CPU)
Result: PASS
------------------------------
PREREQUISITES
------------------------------
Prerequisite modules loaded:
requires:
Module Need Have
------------------------------------------- ---- --------
Array::Utils 0 0.5
Carp 0 1.54
Clone 0 0.46
Cwd 0 3.90
Data::Dumper 0 2.189
DateTime 0 1.65
DateTime::Format::MySQL 0 0.08
DateTime::Format::SQLite 0 0.11
DBIx::Class 0 0.082843
DBIx::Class::Schema::Loader 0 0.07052
DBIx::Error 0 1.0.1
Digest::MD5 0 2.58_01
Fatal 0 2.37
File::Basename 0 2.86
File::Inplace 0 0.20
File::Path 0 2.18
File::Path::Expand 0 1.02
File::Save::Home 0 0.11
File::Slurp 0 9999.32
File::Spec 0 3.90
Hash::Merge 0 0.302
IO::Socket::INET 0 1.55
Log::Log4perl 0 1.57
Log::Log4perl::Layout::ColoredPatternLayout 0.01 0.01
LWP::UserAgent 0 6.77
Module::Runtime 0 0.016
Moose 0 2.2207
Moose::Util::TypeConstraints 0 2.2207
MooseX::ClassAttribute 0 0.29
MooseX::ConfigCascade 0.02 0.02
Net::EmptyPort 0 0
Path::Tiny 0 0.146
Pod::POM 0 2.01
Pod::Term 0.02 0.02
POSIX 0 2.20
Proc::Background 0 1.32
Proc::Exists 0 1.01
Proc::ProcessTable 0 0.636
Selenium::Remote::Driver 0 1.49
! SQL::Translator 0 n/a
String::CamelCase 0 0.04
Template::Nest 0.03 0.11
Term::ANSIColor 0 5.01
Text::Table::TinyColor 0 0.002
Time::HiRes 0 1.9777
Try::Tiny 0 0.31
TryCatch 0 1.003002
URI::Escape 0 5.28
Web::Scraper 0 0.38
WWW::Mechanize::PhantomJS 0.18 0.24
YAML::XS 0 0.89
build_requires:
Module Need Have
------------------------------------------- ---- --------
Data::Dumper 0 2.189
ExtUtils::MakeMaker 0 7.70
File::Basename 0 2.86
File::Spec 0 3.90
Moose 0 2.2207
MooseX::ConfigCascade 0 0.02
Proc::ProcessTable 0 0.636
Test::More 0 1.302199
Time::HiRes 0 1.9777
Try::Tiny 0 0.31
configure_requires:
Module Need Have
------------------------------------------- ---- --------
ExtUtils::MakeMaker 0 7.70
------------------------------
ENVIRONMENT AND OTHER CONTEXT
------------------------------
Environment variables:
AUTOMATED_TESTING = 1
LANG = en_US.UTF-8
PATH = /home/sand/bin:/usr/local/bin:/usr/local/sbin:/usr/sbin:/usr/bin:/sbin:/bin:/usr/games:/usr/local/games:/snap/bin:/usr/local/perl/bin:/usr/X11/bin
PERL = /tmp/basesmoker-reloperl-PJME/bin/perl
PERL5LIB = /tmp/loop_over_bdir-363039-qkDIJD/App-oo_modulino_zsh_completion_helper-0.04-0/blib/arch:/tmp/loop_over_bdir-363039-qkDIJD/App-oo_modulino_zsh_completion_helper-0.04-0/blib/lib:/tmp/loop_over_bdir-363039-qkDIJD/Lingua-BioYaTeA-0.11-0/blib/arch:/tmp/loop_over_bdir-363039-qkDIJD/Lingua-BioYaTeA-0.11-0/blib/lib:/tmp/loop_over_bdir-363039-qkDIJD/Lingua-YaTeA-0.626-0/blib/arch:/tmp/loop_over_bdir-363039-qkDIJD/Lingua-YaTeA-0.626-0/blib/lib
PERL5OPT =
PERL5_CPANPLUS_IS_RUNNING = 363047
PERL5_CPAN_IS_RUNNING = 363047
PERL_CANARY_STABILITY_NOPROMPT = 1
PERL_MM_USE_DEFAULT = 1
PERL_USE_UNSAFE_INC = 1
SHELL = /usr/bin/zsh
TERM = screen
Perl special variables (and OS-specific diagnostics, for MSWin32):
$^X = /tmp/basesmoker-reloperl-PJME/bin/perl
$UID/$EUID = 1005 / 1005
$GID = 1005 1005
$EGID = 1005 1005
Perl module toolchain versions installed:
Module Have
------------------- --------
CPAN 2.36
CPAN::Meta 2.150010
Cwd 3.90
ExtUtils::CBuilder 0.280240
ExtUtils::Command 7.70
ExtUtils::Install 2.22
ExtUtils::MakeMaker 7.70
ExtUtils::Manifest 1.75
ExtUtils::ParseXS 3.51
File::Spec 3.90
JSON 4.10
JSON::PP 4.16
Module::Build 0.4234
Module::Signature 0.88
Parse::CPAN::Meta 2.150010
Test2 1.302199
Test::Harness 3.48
Test::More 1.302199
YAML 1.31
YAML::Syck 1.34
version 0.9932
--
Summary of my perl5 (revision 5 version 40 subversion 0) configuration:
Commit id: 9028e12473e7fa76ca5a5787af6d1b2e6d110b78
Platform:
osname=linux
osvers=5.4.0-182-generic
archname=x86_64-linux
uname='linux k93focal 5.4.0-182-generic #202-ubuntu smp fri apr 26 12:29:36 utc 2024 x86_64 x86_64 x86_64 gnulinux '
config_args='-Dprefix=/home/sand/src/perl/repoperls/installed-perls/host/k93focal/v5.40.0-RC1/b254 -Dmyhostname=k93focal -Dinstallusrbinperl=n -Uversiononly -Dusedevel -des -Ui_db -Dlibswanted=cl pthread socket inet nsl gdbm dbm malloc dl ld sun m crypt sec util c cposix posix ucb BSD gdbm_compat -Uuseithreads -Uuselongdouble -DEBUGGING=both'
hint=recommended
useposix=true
d_sigaction=define
useithreads=undef
usemultiplicity=undef
use64bitint=define
use64bitall=define
uselongdouble=undef
usemymalloc=n
default_inc_excludes_dot=define
Compiler:
cc='cc'
ccflags ='-fwrapv -DDEBUGGING -fno-strict-aliasing -pipe -fstack-protector-strong -I/usr/local/include -D_LARGEFILE_SOURCE -D_FILE_OFFSET_BITS=64'
optimize='-O2 -g'
cppflags='-fwrapv -DDEBUGGING -fno-strict-aliasing -pipe -fstack-protector-strong -I/usr/local/include'
ccversion=''
gccversion='9.4.0'
gccosandvers=''
intsize=4
longsize=8
ptrsize=8
doublesize=8
byteorder=12345678
doublekind=3
d_longlong=define
longlongsize=8
d_longdbl=define
longdblsize=16
longdblkind=3
ivtype='long'
ivsize=8
nvtype='double'
nvsize=8
Off_t='off_t'
lseeksize=8
alignbytes=8
prototype=define
Linker and Libraries:
ld='cc'
ldflags =' -fstack-protector-strong -L/usr/local/lib'
libpth=/usr/local/lib /usr/lib/x86_64-linux-gnu /usr/lib /usr/lib64
libs=-lpthread -lnsl -ldl -lm -lcrypt -lutil -lc
perllibs=-lpthread -lnsl -ldl -lm -lcrypt -lutil -lc
libc=libc-2.31.so
so=so
useshrplib=false
libperl=libperl.a
gnulibc_version='2.31'
Dynamic Linking:
dlsrc=dl_dlopen.xs
dlext=so
d_dlsymun=undef
ccdlflags='-Wl,-E'
cccdlflags='-fPIC'
lddlflags='-shared -O2 -g -L/usr/local/lib -fstack-protector-strong'
Characteristics of this binary (from libperl):
Compile-time options:
DEBUGGING
HAS_LONG_DOUBLE
HAS_STRTOLD
HAS_TIMES
PERLIO_LAYERS
PERL_COPY_ON_WRITE
PERL_DONT_CREATE_GVSV
PERL_HASH_FUNC_SIPHASH13
PERL_HASH_USE_SBOX32
PERL_MALLOC_WRAP
PERL_OP_PARENT
PERL_PRESERVE_IVUV
PERL_USE_DEVEL
PERL_USE_SAFE_PUTENV
USE_64_BIT_ALL
USE_64_BIT_INT
USE_LARGE_FILES
USE_LOCALE
USE_LOCALE_COLLATE
USE_LOCALE_CTYPE
USE_LOCALE_NUMERIC
USE_LOCALE_TIME
USE_PERLIO
USE_PERL_ATOF
Locally applied patches:
RC1
Built under linux
Compiled at May 26 2024 02:59:23
%ENV:
PERL="/tmp/basesmoker-reloperl-PJME/bin/perl"
PERL5LIB="/tmp/loop_over_bdir-363039-qkDIJD/App-oo_modulino_zsh_completion_helper-0.04-0/blib/arch:/tmp/loop_over_bdir-363039-qkDIJD/App-oo_modulino_zsh_completion_helper-0.04-0/blib/lib:/tmp/loop_over_bdir-363039-qkDIJD/Lingua-BioYaTeA-0.11-0/blib/arch:/tmp/loop_over_bdir-363039-qkDIJD/Lingua-BioYaTeA-0.11-0/blib/lib:/tmp/loop_over_bdir-363039-qkDIJD/Lingua-YaTeA-0.626-0/blib/arch:/tmp/loop_over_bdir-363039-qkDIJD/Lingua-YaTeA-0.626-0/blib/lib"
PERL5OPT=""
PERL5_CPANPLUS_IS_RUNNING="363047"
PERL5_CPAN_IS_RUNNING="363047"
PERL_CANARY_STABILITY_NOPROMPT="1"
PERL_MM_USE_DEFAULT="1"
PERL_USE_UNSAFE_INC="1"
@INC:
/tmp/loop_over_bdir-363039-qkDIJD/App-oo_modulino_zsh_completion_helper-0.04-0/blib/arch
/tmp/loop_over_bdir-363039-qkDIJD/App-oo_modulino_zsh_completion_helper-0.04-0/blib/lib
/tmp/loop_over_bdir-363039-qkDIJD/Lingua-BioYaTeA-0.11-0/blib/arch
/tmp/loop_over_bdir-363039-qkDIJD/Lingua-BioYaTeA-0.11-0/blib/lib
/tmp/loop_over_bdir-363039-qkDIJD/Lingua-YaTeA-0.626-0/blib/arch
/tmp/loop_over_bdir-363039-qkDIJD/Lingua-YaTeA-0.626-0/blib/lib
/home/sand/src/perl/repoperls/installed-perls/host/k93focal/v5.40.0-RC1/b254/lib/site_perl/5.40.0/x86_64-linux
/home/sand/src/perl/repoperls/installed-perls/host/k93focal/v5.40.0-RC1/b254/lib/site_perl/5.40.0
/home/sand/src/perl/repoperls/installed-perls/host/k93focal/v5.40.0-RC1/b254/lib/5.40.0/x86_64-linux
/home/sand/src/perl/repoperls/installed-perls/host/k93focal/v5.40.0-RC1/b254/lib/5.40.0
.