Module-CPANTS-Analyse v1.02 Perl 5 v5.38.2 x86_64-linux-ld
- Status
- Pass
- From
- Martin Becker
- Dist
-
Module-CPANTS-Analyse v1.02
- Platform
- Perl 5 v5.38.2 x86_64-linux-ld
- Date
- 2023-12-22 18:15:27
- ID
- 1577d50c-a0f6-11ee-bba8-09422598c536
This distribution has been tested as part of the CPAN Testers
project, supporting the Perl programming language. See
http://wiki.cpantesters.org/ for more information or email
questions to cpan-testers-discuss@perl.org
--
Dear Kenichi Ishigaki,
This is a computer-generated report for Module-CPANTS-Analyse-1.02
on perl 5.38.2, created by CPAN-Reporter-1.2019.
Thank you for uploading your work to CPAN. Congratulations!
All tests were successful.
Sections of this report:
* Tester comments
* Program output
* Prerequisites
* Environment and other context
------------------------------
TESTER COMMENTS
------------------------------
Additional comments from tester:
none provided
------------------------------
PROGRAM OUTPUT
------------------------------
Output from '/usr/bin/make test':
PERL_DL_NONLAZY=1 "/opt/perl538/bin/perl" "-MExtUtils::Command::MM" "-MTest::Harness" "-e" "undef *Test::Harness::Switches; test_harness(0, 'blib/lib', 'blib/arch')" t/*.t t/*/*.t
t/00_load.t .............. ok
t/05_testdir.t ........... ok
t/05_testfile.t .......... ok
t/analyse/manifest.t ..... ok
t/analyse/pod.t .......... ok
t/analyse/uses.t ......... ok
t/older_test_kwalitee.t .. ok
t/x_cpants.t ............. ok
All tests successful.
Files=8, Tests=54, 3 wallclock secs ( 0.03 usr 0.02 sys + 2.21 cusr 0.34 csys = 2.60 CPU)
Result: PASS
------------------------------
PREREQUISITES
------------------------------
Prerequisite modules loaded:
requires:
Module Need Have
--------------------------------- -------- --------
Archive::Any::Lite 0.06 0.11
Archive::Tar 1.76 3.02
Array::Diff 0.04 0.09
Class::Accessor 0.19 0.51
CPAN::Meta::Validator 2.133380 2.150010
CPAN::Meta::YAML 0.008 0.018
Data::Binary 0 0.01
File::Find::Object v0.2.1 0.3.8
JSON::PP 0 4.16
List::Util 1.33 1.63
Module::Find 0 0.16
Parse::Distname 0 0.05
perl 5.008001 5.038002
Perl::PrereqScanner::NotQuiteLite 0.9901 0.9917
Software::License 0.103012 0.104004
Text::Balanced 0 2.06
version 0.73 0.9929
build_requires:
Module Need Have
--------------------------------- -------- --------
Cwd 0 3.89
ExtUtils::MakeMaker 0 7.70
Test::FailWarnings 0 0.008
Test::More 0.88 1.302194
configure_requires:
Module Need Have
--------------------------------- -------- --------
ExtUtils::MakeMaker::CPANfile 0.09 0.09
perl 5.008001 5.038002
------------------------------
ENVIRONMENT AND OTHER CONTEXT
------------------------------
Environment variables:
LANG = C.UTF-8
LC_COLLATE = C
PATH = /home/martin/bin:/opt/perl538/bin:/opt/rakudo/bin:/opt/rakudo/share/perl6/site/bin:/opt/rakudo/share/perl6/core/bin:/usr/local/bin:/usr/bin:/bin:/usr/local/games:/usr/games
PERL5LIB =
PERL5OPT =
PERL5_CPANPLUS_IS_RUNNING = 85934
PERL5_CPAN_IS_RUNNING = 85934
PERL_USE_UNSAFE_INC = 1
SHELL = /bin/bash
TERM = xterm-256color
Perl special variables (and OS-specific diagnostics, for MSWin32):
$^X = /opt/perl538/bin/perl
$UID/$EUID = 1000 / 1000
$GID = 1000 24 25 27 29 30 44 46 50 108 113 114 119 123 1000
$EGID = 1000 24 25 27 29 30 44 46 50 108 113 114 119 123 1000
Perl module toolchain versions installed:
Module Have
------------------- --------
CPAN 2.36
CPAN::Meta 2.150010
Cwd 3.89
ExtUtils::CBuilder 0.280238
ExtUtils::Command 7.70
ExtUtils::Install 2.22
ExtUtils::MakeMaker 7.70
ExtUtils::Manifest 1.75
ExtUtils::ParseXS 3.51
File::Spec 3.88
JSON 4.10
JSON::PP 4.16
Module::Build 0.4234
Module::Signature 0.88
Parse::CPAN::Meta 2.150010
Test2 1.302194
Test::Harness 3.44
Test::More 1.302194
YAML 1.30
YAML::Syck 1.34
version 0.9929
--
Summary of my perl5 (revision 5 version 38 subversion 2) configuration:
Platform:
osname=linux
osvers=6.1.0-13-amd64
archname=x86_64-linux-ld
uname='linux sylvester 6.1.0-13-amd64 #1 smp preempt_dynamic debian 6.1.55-1 (2023-09-29) x86_64 gnulinux '
config_args='-Dprefix=/opt/perl538 -Duse64bitint -Duse64bitall -Duselongdouble -Dperladmin=none -Dcf_email=cpants@sylvester.localdomain -de'
hint=recommended
useposix=true
d_sigaction=define
useithreads=undef
usemultiplicity=undef
use64bitint=define
use64bitall=define
uselongdouble=define
usemymalloc=n
default_inc_excludes_dot=define
Compiler:
cc='cc'
ccflags ='-fwrapv -fno-strict-aliasing -pipe -fstack-protector-strong -I/usr/local/include -D_LARGEFILE_SOURCE -D_FILE_OFFSET_BITS=64 -D_FORTIFY_SOURCE=2'
optimize='-O2'
cppflags='-fwrapv -fno-strict-aliasing -pipe -fstack-protector-strong -I/usr/local/include'
ccversion=''
gccversion='12.2.0'
gccosandvers=''
intsize=4
longsize=8
ptrsize=8
doublesize=8
byteorder=12345678
doublekind=3
d_longlong=define
longlongsize=8
d_longdbl=define
longdblsize=16
longdblkind=3
ivtype='long'
ivsize=8
nvtype='long double'
nvsize=16
Off_t='off_t'
lseeksize=8
alignbytes=16
prototype=define
Linker and Libraries:
ld='cc'
ldflags =' -fstack-protector-strong -L/usr/local/lib'
libpth=/usr/local/lib /usr/lib/x86_64-linux-gnu /usr/lib /usr/lib64
libs=-lpthread -ldb -ldl -lm -lcrypt -lutil -lc
perllibs=-lpthread -ldl -lm -lcrypt -lutil -lc
libc=/lib/x86_64-linux-gnu/libc.so.6
so=so
useshrplib=false
libperl=libperl.a
gnulibc_version='2.36'
Dynamic Linking:
dlsrc=dl_dlopen.xs
dlext=so
d_dlsymun=undef
ccdlflags='-Wl,-E'
cccdlflags='-fPIC'
lddlflags='-shared -O2 -L/usr/local/lib -fstack-protector-strong'
Characteristics of this binary (from libperl):
Compile-time options:
HAS_LONG_DOUBLE
HAS_STRTOLD
HAS_TIMES
PERLIO_LAYERS
PERL_COPY_ON_WRITE
PERL_DONT_CREATE_GVSV
PERL_HASH_FUNC_SIPHASH13
PERL_HASH_USE_SBOX32
PERL_MALLOC_WRAP
PERL_OP_PARENT
PERL_PRESERVE_IVUV
PERL_USE_SAFE_PUTENV
USE_64_BIT_ALL
USE_64_BIT_INT
USE_LARGE_FILES
USE_LOCALE
USE_LOCALE_COLLATE
USE_LOCALE_CTYPE
USE_LOCALE_NUMERIC
USE_LOCALE_TIME
USE_LONG_DOUBLE
USE_PERLIO
USE_PERL_ATOF
Built under linux
Compiled at Dec 22 2023 14:23:07
%ENV:
PERL5LIB=""
PERL5OPT=""
PERL5_CPANPLUS_IS_RUNNING="85934"
PERL5_CPAN_IS_RUNNING="85934"
PERL_USE_UNSAFE_INC="1"
@INC:
/opt/perl538/lib/site_perl/5.38.2/x86_64-linux-ld
/opt/perl538/lib/site_perl/5.38.2
/opt/perl538/lib/5.38.2/x86_64-linux-ld
/opt/perl538/lib/5.38.2
/opt/perl538/lib/site_perl/5.38.0/x86_64-linux-ld
/opt/perl538/lib/site_perl/5.38.0
/opt/perl538/lib/site_perl
.