Report for Plucene-1.25

Back
From: metabase:user:de0c1687-6c17-1014-803a-aa7147b9bd01
Subject: PASS Plucene-1.25 v5.16.2 
Date: 2013-03-08T02:11:42Z

This distribution has been tested as part of the CPAN Testers
project, supporting the Perl programming language.  See
http://wiki.cpantesters.org/ for more information or email
questions to cpan-testers-discuss@perl.org


--
Dear Tony Bowden,

This is a computer-generated report for Plucene-1.25
on perl 5.16.2, created by CPAN-Reporter-1.2009.

Thank you for uploading your work to CPAN.  Congratulations!
All tests were successful.

Sections of this report:

    * Tester comments
    * Program output
    * Prerequisites
    * Environment and other context

------------------------------
TESTER COMMENTS
------------------------------

Additional comments from tester:

this report is from an automated smoke testing program
and was not reviewed by a human for accuracy

------------------------------
PROGRAM OUTPUT
------------------------------

Output from 'C:\strawberry\perl\bin\perl.exe ./Build test':

t\98_pod_coverage.t .. skipped: Test::Pod::Coverage 1.00 required for testing POD coverage
t\99_pod.t ........... skipped: Test::Pod 1.00+ required for testing POD
t\analyzers.t ........ ok
t\datesearch.t ....... ok
t\dateserializer.t ... ok
t\deletable.t ........ ok
t\delete.t ........... ok
t\indexsearcher.t .... ok
t\mergefactor.t ...... ok
t\queryparser.t ...... ok
t\regress-01.t ....... ok
t\regress-02.t ....... ok
t\regress-04.t ....... ok
t\search_hits.t ...... ok
cannot unlink file for C:\Users\MMUSGR~1\AppData\Local\Temp\4ooCwCphHH\_7.f1: Permission denied at C:/strawberry/perl/lib/File/Temp.pm line 902.
cannot unlink file for C:\Users\MMUSGR~1\AppData\Local\Temp\4ooCwCphHH\_7.fdt: Permission denied at C:/strawberry/perl/lib/File/Temp.pm line 902.
cannot unlink file for C:\Users\MMUSGR~1\AppData\Local\Temp\4ooCwCphHH\_7.fdx: Permission denied at C:/strawberry/perl/lib/File/Temp.pm line 902.
cannot unlink file for C:\Users\MMUSGR~1\AppData\Local\Temp\4ooCwCphHH\_7.tis: Permission denied at C:/strawberry/perl/lib/File/Temp.pm line 902.
cannot remove directory for C:\Users\MMUSGR~1\AppData\Local\Temp\4ooCwCphHH: Directory not empty at C:/strawberry/perl/lib/File/Temp.pm line 902.
t\searchtest.t ....... ok
t\segments.t ......... ok
t\similarity.t ....... ok
t\sloppy_scorer.t .... ok
# Indexing the entire Odyssey. This may take some time
# t/data/book1
# t/data/book10
# t/data/book11
# t/data/book12
# t/data/book13
# t/data/book14
# t/data/book15
# t/data/book16
# t/data/book17
# t/data/book18
# t/data/book19
# t/data/book2
# t/data/book20
# t/data/book21
# t/data/book22
# t/data/book23
# t/data/book24
# t/data/book3
# t/data/book4
# t/data/book5
# t/data/book6
# t/data/book7
# t/data/book8
# t/data/book9
# t/data/preface
# Closing
cannot unlink file for C:\Users\MMUSGR~1\AppData\Local\Temp\ZoEObAaUUT\_10.f1: Permission denied at C:/strawberry/perl/lib/File/Temp.pm line 902.
cannot unlink file for C:\Users\MMUSGR~1\AppData\Local\Temp\ZoEObAaUUT\_10.f2: Permission denied at C:/strawberry/perl/lib/File/Temp.pm line 902.
cannot unlink file for C:\Users\MMUSGR~1\AppData\Local\Temp\ZoEObAaUUT\_10.f3: Permission denied at C:/strawberry/perl/lib/File/Temp.pm line 902.
cannot unlink file for C:\Users\MMUSGR~1\AppData\Local\Temp\ZoEObAaUUT\_10.fdt: Permission denied at C:/strawberry/perl/lib/File/Temp.pm line 902.
cannot unlink file for C:\Users\MMUSGR~1\AppData\Local\Temp\ZoEObAaUUT\_10.fdx: Permission denied at C:/strawberry/perl/lib/File/Temp.pm line 902.
cannot unlink file for C:\Users\MMUSGR~1\AppData\Local\Temp\ZoEObAaUUT\_10.tis: Permission denied at C:/strawberry/perl/lib/File/Temp.pm line 902.
cannot unlink file for C:\Users\MMUSGR~1\AppData\Local\Temp\ZoEObAaUUT\_21.f1: Permission denied at C:/strawberry/perl/lib/File/Temp.pm line 902.
cannot unlink file for C:\Users\MMUSGR~1\AppData\Local\Temp\ZoEObAaUUT\_21.f2: Permission denied at C:/strawberry/perl/lib/File/Temp.pm line 902.
cannot unlink file for C:\Users\MMUSGR~1\AppData\Local\Temp\ZoEObAaUUT\_21.f3: Permission denied at C:/strawberry/perl/lib/File/Temp.pm line 902.
cannot unlink file for C:\Users\MMUSGR~1\AppData\Local\Temp\ZoEObAaUUT\_21.fdt: Permission denied at C:/strawberry/perl/lib/File/Temp.pm line 902.
cannot unlink file for C:\Users\MMUSGR~1\AppData\Local\Temp\ZoEObAaUUT\_21.fdx: Permission denied at C:/strawberry/perl/lib/File/Temp.pm line 902.
cannot unlink file for C:\Users\MMUSGR~1\AppData\Local\Temp\ZoEObAaUUT\_21.tis: Permission denied at C:/strawberry/perl/lib/File/Temp.pm line 902.
cannot unlink file for C:\Users\MMUSGR~1\AppData\Local\Temp\ZoEObAaUUT\_27.f1: Permission denied at C:/strawberry/perl/lib/File/Temp.pm line 902.
cannot unlink file for C:\Users\MMUSGR~1\AppData\Local\Temp\ZoEObAaUUT\_27.f2: Permission denied at C:/strawberry/perl/lib/File/Temp.pm line 902.
cannot unlink file for C:\Users\MMUSGR~1\AppData\Local\Temp\ZoEObAaUUT\_27.f3: Permission denied at C:/strawberry/perl/lib/File/Temp.pm line 902.
cannot unlink file for C:\Users\MMUSGR~1\AppData\Local\Temp\ZoEObAaUUT\_27.fdt: Permission denied at C:/strawberry/perl/lib/File/Temp.pm line 902.
cannot unlink file for C:\Users\MMUSGR~1\AppData\Local\Temp\ZoEObAaUUT\_27.fdx: Permission denied at C:/strawberry/perl/lib/File/Temp.pm line 902.
cannot unlink file for C:\Users\MMUSGR~1\AppData\Local\Temp\ZoEObAaUUT\_27.tis: Permission denied at C:/strawberry/perl/lib/File/Temp.pm line 902.
cannot remove directory for C:\Users\MMUSGR~1\AppData\Local\Temp\ZoEObAaUUT: Directory not empty at C:/strawberry/perl/lib/File/Temp.pm line 902.
t\stress.t ........... ok
t\terminfostest.t .... ok
t\testbitvector.t .... ok
t\testindexwriter.t .. ok
t\tokenfilter.t ...... ok
t\tokenizer.t ........ ok
t\utf8.t ............. ok
All tests successful.
Files=25, Tests=6030, 33 wallclock secs ( 0.64 usr +  0.13 sys =  0.77 CPU)
Result: PASS

------------------------------
PREREQUISITES
------------------------------

Prerequisite modules loaded:

requires:

    Module                Need      Have   
    --------------------- --------- -------
    Bit::Vector::Minimal  1.0       1.3    
    Carp                  0         1.26   
    Class::Accessor       0.18      0.34   
    Class::Accessor::Fast 0.02      0.34   
    Class::Virtual        0.03      0.06   
    Encode                0         2.47   
    File::Spec::Functions 1.1       3.39_02
    IO::File              1.08      1.16   
    IO::Handle            1.21_00   1.33   
    IO::Scalar            2.104     2.110  
    Lingua::Stem::En      2.12      2.16   
    List::Util            1.13      1.25   
    Memoize               1.01      1.03   
    Tie::Array::Sorted    1.1       1.41   
    Time::Piece           1.08      1.20_01

build_requires:

    Module                Need      Have   
    --------------------- --------- -------
    File::Slurp           2002.1031 9999.19
    Test::Harness         2.30      3.25   


------------------------------
ENVIRONMENT AND OTHER CONTEXT
------------------------------

Environment variables:

    AUTOMATED_TESTING = 1
    COMSPEC = C:\Windows\system32\cmd.exe
    NUMBER_OF_PROCESSORS = 4
    PATH = C:\Program Files (x86)\NVIDIA Corporation\PhysX\Common;C:\Windows\system32;C:\Windows;C:\Windows\System32\Wbem;C:\Windows\System32\WindowsPowerShell\v1.0\;C:\Program Files (x86)\ATI Technologies\ATI.ACE\Core-Static;C:\Program Files\MySQL\MySQL Server 5.5\bin;c:\Program Files (x86)\Microsoft SQL Server\100\Tools\Binn\;c:\Program Files\Microsoft SQL Server\100\Tools\Binn\;c:\Program Files\Microsoft SQL Server\100\DTS\Binn\;C:\strawberry\c\bin;C:\strawberry\perl\site\bin;C:\strawberry\perl\bin
    PERL5LIB = C:\strawberry\cpan\build\Class-Virtual-0.06-nDkv4A/blib/arch;C:\strawberry\cpan\build\Class-Virtual-0.06-nDkv4A/blib/lib;C:\strawberry\cpan\build\Class-Data-Inheritable-0.08-bwziN6/blib/arch;C:\strawberry\cpan\build\Class-Data-Inheritable-0.08-bwziN6/blib/lib;C:\strawberry\cpan\build\Class-ISA-0.36-WzGoDo/blib/arch;C:\strawberry\cpan\build\Class-ISA-0.36-WzGoDo/blib/lib;C:\strawberry\cpan\build\Carp-Assert-0.20-QPuvdx/blib/arch;C:\strawberry\cpan\build\Carp-Assert-0.20-QPuvdx/blib/lib;C:\strawberry\cpan\build\Tie-Array-Sorted-1.41-CbHNsC/blib/arch;C:\strawberry\cpan\build\Tie-Array-Sorted-1.41-CbHNsC/blib/lib;C:\strawberry\cpan\build\Bit-Vector-Minimal-1.3-e4PjsA/blib/arch;C:\strawberry\cpan\build\Bit-Vector-Minimal-1.3-e4PjsA/blib/lib;C:\strawberry\cpan\build\Lucene-QueryParser-1.04-1KcPU7/blib/arch;C:\strawberry\cpan\build\Lucene-QueryParser-1.04-1KcPU7/blib/lib;C:\strawberry\cpan\build\UNIVERSAL-moniker-0.08-45k0h7/blib/arch;C:\strawberry\cpan\build\UNIVERSAL-moniker-0.08-45k0h7/blib/lib;C:\strawberry\cpan\build\Spreadsheet-ParseExcel-0.59-7qwOGB/blib/arch;C:\strawberry\cpan\build\Spreadsheet-ParseExcel-0.59-7qwOGB/blib/lib;C:\strawberry\cpan\build\Digest-Perl-MD5-1.8-hd895h/blib/arch;C:\strawberry\cpan\build\Digest-Perl-MD5-1.8-hd895h/blib/lib;C:\strawberry\cpan\build\OLE-Storage_Lite-0.19-ywewWw/blib/arch;C:\strawberry\cpan\build\OLE-Storage_Lite-0.19-ywewWw/blib/lib;C:\strawberry\cpan\build\Crypt-RC4-2.02-XQ6NML/blib/arch;C:\strawberry\cpan\build\Crypt-RC4-2.02-XQ6NML/blib/lib
    PERL5OPT = 
    PERL5_CPANPLUS_IS_RUNNING = 12432
    PERL5_CPAN_IS_RUNNING = 12432
    PERL5_CPAN_IS_RUNNING_IN_RECURSION = 5968,12432
    PERL_CR_SMOKER_CURRENT = Plucene-SearchEngine-Index-MSOffice-0.001
    PERL_EXTUTILS_AUTOINSTALL = --defaultdeps
    PERL_JSON_BACKEND = JSON::XS
    PERL_MM_USE_DEFAULT = 1
    PERL_YAML_BACKEND = YAML
    PROCESSOR_IDENTIFIER = AMD64 Family 16 Model 4 Stepping 3, AuthenticAMD
    TEMP = C:\Users\MMUSGR~1\AppData\Local\Temp
    TERM = dumb

Perl special variables (and OS-specific diagnostics, for MSWin32):

    $^X = C:\strawberry\perl\bin\perl.exe
    $UID/$EUID = 0 / 0
    $GID = 0
    $EGID = 0
    Win32::GetOSName = Win7
    Win32::GetOSVersion = Service Pack 1, 6, 1, 7601, 2, 1, 0, 768, 1
    Win32::FsType = NTFS
    Win32::IsAdminUser = 0

Perl module toolchain versions installed:

    Module              Have    
    ------------------- --------
    CPAN                1.9800  
    CPAN::Meta          2.120921
    Cwd                 3.39_02 
    ExtUtils::CBuilder  0.280206
    ExtUtils::Command   1.17    
    ExtUtils::Install   1.58    
    ExtUtils::MakeMaker 6.63_02 
    ExtUtils::Manifest  1.61    
    ExtUtils::ParseXS   3.16    
    File::Spec          3.39_02 
    JSON                2.53    
    JSON::PP            2.27200 
    Module::Build       0.4003  
    Module::Signature   n/a     
    Parse::CPAN::Meta   1.4404  
    Test::Harness       3.25    
    Test::More          0.98    
    YAML                0.84    
    YAML::Syck          1.21    
    version             0.9901  


--

Summary of my perl5 (revision 5 version 16 subversion 2) configuration:
   
  Platform:
    osname=MSWin32, osvers=4.0, archname=MSWin32-x64-multi-thread
    uname='Win32 strawberry-perl 5.16.2.1 #1 Fri Nov  2 03:03:35 2012 x64'
    config_args='undef'
    hint=recommended, useposix=true, d_sigaction=undef
    useithreads=define, usemultiplicity=define
    useperlio=define, d_sfio=undef, uselargefiles=define, usesocks=undef
    use64bitint=define, use64bitall=undef, uselongdouble=undef
    usemymalloc=n, bincompat5005=undef
  Compiler:
    cc='gcc', ccflags =' -s -O2 -DWIN32 -DWIN64 -DCONSERVATIVE  -DPERL_TEXTMODE_SCRIPTS -DPERL_IMPLICIT_CONTEXT -DPERL_IMPLICIT_SYS -fno-strict-aliasing -mms-bitfields',
    optimize='-s -O2',
    cppflags='-DWIN32'
    ccversion='', gccversion='4.6.3', gccosandvers=''
    intsize=4, longsize=4, ptrsize=8, doublesize=8, byteorder=12345678
    d_longlong=define, longlongsize=8, d_longdbl=define, longdblsize=12
    ivtype='long long', ivsize=8, nvtype='double', nvsize=8, Off_t='long long', lseeksize=8
    alignbytes=8, prototype=define
  Linker and Libraries:
    ld='g++', ldflags ='-s -L"C:\strawberry\perl\lib\CORE" -L"C:\strawberry\c\lib"'
    libpth=C:\strawberry\c\lib C:\strawberry\c\x86_64-w64-mingw32\lib
    libs=-lmoldname -lkernel32 -luser32 -lgdi32 -lwinspool -lcomdlg32 -ladvapi32 -lshell32 -lole32 -loleaut32 -lnetapi32 -luuid -lws2_32 -lmpr -lwinmm -lversion -lodbc32 -lodbccp32 -lcomctl32
    perllibs=-lmoldname -lkernel32 -luser32 -lgdi32 -lwinspool -lcomdlg32 -ladvapi32 -lshell32 -lole32 -loleaut32 -lnetapi32 -luuid -lws2_32 -lmpr -lwinmm -lversion -lodbc32 -lodbccp32 -lcomctl32
    libc=, so=dll, useshrplib=true, libperl=libperl516.a
    gnulibc_version=''
  Dynamic Linking:
    dlsrc=dl_win32.xs, dlext=dll, d_dlsymun=undef, ccdlflags=' '
    cccdlflags=' ', lddlflags='-mdll -s -L"C:\strawberry\perl\lib\CORE" -L"C:\strawberry\c\lib"'


Characteristics of this binary (from libperl): 
  Compile-time options: HAS_TIMES HAVE_INTERP_INTERN MULTIPLICITY
                        PERLIO_LAYERS PERL_DONT_CREATE_GVSV
                        PERL_IMPLICIT_CONTEXT PERL_IMPLICIT_SYS
                        PERL_MALLOC_WRAP PERL_PRESERVE_IVUV PL_OP_SLAB_ALLOC
                        USE_64_BIT_INT USE_ITHREADS USE_LARGE_FILES
                        USE_LOCALE USE_LOCALE_COLLATE USE_LOCALE_CTYPE
                        USE_LOCALE_NUMERIC USE_PERLIO USE_PERL_ATOF
  Built under MSWin32
  Compiled at Nov  2 2012 03:12:17
  %ENV:
    PERL5LIB="C:\strawberry\cpan\build\Class-Virtual-0.06-nDkv4A/blib/arch;C:\strawberry\cpan\build\Class-Virtual-0.06-nDkv4A/blib/lib;C:\strawberry\cpan\build\Class-Data-Inheritable-0.08-bwziN6/blib/arch;C:\strawberry\cpan\build\Class-Data-Inheritable-0.08-bwziN6/blib/lib;C:\strawberry\cpan\build\Class-ISA-0.36-WzGoDo/blib/arch;C:\strawberry\cpan\build\Class-ISA-0.36-WzGoDo/blib/lib;C:\strawberry\cpan\build\Carp-Assert-0.20-QPuvdx/blib/arch;C:\strawberry\cpan\build\Carp-Assert-0.20-QPuvdx/blib/lib;C:\strawberry\cpan\build\Tie-Array-Sorted-1.41-CbHNsC/blib/arch;C:\strawberry\cpan\build\Tie-Array-Sorted-1.41-CbHNsC/blib/lib;C:\strawberry\cpan\build\Bit-Vector-Minimal-1.3-e4PjsA/blib/arch;C:\strawberry\cpan\build\Bit-Vector-Minimal-1.3-e4PjsA/blib/lib;C:\strawberry\cpan\build\Lucene-QueryParser-1.04-1KcPU7/blib/arch;C:\strawberry\cpan\build\Lucene-QueryParser-1.04-1KcPU7/blib/lib;C:\strawberry\cpan\build\UNIVERSAL-moniker-0.08-45k0h7/blib/arch;C:\strawberry\cpan\build\UNIVERSAL-moniker-0.08-45k0h7/blib/lib;C:\strawberry\cpan\build\Spreadsheet-ParseExcel-0.59-7qwOGB/blib/arch;C:\strawberry\cpan\build\Spreadsheet-ParseExcel-0.59-7qwOGB/blib/lib;C:\strawberry\cpan\build\Digest-Perl-MD5-1.8-hd895h/blib/arch;C:\strawberry\cpan\build\Digest-Perl-MD5-1.8-hd895h/blib/lib;C:\strawberry\cpan\build\OLE-Storage_Lite-0.19-ywewWw/blib/arch;C:\strawberry\cpan\build\OLE-Storage_Lite-0.19-ywewWw/blib/lib;C:\strawberry\cpan\build\Crypt-RC4-2.02-XQ6NML/blib/arch;C:\strawberry\cpan\build\Crypt-RC4-2.02-XQ6NML/blib/lib"
    PERL5_CPANPLUS_IS_RUNNING="12432"
    PERL5_CPAN_IS_RUNNING="12432"
    PERL5_CPAN_IS_RUNNING_IN_RECURSION="5968,12432"
    PERL_CR_SMOKER_CURRENT="Plucene-SearchEngine-Index-MSOffice-0.001"
    PERL_EXTUTILS_AUTOINSTALL="--defaultdeps"
    PERL_JSON_BACKEND="JSON::XS"
    PERL_MM_USE_DEFAULT="1"
    PERL_YAML_BACKEND="YAML"
  @INC:
    C:\strawberry\cpan\build\Class-Virtual-0.06-nDkv4A/blib/arch
    C:\strawberry\cpan\build\Class-Virtual-0.06-nDkv4A/blib/lib
    C:\strawberry\cpan\build\Class-Data-Inheritable-0.08-bwziN6/blib/arch
    C:\strawberry\cpan\build\Class-Data-Inheritable-0.08-bwziN6/blib/lib
    C:\strawberry\cpan\build\Class-ISA-0.36-WzGoDo/blib/arch
    C:\strawberry\cpan\build\Class-ISA-0.36-WzGoDo/blib/lib
    C:\strawberry\cpan\build\Carp-Assert-0.20-QPuvdx/blib/arch
    C:\strawberry\cpan\build\Carp-Assert-0.20-QPuvdx/blib/lib
    C:\strawberry\cpan\build\Tie-Array-Sorted-1.41-CbHNsC/blib/arch
    C:\strawberry\cpan\build\Tie-Array-Sorted-1.41-CbHNsC/blib/lib
    C:\strawberry\cpan\build\Bit-Vector-Minimal-1.3-e4PjsA/blib/arch
    C:\strawberry\cpan\build\Bit-Vector-Minimal-1.3-e4PjsA/blib/lib
    C:\strawberry\cpan\build\Lucene-QueryParser-1.04-1KcPU7/blib/arch
    C:\strawberry\cpan\build\Lucene-QueryParser-1.04-1KcPU7/blib/lib
    C:\strawberry\cpan\build\UNIVERSAL-moniker-0.08-45k0h7/blib/arch
    C:\strawberry\cpan\build\UNIVERSAL-moniker-0.08-45k0h7/blib/lib
    C:\strawberry\cpan\build\Spreadsheet-ParseExcel-0.59-7qwOGB/blib/arch
    C:\strawberry\cpan\build\Spreadsheet-ParseExcel-0.59-7qwOGB/blib/lib
    C:\strawberry\cpan\build\Digest-Perl-MD5-1.8-hd895h/blib/arch
    C:\strawberry\cpan\build\Digest-Perl-MD5-1.8-hd895h/blib/lib
    C:\strawberry\cpan\build\OLE-Storage_Lite-0.19-ywewWw/blib/arch
    C:\strawberry\cpan\build\OLE-Storage_Lite-0.19-ywewWw/blib/lib
    C:\strawberry\cpan\build\Crypt-RC4-2.02-XQ6NML/blib/arch
    C:\strawberry\cpan\build\Crypt-RC4-2.02-XQ6NML/blib/lib
    C:/strawberry/perl/site/lib
    C:/strawberry/perl/vendor/lib
    C:/strawberry/perl/lib
    .