Report for Dist-Zilla-Plugin-MinimumPerl-1.006

Back
From: metabase:user:314402c4-2aae-11df-837a-5e0a49663a4f
Subject: PASS Dist-Zilla-Plugin-MinimumPerl-1.006 v5.23.8 FreeBSD
Date: 2016-02-22T04:23:55Z

This distribution has been tested as part of the CPAN Testers
project, supporting the Perl programming language.  See
http://wiki.cpantesters.org/ for more information or email
questions to cpan-testers-discuss@perl.org


--
Dear Apocalypse,

This is a computer-generated report for Dist-Zilla-Plugin-MinimumPerl-1.006
on perl 5.23.8, created by CPAN-Reporter-1.2015.

Thank you for uploading your work to CPAN.  Congratulations!
All tests were successful.

Sections of this report:

    * Tester comments
    * Program output
    * Prerequisites
    * Environment and other context

------------------------------
TESTER COMMENTS
------------------------------

Additional comments from tester:

none provided

------------------------------
PROGRAM OUTPUT
------------------------------

Output from './Build test':

Assuming NOT a POSIX class since there must be a starting ':' in regex; marked by <-- HERE in m/ \A \\ (?:
		[^\w\s] |		# delimiters/metas
		[tnrfae] |		# C-style escapes
		0 [01234567]{0,2} |	# octal
#		[01234567]{1,3} |	# made from backref by lexer
		c [][ <-- HERE [:alpha:]\@\\^_?] |	# control characters
		x (?: \{ [[:xdigit:]]* \} | [[:xdigit:]]{0,2} ) | # hex
		o [{] [01234567]+ [}] |	# octal as of 5.13.3
##		N (?: \{ (?: [[:alpha:]] [\w\s:()-]* | # must begin w/ alpha
##		    U [+] [[:xdigit:]]+ ) \} ) |	# unicode
		N (?: [{] (?= \D ) [^\}]+ [}] )	# unicode
	    ) / at /usr/perl5.23.8p/lib/site_perl/5.23.8/PPIx/Regexp/Token/Literal.pm line 248.
t/00-compile.t ................ ok
# 
Assuming NOT a POSIX class since there must be a starting ':' in regex; marked by <-- HERE in m/ \A \\ (?:
		[^\w\s] |		# delimiters/metas
		[tnrfae] |		# C-style escapes
		0 [01234567]{0,2} |	# octal
#		[01234567]{1,3} |	# made from backref by lexer
		c [][ <-- HERE [:alpha:]\@\\^_?] |	# control characters
		x (?: \{ [[:xdigit:]]* \} | [[:xdigit:]]{0,2} ) | # hex
		o [{] [01234567]+ [}] |	# octal as of 5.13.3
##		N (?: \{ (?: [[:alpha:]] [\w\s:()-]* | # must begin w/ alpha
##		    U [+] [[:xdigit:]]+ ) \} ) |	# unicode
		N (?: [{] (?= \D ) [^\}]+ [}] )	# unicode
	    ) / at /usr/perl5.23.8p/lib/site_perl/5.23.8/PPIx/Regexp/Token/Literal.pm line 248.
# 
# Generated by Dist::Zilla::Plugin::ReportVersions::Tiny v1.10
# perl: 5.023008 (wanted 5.006) on freebsd from /usr/perl5.23.8p/bin/perl5.23.8
# 
# Dist::Zilla::Role::FileFinderUser             => 5.043      (want 4.200006)
# Dist::Zilla::Role::PrereqSource               => 5.043      (want 5.006)  
# ExtUtils::MakeMaker                           => 7.1001     (want any version)
# File::Spec                                    => 3.63       (want any version)
# File::Temp                                    => 0.2304     (want any version)
# IO::Handle                                    => 1.35       (want any version)
# IPC::Open3                                    => 1.20       (want any version)
# Module::Build::Tiny                           => 0.039      (want 0.039)  
# Moose                                         => 2.1605     (want 1.03)   
# Moose::Util::TypeConstraints                  => 2.1605     (want 1.01)   
# MooseX::Types::Perl                           => 0.101343   (want 0.101340)
# Perl::MinimumVersion                          => 1.38       (want 1.26)   
# Test::More                                    => 1.001014   (want 0.88)   
# strict                                        => 1.10       (want any version)
# warnings                                      => 1.35       (want any version)
# 
# Thanks for using my code.  I hope it works for you.
# If not, please try and include this output in the bug report.
# That will help me reproduce the issue and solve your problem.
# 
t/000-report-versions-tiny.t .. ok
t/apocalypse.t ................ skipped: Test::Apocalypse required for validating the distribution
All tests successful.
Files=3, Tests=2,  3 wallclock secs ( 0.08 usr  0.02 sys +  2.94 cusr  0.31 csys =  3.34 CPU)
Result: PASS

------------------------------
PREREQUISITES
------------------------------

Prerequisite modules loaded:

requires:

    Module                            Need     Have    
    --------------------------------- -------- --------
    Dist::Zilla::Role::FileFinderUser 4.200006 5.043   
    Dist::Zilla::Role::PrereqSource   5.006    5.043   
    Moose                             1.03     2.1605  
    Moose::Util::TypeConstraints      1.01     2.1605  
    MooseX::Types::Perl               0.101340 0.101343
    perl                              5.006    5.023008
    Perl::MinimumVersion              1.26     1.38    
    strict                            0        1.10    
    warnings                          0        1.35    

build_requires:

    Module                            Need     Have    
    --------------------------------- -------- --------
    File::Spec                        0        3.63    
    File::Temp                        0        0.2304  
    IO::Handle                        0        1.35    
    IPC::Open3                        0        1.20    
    perl                              5.006    5.023008
    Test::More                        0.88     1.001014

configure_requires:

    Module                            Need     Have    
    --------------------------------- -------- --------
    ExtUtils::MakeMaker               0        7.10_01 
    Module::Build::Tiny               0.039    0.039   
    perl                              5.006    5.023008


------------------------------
ENVIRONMENT AND OTHER CONTEXT
------------------------------

Environment variables:

    LC_ALL = de_DE.ISO8859-1
    PATH = /usr/local/bin:/usr/bin:/bin:/usr/local/sbin:/usr/sbin:/sbin:/home/cpansand/bin/freebsd10.1:/home/cpansand/bin/sh:/home/cpansand/bin:/usr/games:/home/cpansand/devel:/home/eserte/src/srezic-misc/scripts
    PERL5LIB = 
    PERL5OPT = 
    PERL5_CPANPLUS_IS_RUNNING = 40138
    PERL5_CPAN_IS_RUNNING = 40138
    PERL5_CPAN_IS_RUNNING_IN_RECURSION = 92093,40138
    PERLDOC = -MPod::Perldoc::ToTextOverstrike
    PERL_BATCH = yes
    PERL_CANARY_STABILITY_NOPROMPT = 1
    PERL_CPAN_REPORTER_CONFIG = /var/tmp/cpansmoker-1023/2016022112/cpanreporter_000_config.ini
    PERL_EXTUTILS_AUTOINSTALL = --defaultdeps
    SHELL = /usr/local/bin/zsh
    TERM = screen
    TMPDIR = /var/tmp/cpansmoker-1023/2016022112

Perl special variables (and OS-specific diagnostics, for MSWin32):

    $^X = /usr/perl5.23.8p/bin/perl5.23.8
    $UID/$EUID = 1023 / 1023
    $GID = 1023 1023
    $EGID = 1023 1023

Perl module toolchain versions installed:

    Module              Have    
    ------------------- --------
    CPAN                2.11    
    CPAN::Meta          2.150005
    Cwd                 3.63    
    ExtUtils::CBuilder  0.280225
    ExtUtils::Command   7.10    
    ExtUtils::Install   2.04    
    ExtUtils::MakeMaker 7.10_01 
    ExtUtils::Manifest  1.70    
    ExtUtils::ParseXS   3.31    
    File::Spec          3.63    
    JSON                2.90    
    JSON::PP            2.27300 
    Module::Build       0.4216  
    Module::Signature   n/a     
    Parse::CPAN::Meta   1.4417  
    Test::Harness       3.36    
    Test::More          1.001014
    YAML                1.15    
    YAML::Syck          1.29    
    version             0.9913  


--

Summary of my perl5 (revision 5 version 23 subversion 8) configuration:
   
  Platform:
    osname=freebsd, osvers=10.1-release, archname=amd64-freebsd
    uname='freebsd cvrsnica-freebsd-101.herceg.de 10.1-release freebsd 10.1-release #0 r274401: tue nov 11 21:02:49 utc 2014 root@releng1.nyi.freebsd.org:usrobjusrsrcsysgeneric amd64 '
    config_args='-ds -e -Dprefix=/usr/perl5.23.8p -Dusedevel -Dusemallocwrap=no -Dcf_email=srezic@cpan.org -Doptimize=-O2 -pipe'
    hint=recommended, useposix=true, d_sigaction=define
    useithreads=undef, usemultiplicity=undef
    use64bitint=define, use64bitall=define, uselongdouble=undef
    usemymalloc=n, bincompat5005=undef
  Compiler:
    cc='cc', ccflags ='-DHAS_FPSETMASK -DHAS_FLOATINGPOINT_H -fno-strict-aliasing -pipe -fstack-protector -I/usr/local/include -D_FORTIFY_SOURCE=2',
    optimize='-O2 -pipe',
    cppflags='-DHAS_FPSETMASK -DHAS_FLOATINGPOINT_H -fno-strict-aliasing -pipe -fstack-protector -I/usr/local/include'
    ccversion='', gccversion='4.2.1 Compatible FreeBSD Clang 3.4.1 (tags/RELEASE_34/dot1-final 208032)', gccosandvers=''
    intsize=4, longsize=8, ptrsize=8, doublesize=8, byteorder=12345678, doublekind=3
    d_longlong=define, longlongsize=8, d_longdbl=define, longdblsize=16, longdblkind=3
    ivtype='long', ivsize=8, nvtype='double', nvsize=8, Off_t='off_t', lseeksize=8
    alignbytes=8, prototype=define
  Linker and Libraries:
    ld='cc', ldflags ='-pthread -Wl,-E  -fstack-protector -L/usr/local/lib'
    libpth=/usr/lib /usr/local/lib /usr/include/clang/3.4.1 /usr/lib
    libs=-lpthread -lgdbm -lm -lcrypt -lutil -lc
    perllibs=-lpthread -lm -lcrypt -lutil -lc
    libc=, so=so, useshrplib=false, libperl=libperl.a
    gnulibc_version=''
  Dynamic Linking:
    dlsrc=dl_dlopen.xs, dlext=so, d_dlsymun=undef, ccdlflags=' '
    cccdlflags='-DPIC -fPIC', lddlflags='-shared  -L/usr/local/lib -fstack-protector'


Characteristics of this binary (from libperl): 
  Compile-time options: HAS_TIMES PERLIO_LAYERS PERL_COPY_ON_WRITE
                        PERL_DONT_CREATE_GVSV
                        PERL_HASH_FUNC_ONE_AT_A_TIME_HARD PERL_PRESERVE_IVUV
                        PERL_USE_DEVEL USE_64_BIT_ALL USE_64_BIT_INT
                        USE_LARGE_FILES USE_LOCALE USE_LOCALE_COLLATE
                        USE_LOCALE_CTYPE USE_LOCALE_NUMERIC USE_LOCALE_TIME
                        USE_PERLIO USE_PERL_ATOF
  Built under freebsd
  Compiled at Feb 21 2016 08:04:59
  %ENV:
    PERL5LIB=""
    PERL5OPT=""
    PERL5_CPANPLUS_IS_RUNNING="40138"
    PERL5_CPAN_IS_RUNNING="40138"
    PERL5_CPAN_IS_RUNNING_IN_RECURSION="92093,40138"
    PERLDOC="-MPod::Perldoc::ToTextOverstrike"
    PERL_BATCH="yes"
    PERL_CANARY_STABILITY_NOPROMPT="1"
    PERL_CPAN_REPORTER_CONFIG="/var/tmp/cpansmoker-1023/2016022112/cpanreporter_000_config.ini"
    PERL_EXTUTILS_AUTOINSTALL="--defaultdeps"
  @INC:
    /usr/perl5.23.8p/lib/site_perl/5.23.8/amd64-freebsd
    /usr/perl5.23.8p/lib/site_perl/5.23.8
    /usr/perl5.23.8p/lib/5.23.8/amd64-freebsd
    /usr/perl5.23.8p/lib/5.23.8
    .