Back
From: metabase:user:16b460a4-2bf5-11e0-92a5-a53ece435e2c
Subject: PASS Class-MakeMethods-1.01 v5.10.1 FreeBSD
Date: 2011-01-29T22:49:52Z
This distribution has been tested as part of the CPAN Testers
project, supporting the Perl programming language. See
http://wiki.cpantesters.org/ for more information or email
questions to cpan-testers-discuss@perl.org
--
Dear Matthew Simon Cavalletto,
This is a computer-generated report for Class-MakeMethods-1.01
on perl 5.10.1, created by CPAN-Reporter-1.1902.
Thank you for uploading your work to CPAN. Congratulations!
All tests were successful.
Sections of this report:
* Tester comments
* Program output
* Prerequisites
* Environment and other context
------------------------------
TESTER COMMENTS
------------------------------
Additional comments from tester:
this report is from an automated smoke testing program
and was not reviewed by a human for accuracy
------------------------------
PROGRAM OUTPUT
------------------------------
Output from '/usr/bin/make test':
PERL_DL_NONLAZY=1 /usr/local/bin/perl5.10.1 "-Iblib/lib" "-Iblib/arch" test.pl
test.pl: Searching for test scripts in .
test.pl: Found 121 .t files for test harness.
./tests/access/attribute_stnd_hash.t .................... ok
./tests/access/autoload_stnd_hash.t ..................... ok
./tests/access/autoload_typemap.t ....................... ok
./tests/access/import_version.t ......................... ok
./tests/basic/array_scalar.t ............................ ok
./tests/basic/declarations.t ............................ ok
./tests/basic/global_hash.t ............................. ok
./tests/basic/global_scalar.t ........................... ok
./tests/basic/hash_scalar.t ............................. ok
./tests/composite/declarations.t ........................ ok
./tests/composite/hash.t ................................ ok
./tests/composite/inheritable.t ......................... ok
./tests/composite/inheritable_hash.t .................... ok
./tests/composite/inheritable_hook.t .................... ok
./tests/composite/patch.t ............................... ok
./tests/evaled/hash_scalar.t ............................ ok
./tests/standard/standard_declarations.t ................ ok
./tests/standard/standard_hash.t ........................ ok
./tests/standard/standard_inheritable.t ................. ok
./tests/standard/standard_inheritable_hash.t ............ ok
./tests/template/abstract.t ............................. ok
./tests/template/array_number.t ......................... ok
./tests/template/array_object.t ......................... ok
./tests/template/array_scalar.t ......................... ok
./tests/template/class_array.t .......................... ok
./tests/template/class_scalar.t ......................... ok
./tests/template/classvar_array.t ....................... ok
./tests/template/classvar_scalar.t ...................... ok
./tests/template/clone.t ................................ ok
./tests/template/declaration.t .......................... ok
./tests/template/doc_examples.t ......................... ok
./tests/template/doc_extending.t ........................ ok
./tests/template/global_array.t ......................... ok
./tests/template/global_code.t .......................... ok
./tests/template/global_hash.t .......................... ok
./tests/template/global_scalar.t ........................ ok
./tests/template/global_scalar_lvalue.t ................. ok
./tests/template/hash_array.t ........................... ok
./tests/template/hash_array_getset.t .................... ok
./tests/template/hash_array_lvalue.t .................... ok
./tests/template/hash_array_object.t .................... ok
./tests/template/hash_boolean.t ......................... ok
./tests/template/hash_code.t ............................ ok
./tests/template/hash_copy.t ............................ ok
./tests/template/hash_counter.t ......................... ok
./tests/template/hash_counter_closure.t ................. ok
./tests/template/hash_hash.t ............................ ok
./tests/template/hash_hash_array.t ...................... ok
./tests/template/hash_method.t .......................... ok
./tests/template/hash_new.t ............................. ok
./tests/template/hash_number.t .......................... ok
./tests/template/hash_number_interfaces.t ............... ok
./tests/template/hash_object.t .......................... ok
./tests/template/hash_scalar.t .......................... ok
./tests/template/hash_scalar_closure.t .................. ok
./tests/template/hash_scalar_interfaces.t ............... ok
./tests/template/hash_scalar_lvalue.t ................... ok
./tests/template/hash_string_concat.t ................... ok
./tests/template/hash_string_index.t .................... ok
./tests/template/hash_string_index_create.t ............. ok
./tests/template/hash_struct.t .......................... ok
./tests/template/hash_tiedhash.t ........................ ok
./tests/template/inherit_scalar.t ....................... ok
./tests/template/insideout_array.t ...................... ok
./tests/template/insideout_bool_i.t ..................... ok
./tests/template/insideout_scalar.t ..................... ok
./tests/template/modifier_private.t ..................... ok
./tests/template/package_scalar.t ....................... ok
./tests/template/scalar_bits.t .......................... ok
./tests/template/scalar_counter.t ....................... ok
./tests/utility/inheritable.t ........................... ok
./tests/utility/text_builder.t .......................... ok
./tests/xemulator/accessors/chained.t ................... ok
./tests/xemulator/accessors/classic.t ................... ok
./tests/xemulator/accessors/default.t ................... ok
./tests/xemulator/accessors/invalid.t ................... ok
./tests/xemulator/class_accessor/class_accessor_fast.t .. ok
./tests/xemulator/class_inheritable/emulate.t ........... ok
./tests/xemulator/class_inheritable/transparent.t ....... ok
./tests/xemulator/class_methodmaker/abstract.t .......... ok
./tests/xemulator/class_methodmaker/boolean.092.t ....... ok
./tests/xemulator/class_methodmaker/boolean.t ........... ok
./tests/xemulator/class_methodmaker/code.t .............. ok
./tests/xemulator/class_methodmaker/copy.t .............. ok
./tests/xemulator/class_methodmaker/counter.t ........... ok
./tests/xemulator/class_methodmaker/get_concat.092.t .... ok
./tests/xemulator/class_methodmaker/get_concat.t ........ ok
./tests/xemulator/class_methodmaker/get_set.092.t ....... ok
./tests/xemulator/class_methodmaker/get_set.t ........... ok
./tests/xemulator/class_methodmaker/grouped_fields.t .... ok
./tests/xemulator/class_methodmaker/hash.092.t .......... ok
./tests/xemulator/class_methodmaker/hash.t .............. ok
./tests/xemulator/class_methodmaker/hash_of_lists.t ..... ok
./tests/xemulator/class_methodmaker/key_attrib.t ........ ok
./tests/xemulator/class_methodmaker/key_with_create.t ... ok
./tests/xemulator/class_methodmaker/list.092.t .......... ok
./tests/xemulator/class_methodmaker/list.104.t .......... ok
./tests/xemulator/class_methodmaker/list.t .............. ok
./tests/xemulator/class_methodmaker/listed_attrib.t ..... ok
./tests/xemulator/class_methodmaker/method.t ............ ok
./tests/xemulator/class_methodmaker/new.092.t ........... ok
./tests/xemulator/class_methodmaker/new.102.t ........... ok
./tests/xemulator/class_methodmaker/new.t ............... ok
./tests/xemulator/class_methodmaker/object.092.t ........ ok
./tests/xemulator/class_methodmaker/object.t ............ ok
./tests/xemulator/class_methodmaker/object_list.102.t ... ok
./tests/xemulator/class_methodmaker/object_list.t ....... ok
./tests/xemulator/class_methodmaker/static_get_set.t .... ok
./tests/xemulator/class_methodmaker/static_hash.092.t ... ok
./tests/xemulator/class_methodmaker/static_hash.t ....... ok
./tests/xemulator/class_methodmaker/static_list.t ....... ok
./tests/xemulator/class_methodmaker/struct.t ............ ok
./tests/xemulator/class_methodmaker/sugar.092.t ......... ok
./tests/xemulator/class_methodmaker/tie_hash.t .......... ok
./tests/xemulator/class_singleton/emulate.t ............. ok
./tests/xemulator/class_singleton/transparent.t ......... ok
./tests/xemulator/class_struct/emulate.t ................ ok
./tests/xemulator/class_struct/equivalent.t ............. ok
./tests/xemulator/mcoder/getset.t ....................... ok
./tests/xemulator/mcoder/proxies.t ...................... ok
./tests/xemulator/mcoder/sugar.t ........................ ok
All tests successful.
Files=121, Tests=1760, 3 wallclock secs ( 0.36 usr 0.17 sys + 2.03 cusr 1.06 csys = 3.62 CPU)
Result: PASS
------------------------------
PREREQUISITES
------------------------------
Prerequisite modules loaded:
No requirements found
------------------------------
ENVIRONMENT AND OTHER CONTEXT
------------------------------
Environment variables:
AUTOMATED_TESTING = 1
LANGUAGE =
PATH = /usr/local/bin:/opt/local/bin:/opt/local/sbin:/usr/X11R6/bin:/usr/local/bin:/opt/local/bin:/opt/local/sbin:/usr/X11R6/bin:/usr/local/kde4/bin:/sbin:/bin:/usr/sbin:/usr/bin:/usr/games:/usr/local/sbin:/usr/local/bin:/home/steve/bin
PERL5LIB = /home/steve/.cpan/build/Parse-RecDescent-1.965001-sTf5ol/blib/arch:/home/steve/.cpan/build/Parse-RecDescent-1.965001-sTf5ol/blib/lib:/home/steve/.cpan/build/Class-Base-0.03-81QpH1/blib/arch:/home/steve/.cpan/build/Class-Base-0.03-81QpH1/blib/lib:/home/steve/.cpan/build/Class-Data-Inheritable-0.08-vIzxx9/blib/arch:/home/steve/.cpan/build/Class-Data-Inheritable-0.08-vIzxx9/blib/lib:/home/steve/.cpan/build/File-ShareDir-1.02-mKUHwZ/blib/arch:/home/steve/.cpan/build/File-ShareDir-1.02-mKUHwZ/blib/lib:/home/steve/.cpan/build/Class-Inspector-1.25-SLtBN5/blib/arch:/home/steve/.cpan/build/Class-Inspector-1.25-SLtBN5/blib/lib:/home/steve/.cpan/build/ExtUtils-MakeMaker-6.56-hW6tGL/blib/arch:/home/steve/.cpan/build/ExtUtils-MakeMaker-6.56-hW6tGL/blib/lib
PERL5OPT =
PERL5_CPANPLUS_IS_RUNNING = 34097
PERL5_CPAN_IS_RUNNING = 34097
PERL5_CPAN_IS_RUNNING_IN_RECURSION = 14016,34097
PERL_CR_SMOKER_CURRENT = DBICx-Hooks-0.003
PERL_EXTUTILS_AUTOINSTALL = --defaultdeps
PERL_MM_USE_DEFAULT = 1
SHELL = /usr/local/bin/zsh
TERM = screen
Perl special variables (and OS-specific diagnostics, for MSWin32):
$^X = /usr/local/bin/perl5.10.1
$UID/$EUID = 1001 / 1001
$GID = 1001 1001 0 5 557 920 1006 1007
$EGID = 1001 1001 0 5 557 920 1006 1007
Perl module toolchain versions installed:
Module Have
------------------- ------
CPAN 1.9402
Cwd 3.33
ExtUtils::CBuilder 0.2802
ExtUtils::Command 1.16
ExtUtils::Install 1.52
ExtUtils::MakeMaker 6.56
ExtUtils::Manifest 1.56
ExtUtils::ParseXS 2.2203
File::Spec 3.33
Module::Build 0.3607
Module::Signature 0.66
Test::Harness 3.17
Test::More 0.96
YAML 0.72
YAML::Syck 1.17
version 0.88
--
Summary of my perl5 (revision 5 version 10 subversion 1) configuration:
Platform:
osname=freebsd, osvers=8.2-prerelease, archname=amd64-freebsd
uname='freebsd tinderbox.host 8.2-prerelease freebsd 8.2-prerelease #0: mon dec 20 00:59:57 est 2010 root@tinderbox.host:usrsrcsysmagickernelpath amd64 '
config_args='-sde -Dprefix=/usr/local -Darchlib=/usr/local/lib/perl5/5.10.1/mach -Dprivlib=/usr/local/lib/perl5/5.10.1 -Dman3dir=/usr/local/lib/perl5/5.10.1/perl/man/man3 -Dman1dir=/usr/local/man/man1 -Dsitearch=/usr/local/lib/perl5/site_perl/5.10.1/mach -Dsitelib=/usr/local/lib/perl5/site_perl/5.10.1 -Dscriptdir=/usr/local/bin -Dsiteman3dir=/usr/local/lib/perl5/5.10.1/man/man3 -Dsiteman1dir=/usr/local/man/man1 -Ui_malloc -Ui_iconv -Uinstallusrbinperl -Dcc=cc -Duseshrplib -Dinc_version_list=none -Dccflags=-DAPPLLIB_EXP="/usr/local/lib/perl5/5.10.1/BSDPAN" -Doptimize=-O2 -pipe -fno-strict-aliasing -Ud_dosuid -Ui_gdbm -Dusethreads=n -Dusemymalloc=n -Duse64bitint'
hint=recommended, useposix=true, d_sigaction=define
useithreads=undef, usemultiplicity=undef
useperlio=define, d_sfio=undef, uselargefiles=define, usesocks=undef
use64bitint=define, use64bitall=define, uselongdouble=undef
usemymalloc=n, bincompat5005=undef
Compiler:
cc='cc', ccflags ='-DAPPLLIB_EXP="/usr/local/lib/perl5/5.10.1/BSDPAN" -DHAS_FPSETMASK -DHAS_FLOATINGPOINT_H -fno-strict-aliasing -pipe -fstack-protector -I/usr/local/include',
optimize='-O2 -pipe -fno-strict-aliasing',
cppflags='-DAPPLLIB_EXP="/usr/local/lib/perl5/5.10.1/BSDPAN" -DHAS_FPSETMASK -DHAS_FLOATINGPOINT_H -fno-strict-aliasing -pipe -fstack-protector -I/usr/local/include'
ccversion='', gccversion='4.2.1 20070719 [FreeBSD]', gccosandvers=''
intsize=4, longsize=8, ptrsize=8, doublesize=8, byteorder=12345678
d_longlong=define, longlongsize=8, d_longdbl=define, longdblsize=16
ivtype='long', ivsize=8, nvtype='double', nvsize=8, Off_t='off_t', lseeksize=8
alignbytes=8, prototype=define
Linker and Libraries:
ld='cc', ldflags =' -Wl,-E -fstack-protector -L/usr/local/lib'
libpth=/usr/lib /usr/local/lib
libs=-lm -lcrypt -lutil
perllibs=-lm -lcrypt -lutil
libc=, so=so, useshrplib=true, libperl=libperl.so
gnulibc_version=''
Dynamic Linking:
dlsrc=dl_dlopen.xs, dlext=so, d_dlsymun=undef, ccdlflags=' -Wl,-R/usr/local/lib/perl5/5.10.1/mach/CORE'
cccdlflags='-DPIC -fPIC', lddlflags='-shared -L/usr/local/lib -fstack-protector'
Characteristics of this binary (from libperl):
Compile-time options: PERL_DONT_CREATE_GVSV PERL_MALLOC_WRAP USE_64_BIT_ALL
USE_64_BIT_INT USE_LARGE_FILES USE_PERLIO
Built under freebsd
Compiled at Dec 20 2010 06:00:50
%ENV:
PERL5LIB="/home/steve/.cpan/build/Parse-RecDescent-1.965001-sTf5ol/blib/arch:/home/steve/.cpan/build/Parse-RecDescent-1.965001-sTf5ol/blib/lib:/home/steve/.cpan/build/Class-Base-0.03-81QpH1/blib/arch:/home/steve/.cpan/build/Class-Base-0.03-81QpH1/blib/lib:/home/steve/.cpan/build/Class-Data-Inheritable-0.08-vIzxx9/blib/arch:/home/steve/.cpan/build/Class-Data-Inheritable-0.08-vIzxx9/blib/lib:/home/steve/.cpan/build/File-ShareDir-1.02-mKUHwZ/blib/arch:/home/steve/.cpan/build/File-ShareDir-1.02-mKUHwZ/blib/lib:/home/steve/.cpan/build/Class-Inspector-1.25-SLtBN5/blib/arch:/home/steve/.cpan/build/Class-Inspector-1.25-SLtBN5/blib/lib:/home/steve/.cpan/build/ExtUtils-MakeMaker-6.56-hW6tGL/blib/arch:/home/steve/.cpan/build/ExtUtils-MakeMaker-6.56-hW6tGL/blib/lib"
PERL5OPT=""
PERL5_CPANPLUS_IS_RUNNING="34097"
PERL5_CPAN_IS_RUNNING="34097"
PERL5_CPAN_IS_RUNNING_IN_RECURSION="14016,34097"
PERL_CR_SMOKER_CURRENT="DBICx-Hooks-0.003"
PERL_EXTUTILS_AUTOINSTALL="--defaultdeps"
PERL_MM_USE_DEFAULT="1"
@INC:
/home/steve/.cpan/build/Parse-RecDescent-1.965001-sTf5ol/blib/arch
/home/steve/.cpan/build/Parse-RecDescent-1.965001-sTf5ol/blib/lib
/home/steve/.cpan/build/Class-Base-0.03-81QpH1/blib/arch
/home/steve/.cpan/build/Class-Base-0.03-81QpH1/blib/lib
/home/steve/.cpan/build/Class-Data-Inheritable-0.08-vIzxx9/blib/arch
/home/steve/.cpan/build/Class-Data-Inheritable-0.08-vIzxx9/blib/lib
/home/steve/.cpan/build/File-ShareDir-1.02-mKUHwZ/blib/arch
/home/steve/.cpan/build/File-ShareDir-1.02-mKUHwZ/blib/lib
/home/steve/.cpan/build/Class-Inspector-1.25-SLtBN5/blib/arch
/home/steve/.cpan/build/Class-Inspector-1.25-SLtBN5/blib/lib
/home/steve/.cpan/build/ExtUtils-MakeMaker-6.56-hW6tGL/blib/arch
/home/steve/.cpan/build/ExtUtils-MakeMaker-6.56-hW6tGL/blib/lib
/usr/local/lib/perl5/5.10.1/BSDPAN
/usr/local/lib/perl5/site_perl/5.10.1/mach
/usr/local/lib/perl5/site_perl/5.10.1
/usr/local/lib/perl5/5.10.1/mach
/usr/local/lib/perl5/5.10.1
.