POE-Loop-Glib v0.038 Perl 5 v5.30.1 x86_64-linux

Status
Pass
From
Slaven Rezić (SREZIC)
Dist
POE-Loop-Glib v0.038
Platform
Perl 5 v5.30.1 x86_64-linux
Date
2020-01-05 20:51:02
ID
15eac42c-2ffd-11ea-ac10-56131f24ea8f
This distribution has been tested as part of the CPAN Testers
project, supporting the Perl programming language.  See
http://wiki.cpantesters.org/ for more information or email
questions to cpan-testers-discuss@perl.org


--
Dear Apocalypse,

This is a computer-generated report for POE-Loop-Glib-0.038
on perl 5.30.1, created by CPAN-Reporter-1.2018.

Thank you for uploading your work to CPAN.  Congratulations!
All tests were successful.

Sections of this report:

    * Tester comments
    * Program output
    * Prerequisites
    * Environment and other context

------------------------------
TESTER COMMENTS
------------------------------

Additional comments from tester:

none provided

------------------------------
PROGRAM OUTPUT
------------------------------

Output from './Build test':

t/1_load.t ............................. ok
t/apocalypse.t ......................... skipped: Test::Apocalypse required for validating the distribution
# Testing POE 1.367, POE::Test::Loops 1.360, Using Loop(POE::Loop::Glib), Perl 5.030001, /opt/perl-5.30.1/bin/perl on linux
t/glib/00_info.t ....................... ok
t/glib/all_errors.t .................... skipped: most of these should move into other test files
t/glib/comp_tcp.t ...................... ok
# You might see a 'disconnect' error during this test.
# It may be ignored.
t/glib/comp_tcp_concurrent.t ........... ok
t/glib/connect_errors.t ................ ok
t/glib/k_alarms.t ...................... ok
t/glib/k_aliases.t ..................... ok
t/glib/k_detach.t ...................... ok
t/glib/k_run_returns.t ................. ok
t/glib/k_selects.t ..................... ok
t/glib/k_sig_child.t ................... ok
t/glib/k_signals.t ..................... ok
t/glib/k_signals_rerun.t ............... ok
t/glib/sbk_signal_init.t ............... ok
t/glib/ses_nfa.t ....................... ok
# This test generates some STDERR during trace testing.
=== 16076 === 23 -> _start (from /home/cpansand/.cpan/build/2020010521/POE-1.367-1/blib/lib/POE/Kernel.pm at 1497)
=== 16076 === 23 -> woot (from /home/cpansand/.cpan/build/2020010521/POE-Test-Loops-1.360-1/blib/lib/POE/Test/Loops/ses_session.pm at 691)
=== 16076 === 23 -> narf (from /home/cpansand/.cpan/build/2020010521/POE-Test-Loops-1.360-1/blib/lib/POE/Test/Loops/ses_session.pm at 692)
=== 16076 === 23 -> _stop (from /home/cpansand/.cpan/build/2020010521/POE-1.367-1/blib/lib/POE/Resource/Sessions.pm at 571)
t/glib/ses_session.t ................... ok
t/glib/wheel_accept.t .................. ok
t/glib/wheel_curses.t .................. skipped: Curses not available
t/glib/wheel_readline.t ................ ok
t/glib/wheel_readwrite.t ............... ok
t/glib/wheel_run.t ..................... ok
t/glib/wheel_run_size.t ................ skipped: This test requires Term::Size
t/glib/wheel_sf_ipv6.t ................. skipped: Socket::GetAddrInfo is needed for IPv6 tests
t/glib/wheel_sf_tcp.t .................. ok
t/glib/wheel_sf_udp.t .................. ok
t/glib/wheel_sf_unix.t ................. ok
t/glib/wheel_tail.t .................... ok
t/glib/z_kogman_sig_order.t ............ ok
t/glib/z_leolo_wheel_run.t ............. ok
# Using '/bin/true' as our thing to run under system()
t/glib/z_merijn_sigchld_system.t ....... ok
t/glib/z_rt39872_sigchld.t ............. ok
# Parent 16231 waiting 3sec for slow systems to settle.
# sending sigusr1
# sent sigusr1
t/glib/z_rt39872_sigchld_stop.t ........ ok
t/glib/z_rt53302_fh_watchers.t ......... ok
t/glib/z_rt54319_bazerka_followtail.t .. ok
t/glib/z_steinert_signal_integrity.t ... ok
All tests successful.
Files=37, Tests=487, 36 wallclock secs ( 0.17 usr  0.06 sys +  7.03 cusr  1.74 csys =  9.00 CPU)
Result: PASS

------------------------------
PREREQUISITES
------------------------------

Prerequisite modules loaded:

requires:

    Module           Need  Have    
    ---------------- ----- --------
    Glib             1.222 1.3291  
    perl             5.006 5.030001
    POE              1.288 1.367   

configure_requires:

    Module           Need  Have    
    ---------------- ----- --------
    Module::Build    0.36  0.4229  
    POE::Test::Loops 1.034 1.360   

opt_requires:

    Module           Need  Have    
    ---------------- ----- --------
    IO::Pty          0     1.12    
    Socket6          0     0.29    
  ! Term::Readkey    0     n/a     
  ! Win32::Console   0     n/a     


------------------------------
ENVIRONMENT AND OTHER CONTEXT
------------------------------

Environment variables:

    LANG = en_US.UTF-8
    PATH = /usr/local/bin:/usr/bin:/bin:/usr/local/sbin:/usr/sbin:/sbin:/home/cpansand/bin/linux-gnu:/home/cpansand/bin/sh:/home/cpansand/bin:/usr/games:/home/cpansand/devel:/home/eserte/src/srezic-misc/scripts
    PERL5LIB = /home/cpansand/.cpan/build/2020010521/Socket6-0.29-0/blib/arch:/home/cpansand/.cpan/build/2020010521/Socket6-0.29-0/blib/lib:/home/cpansand/.cpan/build/2020010521/POE-1.367-1/blib/arch:/home/cpansand/.cpan/build/2020010521/POE-1.367-1/blib/lib:/home/cpansand/.cpan/build/2020010521/IO-Pipely-0.005-1/blib/arch:/home/cpansand/.cpan/build/2020010521/IO-Pipely-0.005-1/blib/lib:/home/cpansand/.cpan/build/2020010521/Glib-1.3291-0/blib/arch:/home/cpansand/.cpan/build/2020010521/Glib-1.3291-0/blib/lib:/home/cpansand/.cpan/build/2020010521/ExtUtils-PkgConfig-1.16-0/blib/arch:/home/cpansand/.cpan/build/2020010521/ExtUtils-PkgConfig-1.16-0/blib/lib:/home/cpansand/.cpan/build/2020010521/Test-Number-Delta-1.06-0/blib/arch:/home/cpansand/.cpan/build/2020010521/Test-Number-Delta-1.06-0/blib/lib:/home/cpansand/.cpan/build/2020010521/ExtUtils-Depends-0.8000-0/blib/arch:/home/cpansand/.cpan/build/2020010521/ExtUtils-Depends-0.8000-0/blib/lib:/home/cpansand/.cpan/build/2020010521/POE-Test-Loops-1.360-1/blib/arch:/home/cpansand/.cpan/build/2020010521/POE-Test-Loops-1.360-1/blib/lib
    PERL5OPT = 
    PERL5_CPANPLUS_IS_RUNNING = 11667
    PERL5_CPAN_IS_RUNNING = 11667
    PERL5_CPAN_IS_RUNNING_IN_RECURSION = 11357,11667
    PERLDOC = -MPod::Perldoc::ToTextOverstrike
    PERL_BATCH = yes
    PERL_CANARY_STABILITY_NOPROMPT = 1
    PERL_CPAN_REPORTER_CONFIG = /var/tmp/cpansmoker-1023/2020010521/cpanreporter_001_config.ini
    PERL_EXTUTILS_AUTOINSTALL = --defaultdeps
    PERL_USE_UNSAFE_INC = 1
    SHELL = /usr/bin/zsh
    TERM = screen
    TMPDIR = /var/tmp/cpansmoker-1023/2020010521

Perl special variables (and OS-specific diagnostics, for MSWin32):

    $^X = /opt/perl-5.30.1/bin/perl
    $UID/$EUID = 1023 / 1023
    $GID = 1023 1023
    $EGID = 1023 1023

Perl module toolchain versions installed:

    Module              Have    
    ------------------- --------
    CPAN                2.22    
    CPAN::Meta          2.150010
    Cwd                 3.78    
    ExtUtils::CBuilder  0.280231
    ExtUtils::Command   7.34    
    ExtUtils::Install   2.14    
    ExtUtils::MakeMaker 7.34    
    ExtUtils::Manifest  1.72    
    ExtUtils::ParseXS   3.40    
    File::Spec          3.78    
    JSON                4.02    
    JSON::PP            4.02    
    Module::Build       0.4229  
    Module::Signature   n/a     
    Parse::CPAN::Meta   2.150010
    Test::Harness       3.42    
    Test::More          1.302162
    YAML                1.29    
    YAML::Syck          1.31    
    version             0.9924  


--

Summary of my perl5 (revision 5 version 30 subversion 1) configuration:
   
  Platform:
    osname=linux
    osvers=3.10.0-1062.4.1.el7.x86_64
    archname=x86_64-linux
    uname='linux centos-4gb-hel1-1 3.10.0-1062.4.1.el7.x86_64 #1 smp fri oct 18 17:15:30 utc 2019 x86_64 x86_64 x86_64 gnulinux '
    config_args='-ds -e -Dprefix=/opt/perl-5.30.1 -Dcf_email=srezic@cpan.org'
    hint=recommended
    useposix=true
    d_sigaction=define
    useithreads=undef
    usemultiplicity=undef
    use64bitint=define
    use64bitall=define
    uselongdouble=undef
    usemymalloc=n
    default_inc_excludes_dot=define
    bincompat5005=undef
  Compiler:
    cc='cc'
    ccflags ='-fwrapv -fno-strict-aliasing -pipe -fstack-protector-strong -I/usr/local/include -D_LARGEFILE_SOURCE -D_FILE_OFFSET_BITS=64 -D_FORTIFY_SOURCE=2'
    optimize='-O2'
    cppflags='-fwrapv -fno-strict-aliasing -pipe -fstack-protector-strong -I/usr/local/include'
    ccversion=''
    gccversion='4.8.5 20150623 (Red Hat 4.8.5-39)'
    gccosandvers=''
    intsize=4
    longsize=8
    ptrsize=8
    doublesize=8
    byteorder=12345678
    doublekind=3
    d_longlong=define
    longlongsize=8
    d_longdbl=define
    longdblsize=16
    longdblkind=3
    ivtype='long'
    ivsize=8
    nvtype='double'
    nvsize=8
    Off_t='off_t'
    lseeksize=8
    alignbytes=8
    prototype=define
  Linker and Libraries:
    ld='cc'
    ldflags =' -fstack-protector-strong -L/usr/local/lib'
    libpth=/usr/local/lib /usr/lib /lib/../lib64 /usr/lib/../lib64 /lib /lib64 /usr/lib64 /usr/local/lib64
    libs=-lpthread -lnsl -lgdbm -ldb -ldl -lm -lcrypt -lutil -lc -lgdbm_compat
    perllibs=-lpthread -lnsl -ldl -lm -lcrypt -lutil -lc
    libc=libc-2.17.so
    so=so
    useshrplib=false
    libperl=libperl.a
    gnulibc_version='2.17'
  Dynamic Linking:
    dlsrc=dl_dlopen.xs
    dlext=so
    d_dlsymun=undef
    ccdlflags='-Wl,-E'
    cccdlflags='-fPIC'
    lddlflags='-shared -O2 -L/usr/local/lib -fstack-protector-strong'


Characteristics of this binary (from libperl): 
  Compile-time options:
    HAS_TIMES
    PERLIO_LAYERS
    PERL_COPY_ON_WRITE
    PERL_DONT_CREATE_GVSV
    PERL_MALLOC_WRAP
    PERL_OP_PARENT
    PERL_PRESERVE_IVUV
    USE_64_BIT_ALL
    USE_64_BIT_INT
    USE_LARGE_FILES
    USE_LOCALE
    USE_LOCALE_COLLATE
    USE_LOCALE_CTYPE
    USE_LOCALE_NUMERIC
    USE_LOCALE_TIME
    USE_PERLIO
    USE_PERL_ATOF
  Built under linux
  Compiled at Nov 11 2019 21:36:10
  %ENV:
    PERL5LIB="/home/cpansand/.cpan/build/2020010521/Socket6-0.29-0/blib/arch:/home/cpansand/.cpan/build/2020010521/Socket6-0.29-0/blib/lib:/home/cpansand/.cpan/build/2020010521/POE-1.367-1/blib/arch:/home/cpansand/.cpan/build/2020010521/POE-1.367-1/blib/lib:/home/cpansand/.cpan/build/2020010521/IO-Pipely-0.005-1/blib/arch:/home/cpansand/.cpan/build/2020010521/IO-Pipely-0.005-1/blib/lib:/home/cpansand/.cpan/build/2020010521/Glib-1.3291-0/blib/arch:/home/cpansand/.cpan/build/2020010521/Glib-1.3291-0/blib/lib:/home/cpansand/.cpan/build/2020010521/ExtUtils-PkgConfig-1.16-0/blib/arch:/home/cpansand/.cpan/build/2020010521/ExtUtils-PkgConfig-1.16-0/blib/lib:/home/cpansand/.cpan/build/2020010521/Test-Number-Delta-1.06-0/blib/arch:/home/cpansand/.cpan/build/2020010521/Test-Number-Delta-1.06-0/blib/lib:/home/cpansand/.cpan/build/2020010521/ExtUtils-Depends-0.8000-0/blib/arch:/home/cpansand/.cpan/build/2020010521/ExtUtils-Depends-0.8000-0/blib/lib:/home/cpansand/.cpan/build/2020010521/POE-Test-Loops-1.360-1/blib/arch:/home/cpansand/.cpan/build/2020010521/POE-Test-Loops-1.360-1/blib/lib"
    PERL5OPT=""
    PERL5_CPANPLUS_IS_RUNNING="11667"
    PERL5_CPAN_IS_RUNNING="11667"
    PERL5_CPAN_IS_RUNNING_IN_RECURSION="11357,11667"
    PERLDOC="-MPod::Perldoc::ToTextOverstrike"
    PERL_BATCH="yes"
    PERL_CANARY_STABILITY_NOPROMPT="1"
    PERL_CPAN_REPORTER_CONFIG="/var/tmp/cpansmoker-1023/2020010521/cpanreporter_001_config.ini"
    PERL_EXTUTILS_AUTOINSTALL="--defaultdeps"
    PERL_USE_UNSAFE_INC="1"
  @INC:
    /home/cpansand/.cpan/build/2020010521/Socket6-0.29-0/blib/arch
    /home/cpansand/.cpan/build/2020010521/Socket6-0.29-0/blib/lib
    /home/cpansand/.cpan/build/2020010521/POE-1.367-1/blib/arch
    /home/cpansand/.cpan/build/2020010521/POE-1.367-1/blib/lib
    /home/cpansand/.cpan/build/2020010521/IO-Pipely-0.005-1/blib/arch
    /home/cpansand/.cpan/build/2020010521/IO-Pipely-0.005-1/blib/lib
    /home/cpansand/.cpan/build/2020010521/Glib-1.3291-0/blib/arch
    /home/cpansand/.cpan/build/2020010521/Glib-1.3291-0/blib/lib
    /home/cpansand/.cpan/build/2020010521/ExtUtils-PkgConfig-1.16-0/blib/arch
    /home/cpansand/.cpan/build/2020010521/ExtUtils-PkgConfig-1.16-0/blib/lib
    /home/cpansand/.cpan/build/2020010521/Test-Number-Delta-1.06-0/blib/arch
    /home/cpansand/.cpan/build/2020010521/Test-Number-Delta-1.06-0/blib/lib
    /home/cpansand/.cpan/build/2020010521/ExtUtils-Depends-0.8000-0/blib/arch
    /home/cpansand/.cpan/build/2020010521/ExtUtils-Depends-0.8000-0/blib/lib
    /home/cpansand/.cpan/build/2020010521/POE-Test-Loops-1.360-1/blib/arch
    /home/cpansand/.cpan/build/2020010521/POE-Test-Loops-1.360-1/blib/lib
    /opt/perl-5.30.1/lib/site_perl/5.30.1/x86_64-linux
    /opt/perl-5.30.1/lib/site_perl/5.30.1
    /opt/perl-5.30.1/lib/5.30.1/x86_64-linux
    /opt/perl-5.30.1/lib/5.30.1
    .