Dist-Zilla-PluginBundle-WCS v0.003 Perl 5 v5.18.4 x86_64-linux
- Status
- Pass
- From
- Oleg Pronin (SYBER)
- Dist
-
Dist-Zilla-PluginBundle-WCS v0.003
- Platform
- Perl 5 v5.18.4 x86_64-linux
- Date
- 2019-08-05 17:47:25
- ID
- 15fa3c26-b7a9-11e9-b51e-7fb42958ff60
This distribution has been tested as part of the CPAN Testers
project, supporting the Perl programming language. See
http://wiki.cpantesters.org/ for more information or email
questions to cpan-testers-discuss@perl.org
--
Dear William C Scherz III,
This is a computer-generated report for Dist-Zilla-PluginBundle-WCS-0.003
on perl 5.18.4, created by CPAN-Reporter-1.2018.
Thank you for uploading your work to CPAN. Congratulations!
All tests were successful.
Sections of this report:
* Tester comments
* Program output
* Prerequisites
* Environment and other context
------------------------------
TESTER COMMENTS
------------------------------
Additional comments from tester:
this report is from an automated smoke testing program
and was not reviewed by a human for accuracy
------------------------------
PROGRAM OUTPUT
------------------------------
Output from '/usr/bin/make test':
PERL_DL_NONLAZY=1 "/home/syber/perl5/perlbrew/perls/5.18.4/bin/perl" "-MExtUtils::Command::MM" "-MTest::Harness" "-e" "undef *Test::Harness::Switches; test_harness(0, 'blib/lib', 'blib/arch')" t/*.t
t/00-compile.t ................... ok
# Testing Dist-Zilla-PluginBundle-WCS 0.003, Perl 5.018004, /home/syber/perl5/perlbrew/perls/5.18.4/bin/perl
t/00-load.t ...................... ok
#
# Versions for all modules listed in MYMETA.json (including optional ones):
#
# === Configure Requires ===
#
# Module Want Have
# ------------------- ---- -------
# ExtUtils::MakeMaker any 7.37_03
#
# === Build Requires ===
#
# Module Want Have
# ------------------- ---- -------
# ExtUtils::MakeMaker any 7.37_03
#
# === Test Requires ===
#
# Module Want Have
# ------------------- ---- --------
# ExtUtils::MakeMaker any 7.37_03
# File::Spec any 3.75
# IO::Handle any 1.34
# IPC::Open3 any 1.13
# Test::More any 1.302164
# blib any 1.06
#
# === Test Recommends ===
#
# Module Want Have
# ---------- -------- --------
# CPAN::Meta 2.120900 2.150010
#
# === Runtime Requires ===
#
# Module Want Have
# ----------------------------------------------- ---- --------
# Dist::Zilla 6 6.012
# Dist::Zilla::PluginBundle::Basic any 6.012
# Dist::Zilla::PluginBundle::Filter any 6.012
# Dist::Zilla::PluginBundle::Git any 2.046
# Dist::Zilla::Role::PluginBundle::Config::Slicer any 0.202
# Dist::Zilla::Role::PluginBundle::Easy any 6.012
# Dist::Zilla::Role::PluginBundle::PluginRemover any 0.105
# Moose any 2.2011
# Pod::Coverage::TrustPod any 0.100005
# Pod::Elemental::Transformer::List any 0.102000
# Pod::Weaver::Section::Contributors any 0.009
# Test::CPAN::Meta any 0.25
# strict any 1.07
# warnings any 1.18
#
t/00-report-prereqs.t ............ ok
t/author-critic.t ................ skipped: these tests are for testing by the author
t/author-eol.t ................... skipped: these tests are for testing by the author
t/author-no-tabs.t ............... skipped: these tests are for testing by the author
t/author-pod-coverage.t .......... skipped: these tests are for testing by the author
t/author-pod-no404s.t ............ skipped: these tests are for testing by the author
t/author-pod-syntax.t ............ skipped: these tests are for testing by the author
t/release-changes_has_content.t .. skipped: these tests are for release candidate testing
t/release-distmeta.t ............. skipped: these tests are for release candidate testing
t/release-kwalitee.t ............. skipped: these tests are for release candidate testing
All tests successful.
Files=12, Tests=3, 2 wallclock secs ( 0.02 usr 0.01 sys + 1.06 cusr 0.07 csys = 1.16 CPU)
Result: PASS
------------------------------
PREREQUISITES
------------------------------
Prerequisite modules loaded:
requires:
Module Need Have
----------------------------------------------- -------- --------
Dist::Zilla 6 6.012
Dist::Zilla::PluginBundle::Basic 0 6.012
Dist::Zilla::PluginBundle::Filter 0 6.012
Dist::Zilla::PluginBundle::Git 0 2.046
Dist::Zilla::Role::PluginBundle::Config::Slicer 0 0.202
Dist::Zilla::Role::PluginBundle::Easy 0 6.012
Dist::Zilla::Role::PluginBundle::PluginRemover 0 0.105
Moose 0 2.2011
perl 5.014 5.018004
Pod::Coverage::TrustPod 0 0.100005
Pod::Elemental::Transformer::List 0 0.102000
Pod::Weaver::Section::Contributors 0 0.009
strict 0 1.07
Test::CPAN::Meta 0 0.25
warnings 0 1.18
build_requires:
Module Need Have
----------------------------------------------- -------- --------
blib 0 1.06
ExtUtils::MakeMaker 0 7.37_03
File::Spec 0 3.75
IO::Handle 0 1.34
IPC::Open3 0 1.13
Test::More 0 1.302164
configure_requires:
Module Need Have
----------------------------------------------- -------- --------
ExtUtils::MakeMaker 0 7.37_03
opt_build_requires:
Module Need Have
----------------------------------------------- -------- --------
CPAN::Meta 2.120900 2.150010
------------------------------
ENVIRONMENT AND OTHER CONTEXT
------------------------------
Environment variables:
AUTOMATED_TESTING = 1
LC_COLLATE = ru_RU.utf8
LC_CTYPE = ru_RU.utf8
PATH = /home/syber/perl5/perlbrew/bin:/home/syber/perl5/perlbrew/perls/5.18.4/bin:/usr/local/bin:/usr/bin:/bin:/usr/local/games:/usr/games
PERL5LIB =
PERL5OPT =
PERL5_CPANPLUS_IS_RUNNING = 19241
PERL5_CPAN_IS_RUNNING = 19241
PERL5_CPAN_IS_RUNNING_IN_RECURSION = 24915,19241
PERLBREW_HOME = /home/syber/.perlbrew
PERLBREW_MANPATH = /home/syber/perl5/perlbrew/perls/5.18.4/man
PERLBREW_PATH = /home/syber/perl5/perlbrew/bin:/home/syber/perl5/perlbrew/perls/5.18.4/bin
PERLBREW_PERL = 5.18.4
PERLBREW_ROOT = /home/syber/perl5/perlbrew
PERLBREW_SHELLRC_VERSION = 0.86
PERLBREW_VERSION = 0.86
PERL_CR_SMOKER_CURRENT = Dist-Zilla-PluginBundle-WCS-0.003
PERL_EXTUTILS_AUTOINSTALL = --defaultdeps
PERL_MM_USE_DEFAULT = 1
PERL_USE_UNSAFE_INC = 1
SHELL = /bin/bash
TERM = screen
Perl special variables (and OS-specific diagnostics, for MSWin32):
$^X = /home/syber/perl5/perlbrew/perls/5.18.4/bin/perl
$UID/$EUID = 1003 / 1003
$GID = 1003 11 1003
$EGID = 1003 11 1003
Perl module toolchain versions installed:
Module Have
------------------- --------
CPAN 2.27
CPAN::Meta 2.150010
Cwd 3.75
ExtUtils::CBuilder 0.280231
ExtUtils::Command 7.37_03
ExtUtils::Install 2.06
ExtUtils::MakeMaker 7.37_03
ExtUtils::Manifest 1.70
ExtUtils::ParseXS 3.35
File::Spec 3.75
JSON 4.02
JSON::PP 4.04
Module::Build 0.42_30
Module::Signature 0.83
Parse::CPAN::Meta 2.150010
Test::Harness 3.42
Test::More 1.302164
YAML 1.29
YAML::Syck 1.31
version 0.9924
--
Summary of my perl5 (revision 5 version 18 subversion 4) configuration:
Platform:
osname=linux, osvers=4.9.0-8-amd64, archname=x86_64-linux
uname='linux dexter.crazypanda.ru 4.9.0-8-amd64 #1 smp debian 4.9.110-3+deb9u6 (2018-10-08) x86_64 gnulinux '
config_args='-de -Dprefix=/home/syber/perl5/perlbrew/perls/5.18.4 -Aeval:scriptdir=/home/syber/perl5/perlbrew/perls/5.18.4/bin'
hint=recommended, useposix=true, d_sigaction=define
useithreads=undef, usemultiplicity=undef
useperlio=define, d_sfio=undef, uselargefiles=define, usesocks=undef
use64bitint=define, use64bitall=define, uselongdouble=undef
usemymalloc=n, bincompat5005=undef
Compiler:
cc='cc', ccflags ='-fwrapv -fno-strict-aliasing -pipe -fstack-protector -I/usr/local/include -D_LARGEFILE_SOURCE -D_FILE_OFFSET_BITS=64',
optimize='-O2',
cppflags='-fwrapv -fno-strict-aliasing -pipe -fstack-protector -I/usr/local/include'
ccversion='', gccversion='6.3.0 20170516', gccosandvers=''
intsize=4, longsize=8, ptrsize=8, doublesize=8, byteorder=12345678
d_longlong=define, longlongsize=8, d_longdbl=define, longdblsize=16
ivtype='long', ivsize=8, nvtype='double', nvsize=8, Off_t='off_t', lseeksize=8
alignbytes=8, prototype=define
Linker and Libraries:
ld='cc', ldflags =' -fstack-protector -L/usr/local/lib'
libpth=/usr/local/lib /lib/x86_64-linux-gnu /lib/../lib /usr/lib/x86_64-linux-gnu /usr/lib/../lib /lib /usr/lib
libs=-lnsl -ldl -lm -lcrypt -lutil -lc
perllibs=-lnsl -ldl -lm -lcrypt -lutil -lc
libc=libc-2.24.so, so=so, useshrplib=false, libperl=libperl.a
gnulibc_version='2.24'
Dynamic Linking:
dlsrc=dl_dlopen.xs, dlext=so, d_dlsymun=undef, ccdlflags='-Wl,-E'
cccdlflags='-fPIC', lddlflags='-shared -O2 -L/usr/local/lib -fstack-protector'
Characteristics of this binary (from libperl):
Compile-time options: HAS_TIMES PERLIO_LAYERS PERL_DONT_CREATE_GVSV
PERL_HASH_FUNC_ONE_AT_A_TIME_HARD PERL_MALLOC_WRAP
PERL_PRESERVE_IVUV PERL_SAWAMPERSAND USE_64_BIT_ALL
USE_64_BIT_INT USE_LARGE_FILES USE_LOCALE
USE_LOCALE_COLLATE USE_LOCALE_CTYPE
USE_LOCALE_NUMERIC USE_PERLIO USE_PERL_ATOF
Locally applied patches:
Devel::PatchPerl 1.64
Built under linux
Compiled at Aug 5 2019 14:02:29
%ENV:
PERL5LIB=""
PERL5OPT=""
PERL5_CPANPLUS_IS_RUNNING="19241"
PERL5_CPAN_IS_RUNNING="19241"
PERL5_CPAN_IS_RUNNING_IN_RECURSION="24915,19241"
PERLBREW_HOME="/home/syber/.perlbrew"
PERLBREW_MANPATH="/home/syber/perl5/perlbrew/perls/5.18.4/man"
PERLBREW_PATH="/home/syber/perl5/perlbrew/bin:/home/syber/perl5/perlbrew/perls/5.18.4/bin"
PERLBREW_PERL="5.18.4"
PERLBREW_ROOT="/home/syber/perl5/perlbrew"
PERLBREW_SHELLRC_VERSION="0.86"
PERLBREW_VERSION="0.86"
PERL_CR_SMOKER_CURRENT="Dist-Zilla-PluginBundle-WCS-0.003"
PERL_EXTUTILS_AUTOINSTALL="--defaultdeps"
PERL_MM_USE_DEFAULT="1"
PERL_USE_UNSAFE_INC="1"
@INC:
/home/syber/perl5/perlbrew/perls/5.18.4/lib/site_perl/5.18.4/x86_64-linux
/home/syber/perl5/perlbrew/perls/5.18.4/lib/site_perl/5.18.4
/home/syber/perl5/perlbrew/perls/5.18.4/lib/5.18.4/x86_64-linux
/home/syber/perl5/perlbrew/perls/5.18.4/lib/5.18.4
.