Tcl-pTk v1.08_02 Perl 5 v5.30.1 amd64-freebsd-thread-multi

Status
Pass
From
Slaven Rezić
Dist
Tcl-pTk v1.08_02
Platform
Perl 5 v5.30.1 amd64-freebsd-thread-multi
Date
2021-04-04 22:57:09
ID
1614544c-9599-11eb-8d15-505c1f24ea8f
This distribution has been tested as part of the CPAN Testers
project, supporting the Perl programming language.  See
http://wiki.cpantesters.org/ for more information or email
questions to cpan-testers-discuss@perl.org


--
Dear Christopher Alexander Chavez,

This is a computer-generated report for Tcl-pTk-1.08_02
on perl 5.30.1, created by CPAN-Reporter-1.2018.

Thank you for uploading your work to CPAN.  Congratulations!
All tests were successful.

Sections of this report:

    * Tester comments
    * Program output
    * Prerequisites
    * Environment and other context

------------------------------
TESTER COMMENTS
------------------------------

Additional comments from tester:

none provided

------------------------------
PROGRAM OUTPUT
------------------------------

Output from '/usr/bin/make test':

PERL_DL_NONLAZY=1 "/usr/local/bin/perl" "-MExtUtils::Command::MM" "-MTest::Harness" "-e" "undef *Test::Harness::Switches; test_harness(0, 'blib/lib', 'blib/arch')" t/*.t
t/after.t ..................... ok
t/afterDestroy.t .............. ok
t/afterIdle.t ................. ok
t/balloon.t ................... ok
Balloon should appear over 'Balloon Text' button
t/balloon2.t .................. ok
t/bgerror1.t .................. ok
t/bgerror2.t .................. ok
Error Dialog Should Show. This is expected
t/bgerror3.t .................. ok
t/bind.t ...................... ok
t/bindBreak.t ................. ok
t/bitmapSubClass.t ............ ok
t/browseEntry.t ............... ok
t/browseEntry2.t .............. ok
t/busy.t ...................... ok
t/callback.t .................. ok
t/callbackSet.t ............... ok
t/canFind.t ................... ok
t/canIndex.t .................. ok
t/canScale.t .................. ok
t/canvasFocusBusy.t ........... ok
t/checkradio.t ................ ok
t/cleanupCrashTest.t .......... ok
t/command.t ................... ok
t/configureReturn.t ........... ok
t/dialog.t .................... ok
t/dialogBox.t ................. ok
t/dialogBoxGeom.t ............. ok
t/dirtree.t ................... skipped: Tix Tcl package not available
t/dndlocal.t .................. ok
t/emptyMenuButtonSubclass.t ... ok
t/emptyMenuSubclass.t ......... ok
t/emptySubclass.t ............. ok
t/entry.t ..................... ok
t/entryPaste.t ................ ok
t/entryValidate.t ............. ok
t/fileevent.t ................. ok
t/fileevent2.t ................ ok
t/focusMethods.t .............. ok
t/font.t ...................... ok
t/font2.t ..................... ok
t/fontAttr.t .................. ok
t/frameForeground.t ........... ok
t/geomgr.t .................... ok
t/hlist.t ..................... skipped: Tix Tcl package not available
t/iconimage.t ................. ok
t/imageLoad.t ................. skipped: Tix Tcl package not available
t/itemStyle.t ................. skipped: Tix Tcl package not available
t/labEntry.t .................. ok
t/labEntryFacelift.t .......... ok
t/labEntryParentChild.t ....... ok
t/libLoad.t ................... skipped: Tix Tcl package not available
t/listbox.t ................... ok
t/mainloopMult.t .............. ok
t/menub-cascade.t ............. ok
t/menub_newMenu.t ............. ok
t/menubarpath.t ............... ok
t/menuitems.t ................. ok
t/messageBox.t ................ ok
t/moveResizeWindow.t .......... ok
t/moveToplevelWindow.t ........ ok
t/multMainWindow1.t ........... ok
t/multMainWindow2.t ........... ok
t/notebook.t .................. skipped: Tix Tcl package not available
t/notebook2.t ................. skipped: Tix Tcl package not available
t/onDestroy.t ................. ok
t/optmenu.t ................... ok
t/palette.t ................... ok
t/pane.t ...................... skipped: BWidget Tcl package not available
t/patchTk.t ................... skipped: Not using Aqua Tk
t/photoGetImage.t ............. skipped: no Img extension available (can't find package Img at /usr/home/cpansand/.cpan/build/2021040422/Tcl-pTk-1.08_02-0/blib/lib/Tcl/pTk.pm line 1206.
t/photoImg.t .................. skipped: Tk Img extension not found
t/photoSubClass.t ............. ok
t/photoTk.t ................... ok
t/progBar.t ................... ok
t/protocol.t .................. ok
t/ptk-compat.t ................ ok
t/ptk-compat2.t ............... ok
t/repeat.t .................... ok
t/repeatSubReuse.t ............ ok
t/rt125058.t .................. ok
t/scrolled.t .................. ok
t/scrolledOptional.t .......... ok
t/selection.t ................. ok
t/slideMegaWidget.t ........... ok
t/slideMegaWidget2.t .......... ok
t/spreadsheetHideRows.t ....... skipped: Tktable Tcl package not available
t/table.t ..................... skipped: Tktable Tcl package not available
t/tableFacelift.t ............. skipped: Tktable Tcl package not available
t/tableMatrixCallbacks.t ...... skipped: Tktable Tcl package not available
t/tableMatrixCleanup.t ........ skipped: Tktable Tcl package not available
t/tableMatrixDebug.t .......... skipped: Tktable Tcl package not available
t/tableMatrixSpreadsheet.t .... skipped: Tktable Tcl package not available
t/tclVersion.t ................ ok
t/text.t ...................... ok
t/text2-old.t ................. ok
t/text2.t ..................... ok
t/text3.t ..................... ok
t/textEdit.t .................. ok
t/textRO.t .................... ok
t/textSubwidget.t ............. ok
t/textUndo.t .................. ok
t/tileLabelFont.t ............. ok
t/tileTree.t .................. ok
t/tileWidget.t ................ ok
t/tixTree.t ................... skipped: Tix Tcl package not available
t/tk-mw.t ..................... ok
t/tkFacelift_BEsubclass.t ..... ok
t/tkFacelift_browseEntry.t .... ok
t/tkFacelift_frameSubclass.t .. ok
t/tkFacelift_mega1.t .......... ok
t/tkFacelift_notebook.t ....... ok
t/tkFacelift_simple.t ......... skipped: Tix Tcl package not available
t/tkHijack_BEsubclass.t ....... ok
t/tkHijack_bgerror1.t ......... ok
t/tkHijack_bgerror2.t ......... ok
t/tkHijack_bgerror3.t ......... ok
t/tkHijack_mega1.t ............ ok
t/tkHijack_simple.t ........... skipped: Tix Tcl package not available
t/tkHijack_spreadsheet.t ...... skipped: Tktable Tcl package not available
t/trace.t ..................... ok
t/tree.t ...................... skipped: Tix Tcl package not available
t/ttkBrowseEntry.t ............ ok
t/ttkEntryValidate.t .......... ok
t/ttkTixNoteBook.t ............ ok
t/unicode.t ................... ok
t/virtualEv.t ................. ok
t/widgetDelete.t .............. ok
t/widgetName.t ................ ok
t/wmForget.t .................. ok
t/wmStackorder.t .............. ok
t/xevent.t .................... ok
t/zzPhoto.t ................... skipped: no Img extension available
All tests successful.

Test Summary Report
-------------------
t/font.t                    (Wstat: 0 Tests: 13 Failed: 0)
  TODO passed:   11
t/fontAttr.t                (Wstat: 0 Tests: 8 Failed: 0)
  TODO passed:   1-8
t/wmStackorder.t            (Wstat: 0 Tests: 10 Failed: 0)
  TODO passed:   1-10
Files=132, Tests=475, 182 wallclock secs ( 0.65 usr  0.41 sys + 18.83 cusr  9.90 csys = 29.79 CPU)
Result: PASS

------------------------------
PREREQUISITES
------------------------------

Prerequisite modules loaded:

requires:

    Module              Need  Have    
    ------------------- ----- --------
    Class::ISA          0.36  0.36    
    perl                5.008 5.030001
    Sub::Name           0.05  0.26    
    Tcl                 0.90  1.27    
    Time::HiRes         0     1.9760  

build_requires:

    Module              Need  Have    
    ------------------- ----- --------
    ExtUtils::MakeMaker 0     7.34    

configure_requires:

    Module              Need  Have    
    ------------------- ----- --------
    ExtUtils::MakeMaker 0     7.34    


------------------------------
ENVIRONMENT AND OTHER CONTEXT
------------------------------

Environment variables:

    PATH = /usr/local/bin:/usr/bin:/bin:/usr/local/sbin:/usr/sbin:/sbin:/home/cpansand/bin/sh:/home/cpansand/bin:/usr/games:/home/cpansand/devel:/usr/home/eserte/src/srezic-misc/scripts
    PERL5LIB = /home/cpansand/.cpan/build/2021040422/Tcl-1.27-0/blib/arch:/home/cpansand/.cpan/build/2021040422/Tcl-1.27-0/blib/lib:/home/cpansand/.cpan/build/2021040422/Sub-Name-0.26-1/blib/arch:/home/cpansand/.cpan/build/2021040422/Sub-Name-0.26-1/blib/lib:/home/cpansand/.cpan/build/2021040422/Class-ISA-0.36-0/blib/arch:/home/cpansand/.cpan/build/2021040422/Class-ISA-0.36-0/blib/lib
    PERL5OPT = 
    PERL5_CPANPLUS_IS_RUNNING = 19984
    PERL5_CPAN_IS_RUNNING = 19984
    PERL5_CPAN_IS_RUNNING_IN_RECURSION = 59648,19984
    PERL_BATCH = yes
    PERL_CANARY_STABILITY_NOPROMPT = 1
    PERL_CPAN_REPORTER_CONFIG = /var/tmp/cpansmoker-1023/2021040419/cpanreporter_000_config.ini
    PERL_EXTUTILS_AUTOINSTALL = --defaultdeps
    PERL_USE_UNSAFE_INC = 1
    SHELL = /bin/sh
    TMPDIR = /var/tmp/cpansmoker-1023/2021040419

Perl special variables (and OS-specific diagnostics, for MSWin32):

    $^X = /usr/local/bin/perl
    $UID/$EUID = 1023 / 1023
    $GID = 1023 1023
    $EGID = 1023 1023

Perl module toolchain versions installed:

    Module              Have    
    ------------------- --------
    CPAN                2.22    
    CPAN::Meta          2.150010
    Cwd                 3.78    
    ExtUtils::CBuilder  0.280231
    ExtUtils::Command   7.34    
    ExtUtils::Install   2.14    
    ExtUtils::MakeMaker 7.34    
    ExtUtils::Manifest  1.72    
    ExtUtils::ParseXS   3.40    
    File::Spec          3.78    
    JSON                n/a     
    JSON::PP            4.02    
    Module::Build       n/a     
    Module::Signature   n/a     
    Parse::CPAN::Meta   2.150010
    Test::Harness       3.42    
    Test::More          1.302162
    YAML                n/a     
    YAML::Syck          1.32    
    version             0.9924  


--

Summary of my perl5 (revision 5 version 30 subversion 1) configuration:
   
  Platform:
    osname=freebsd
    osvers=12.0-release-p12
    archname=amd64-freebsd-thread-multi
    uname='freebsd 120amd64-default-job-02 12.0-release-p12 freebsd 12.0-release-p12 amd64 '
    config_args='-sde -Dprefix=/usr/local -Dlibperl=libperl.so.5.30.1 -Darchlib=/usr/local/lib/perl5/5.30/mach -Dprivlib=/usr/local/lib/perl5/5.30 -Dman3dir=/usr/local/lib/perl5/5.30/perl/man/man3 -Dman1dir=/usr/local/lib/perl5/5.30/perl/man/man1 -Dsitearch=/usr/local/lib/perl5/site_perl/mach/5.30 -Dsitelib=/usr/local/lib/perl5/site_perl -Dscriptdir=/usr/local/bin -Dsiteman3dir=/usr/local/lib/perl5/site_perl/man/man3 -Dsiteman1dir=/usr/local/lib/perl5/site_perl/man/man1 -Ui_malloc -Ui_iconv -Uinstallusrbinperl -Dusenm=n -Dcc=cc -Duseshrplib -Dinc_version_list=none -Dcf_by=mat -Dcf_email=mat@FreeBSD.org -Dcf_time=Sun Nov 10 14:14:17 UTC 2019 -Alddlflags=-L/wrkdirs/usr/ports/lang/perl5.30/work/perl-5.30.1 -L/usr/local/lib/perl5/5.30/mach/CORE -lperl -Dshrpldflags=$(LDDLFLAGS:N-L/wrkdirs/usr/ports/lang/perl5.30/work/perl-5.30.1:N-L/usr/local/lib/perl5/5.30/mach/CORE:N-lperl) -Wl,-soname,$(LIBPERL:R) -Doptimize=-O2 -pipe  -fstack-protector-strong -fno-strict-aliasing  -Dusedtrace -Ui_gdbm -Dusemultiplicity=y -Duse64bitint -Dusemymalloc=n -Dusethreads=y -Accflags=-DUSE_THREAD_SAFE_LOCALE'
    hint=recommended
    useposix=true
    d_sigaction=define
    useithreads=define
    usemultiplicity=define
    use64bitint=define
    use64bitall=define
    uselongdouble=undef
    usemymalloc=n
    default_inc_excludes_dot=define
    bincompat5005=undef
  Compiler:
    cc='cc'
    ccflags ='-DHAS_FPSETMASK -DHAS_FLOATINGPOINT_H -DUSE_THREAD_SAFE_LOCALE -fno-strict-aliasing -pipe -fstack-protector-strong -I/usr/local/include -D_FORTIFY_SOURCE=2'
    optimize='-O2 -pipe -fstack-protector-strong -fno-strict-aliasing '
    cppflags='-DHAS_FPSETMASK -DHAS_FLOATINGPOINT_H -DUSE_THREAD_SAFE_LOCALE -fno-strict-aliasing -pipe -fstack-protector-strong -I/usr/local/include'
    ccversion=''
    gccversion='4.2.1 Compatible FreeBSD Clang 6.0.1 (tags/RELEASE_601/final 335540)'
    gccosandvers=''
    intsize=4
    longsize=8
    ptrsize=8
    doublesize=8
    byteorder=12345678
    doublekind=3
    d_longlong=define
    longlongsize=8
    d_longdbl=define
    longdblsize=16
    longdblkind=3
    ivtype='long'
    ivsize=8
    nvtype='double'
    nvsize=8
    Off_t='off_t'
    lseeksize=8
    alignbytes=8
    prototype=define
  Linker and Libraries:
    ld='cc'
    ldflags ='-pthread -Wl,-E  -fstack-protector-strong -L/usr/local/lib'
    libpth=/usr/lib /usr/local/lib /usr/lib/clang/6.0.1/lib /usr/lib
    libs=-lpthread -lm -lcrypt -lutil
    perllibs=-lpthread -lm -lcrypt -lutil
    libc=
    so=so
    useshrplib=true
    libperl=libperl.so.5.30.1
    gnulibc_version=''
  Dynamic Linking:
    dlsrc=dl_dlopen.xs
    dlext=so
    d_dlsymun=undef
    ccdlflags='  -Wl,-R/usr/local/lib/perl5/5.30/mach/CORE'
    cccdlflags='-DPIC -fPIC'
    lddlflags='-shared  -L/usr/local/lib/perl5/5.30/mach/CORE -lperl -L/usr/local/lib -fstack-protector-strong'


Characteristics of this binary (from libperl): 
  Compile-time options:
    HAS_TIMES
    MULTIPLICITY
    PERLIO_LAYERS
    PERL_COPY_ON_WRITE
    PERL_DONT_CREATE_GVSV
    PERL_IMPLICIT_CONTEXT
    PERL_MALLOC_WRAP
    PERL_OP_PARENT
    PERL_PRESERVE_IVUV
    USE_64_BIT_ALL
    USE_64_BIT_INT
    USE_ITHREADS
    USE_LARGE_FILES
    USE_LOCALE
    USE_LOCALE_COLLATE
    USE_LOCALE_CTYPE
    USE_LOCALE_NUMERIC
    USE_LOCALE_TIME
    USE_PERLIO
    USE_PERL_ATOF
    USE_REENTRANT_API
    USE_THREAD_SAFE_LOCALE
  Built under freebsd
  %ENV:
    PERL5LIB="/home/cpansand/.cpan/build/2021040422/Tcl-1.27-0/blib/arch:/home/cpansand/.cpan/build/2021040422/Tcl-1.27-0/blib/lib:/home/cpansand/.cpan/build/2021040422/Sub-Name-0.26-1/blib/arch:/home/cpansand/.cpan/build/2021040422/Sub-Name-0.26-1/blib/lib:/home/cpansand/.cpan/build/2021040422/Class-ISA-0.36-0/blib/arch:/home/cpansand/.cpan/build/2021040422/Class-ISA-0.36-0/blib/lib"
    PERL5OPT=""
    PERL5_CPANPLUS_IS_RUNNING="19984"
    PERL5_CPAN_IS_RUNNING="19984"
    PERL5_CPAN_IS_RUNNING_IN_RECURSION="59648,19984"
    PERL_BATCH="yes"
    PERL_CANARY_STABILITY_NOPROMPT="1"
    PERL_CPAN_REPORTER_CONFIG="/var/tmp/cpansmoker-1023/2021040419/cpanreporter_000_config.ini"
    PERL_EXTUTILS_AUTOINSTALL="--defaultdeps"
    PERL_USE_UNSAFE_INC="1"
  @INC:
    /home/cpansand/.cpan/build/2021040422/Tcl-1.27-0/blib/arch
    /home/cpansand/.cpan/build/2021040422/Tcl-1.27-0/blib/lib
    /home/cpansand/.cpan/build/2021040422/Sub-Name-0.26-1/blib/arch
    /home/cpansand/.cpan/build/2021040422/Sub-Name-0.26-1/blib/lib
    /home/cpansand/.cpan/build/2021040422/Class-ISA-0.36-0/blib/arch
    /home/cpansand/.cpan/build/2021040422/Class-ISA-0.36-0/blib/lib
    /usr/local/lib/perl5/site_perl/mach/5.30
    /usr/local/lib/perl5/site_perl
    /usr/local/lib/perl5/5.30/mach
    /usr/local/lib/perl5/5.30
    .