CPAN-SQLite v0.215 Perl 5 v5.26.1 x86_64-linux-thread-multi-ld

Status
Pass
From
Andreas J. König (ANDK)
Dist
CPAN-SQLite v0.215
Platform
Perl 5 v5.26.1 x86_64-linux-thread-multi-ld
Date
2019-01-23 23:10:34
ID
165a3c80-1f64-11e9-8607-e7f8e5f744c1
This distribution has been tested as part of the CPAN Testers
project, supporting the Perl programming language.  See
http://wiki.cpantesters.org/ for more information or email
questions to cpan-testers-discuss@perl.org


--
Dear Serguei Trouchelle,

This is a computer-generated report for CPAN-SQLite-0.215
on perl 5.26.1, created by CPAN-Reporter-1.2018.

Thank you for uploading your work to CPAN.  Congratulations!
All tests were successful.

Sections of this report:

    * Tester comments
    * Program output
    * Prerequisites
    * Environment and other context

------------------------------
TESTER COMMENTS
------------------------------

Additional comments from tester:

this report is from an automated smoke testing program
and was not reviewed by a human for accuracy

------------------------------
PROGRAM OUTPUT
------------------------------

Output from '/usr/bin/make test':

PERL_DL_NONLAZY=1 "/home/sand/src/perl/repoperls/installed-perls/host/k93msid/v5.26.1/ac75/bin/perl" "-MExtUtils::Command::MM" "-MTest::Harness" "-e" "undef *Test::Harness::Switches; test_harness(0, 'blib/lib', 'blib/arch')" t/*.t
# Listing %INC
#                                    B 1.68
#                                 CPAN 2.21
#                         CPAN::Author 5.5002
#                         CPAN::Bundle 5.5003
#                       CPAN::CacheMgr 5.5002
#                       CPAN::Complete 5.5001
#                          CPAN::Debug 5.5001
#                   CPAN::DeferredCode 5.50
#                   CPAN::DistnameInfo 0.12
#                   CPAN::Distribution 2.21
#                    CPAN::Distroprefs 6.0001
#                   CPAN::Distrostatus 5.5
# CPAN::Exception::RecursiveDependency 5.5001
#  CPAN::Exception::yaml_not_installed 5.5
#  CPAN::Exception::yaml_process_error 5.5
#                            CPAN::FTP 5.5011
#                     CPAN::FTP::netrc 1.01
#              CPAN::HTTP::Credentials 1.9601
#                   CPAN::HandleConfig 5.5008
#                          CPAN::Index 2.12
#                        CPAN::InfoObj 5.5
#                 CPAN::LWP::UserAgent 1.9601
#                         CPAN::Module 5.5003
#                         CPAN::Prompt 5.5
#                          CPAN::Queue 5.5002
#                          CPAN::Shell 5.5008
#                         CPAN::Tarzip 5.5012
#                            CPAN::URL 5.5
#                        CPAN::Version 5.5003
#                                 Carp 1.42
#                          Carp::Heavy 1.42
#                  Compress::Raw::Zlib 2.084
#                       Compress::Zlib 2.084
#                               Config 5.026001
#                                  Cwd 3.75
#                                  DBI 1.642
#                            DirHandle 1.04
#                           DynaLoader 1.42
#                               Encode 2.88
#                        Encode::Alias 2.21
#                       Encode::Config 2.05
#                     Encode::Encoding 2.07
#                              English 1.10
#                                Errno 1.28
#                             Exporter 5.73
#                      Exporter::Heavy 5.73
#                    ExtUtils::Liblist 7.34
#               ExtUtils::Liblist::Kid 7.34
#                         ExtUtils::MM 7.34
#                     ExtUtils::MM_Any 7.34
#                    ExtUtils::MM_Unix 7.34
#                         ExtUtils::MY 7.34
#                  ExtUtils::MakeMaker 7.34
#          ExtUtils::MakeMaker::Config 7.34
#          ExtUtils::MakeMaker::Locale 7.34
#         ExtUtils::MakeMaker::version 7.34
#                                Fcntl 1.13
#                       File::Basename 2.85
#                           File::Copy 2.32
#                           File::Find 1.34
#                           File::Glob 1.28
#                     File::GlobMapper 1.001
#                        File::HomeDir 1.004
#                File::HomeDir::Driver 1.004
#           File::HomeDir::FreeDesktop 1.004
#                  File::HomeDir::Unix 1.004
#                           File::Path 2.1201
#                           File::Spec 3.75
#                File::Spec::Functions 3.75
#                     File::Spec::Unix 3.75
#                          File::Which 1.23
#                           FileHandle 2.03
#                         Getopt::Long 2.5
#                           HTTP::Tiny 0.070
#                       I18N::Langinfo 0.13
#                                   IO 1.38
#       IO::Compress::Adapter::Deflate 2.084
#                   IO::Compress::Base 2.084
#           IO::Compress::Base::Common 2.084
#                   IO::Compress::Gzip 2.084
#        IO::Compress::Gzip::Constants 2.084
#             IO::Compress::RawDeflate 2.084
#            IO::Compress::Zlib::Extra 2.084
#                             IO::File 1.16
#                           IO::Handle 1.36
#                         IO::Seekable 1.1
#                           IO::Socket 1.38
#                     IO::Socket::INET 1.35
#                       IO::Socket::IP 0.39
#                     IO::Socket::UNIX 1.26
#     IO::Uncompress::Adapter::Inflate 2.084
#                 IO::Uncompress::Base 2.084
#               IO::Uncompress::Gunzip 2.084
#           IO::Uncompress::RawInflate 2.084
#                           List::Util 1.5
#                               Opcode 1.39
#                                POSIX 1.76
#                                 Safe 2.40
#                         Scalar::Util 1.5
#                          SelectSaver 1.02
#                               Socket 2.020_03
#                               Symbol 1.08
#                        Sys::Hostname 1.20
#                     Text::ParseWords 3.30
#                           Text::Tabs 2013.0523
#                           Text::Wrap 2013.0523
#                            Tie::Hash 1.05
#              Tie::Hash::NamedCapture 0.10
#                             XSLoader 0.27
#                                 base 2.26
#                                bytes 1.05
#                             constant 1.33
#                                  lib 0.64
#                             overload 1.28
#                          overloading 0.02
#                               parent 0.236
#                                   re 0.34
#                               strict 1.11
#                                 subs 1.02
#                                 utf8 1.19
#                                 vars 1.03
#                              version 0.9917
#                       version::regex 0.9917
#                             warnings 1.37
#                   warnings::register 1.04
t/00-all_prereqs.t ............... ok
t/00-compile.t ................... ok
# 
# Versions for all modules listed in MYMETA.json (including optional ones):
# 
# === Configure Requires ===
# 
#     Module              Want Have
#     ------------------- ---- ----
#     ExtUtils::MakeMaker  any 7.34
# 
# === Build Requires ===
# 
#     Module              Want Have
#     ------------------- ---- ----
#     ExtUtils::MakeMaker  any 7.34
# 
# === Test Requires ===
# 
#     Module              Want     Have
#     ------------------- ---- --------
#     CPAN::HandleConfig   any   5.5008
#     CPAN::Version        any   5.5003
#     Carp                 any     1.42
#     DBD::SQLite          any     1.58
#     ExtUtils::MakeMaker  any     7.34
#     File::Copy           any     2.32
#     File::Spec           any     3.75
#     FindBin              any     1.51
#     IO::Handle           any     1.36
#     IPC::Open3           any     1.20
#     Test::Memory::Cycle  any     1.06
#     Test::More          0.94 1.302160
#     base                 any     2.26
#     lib                  any     0.64
# 
# === Test Recommends ===
# 
#     Module         Want     Have
#     ---------- -------- --------
#     CPAN::Meta 2.120900 2.150010
# 
# === Runtime Requires ===
# 
#     Module                Want    Have
#     --------------------- ---- -------
#     Archive::Tar          1.54    2.32
#     CPAN                   any    2.21
#     CPAN::DistnameInfo    0.09    0.12
#     CPAN::Index           1.93    2.12
#     Compress::Zlib         any   2.084
#     Cwd                    any    3.75
#     DBD::SQLite           1.27    1.58
#     DBI                    any   1.642
#     English                any    1.10
#     Exporter               any    5.73
#     File::Basename         any    2.85
#     File::Find             any    1.34
#     File::HomeDir          any   1.004
#     File::Path             any 2.12_01
#     File::Spec             any    3.75
#     File::Spec::Functions  any    3.75
#     Getopt::Long           any     2.5
#     HTTP::Tiny             any   0.070
#     IO::Zlib               any    1.10
#     Safe                   any    2.40
#     Scalar::Util           any    1.50
#     constant               any    1.33
#     parent                 any   0.236
#     strict                 any    1.11
#     utf8                   any    1.19
#     warnings               any    1.37
# 
t/00-report-prereqs.t ............ ok
# Testing with Perl 5.026001, /home/sand/src/perl/repoperls/installed-perls/host/k93msid/v5.26.1/ac75/bin/perl
#     CPAN version is 2.21
#     CPAN::DistnameInfo version is 0.12
#     CPAN::HandleConfig version is 5.5008
#     CPAN::Version version is 5.5003
#     Carp version is 1.42
#     Compress::Zlib version is 2.084
#     Cwd version is 3.75
#     DBD::SQLite version is 1.58
#     DBI version is 1.642
#     English version is 1.10
#     Exporter version is 5.73
#     ExtUtils::MakeMaker version is 7.34
#     File::Basename version is 2.85
#     File::Copy version is 2.32
#     File::Find version is 1.34
#     File::HomeDir version is 1.004
#     File::Path version is 2.1201
#     File::Spec version is 3.75
#     File::Spec::Functions version is 3.75
#     FindBin version is 1.51
#     Getopt::Long version is 2.5
#     HTTP::Tiny version is 0.070
#     IO::Handle version is 1.36
#     IPC::Open3 version is 1.20
#     Safe version is 2.40
#     Scalar::Util version is 1.5
#     Test::Memory::Cycle version is 1.06
#     Test::More version is 1.302160
#     base version is 2.26
#     constant version is 1.33
#     lib version is 0.64
#     parent version is 0.236
#     strict version is 1.11
#     utf8 version is 1.19
#     warnings version is 1.37
t/000-report-versions.t .......... ok
t/01basic.t ...................... ok
t/02drop.t ....................... ok
t/03info.t ....................... ok
t/04search.t ..................... ok
t/04search_everything.t .......... ok
t/05meta_new.t ................... ok
t/05meta_update.t ................ ok
t/06retrieve.t ................... ok
t/07download.t ................... ok
t/08circular_references.t ........ ok
t/author-critic.t ................ skipped: these tests are for testing by the author
t/author-eol.t ................... skipped: these tests are for testing by the author
t/author-minimum-version.t ....... skipped: these tests are for testing by the author
t/author-no-tabs.t ............... skipped: these tests are for testing by the author
t/author-pod-syntax.t ............ skipped: these tests are for testing by the author
t/release-changes_has_content.t .. skipped: these tests are for release candidate testing
t/release-distmeta.t ............. skipped: these tests are for release candidate testing
t/release-fixme.t ................ skipped: these tests are for release candidate testing
t/release-has-version.t .......... skipped: these tests are for release candidate testing
t/release-kwalitee.t ............. skipped: these tests are for release candidate testing
t/release-meta-json.t ............ skipped: these tests are for release candidate testing
t/release-pause-permissions.t .... skipped: these tests are for release candidate testing
All tests successful.
Files=26, Tests=11316, 29 wallclock secs ( 0.89 usr  0.27 sys +  8.20 cusr  1.70 csys = 11.06 CPU)
Result: PASS

------------------------------
PREREQUISITES
------------------------------

Prerequisite modules loaded:

requires:

    Module              Need Have 
    ------------------- ---- -----
    Archive::Tar        1.54 2.32 
    Compress::Zlib      0    2.084
    CPAN::DistnameInfo  0.09 0.12 
    CPAN::Index         1.93 2.12 
    DBD::SQLite         1.27 1.58 
    File::HomeDir       0    1.004
    File::Spec          0    3.75 
    HTTP::Tiny          0    0.070
    IO::Zlib            0    1.10 
    parent              0    0.236

build_requires:

    Module              Need Have 
    ------------------- ---- -----
    ExtUtils::MakeMaker 0    7.34 
    Test::Memory::Cycle 0    1.06 

configure_requires:

    Module              Need Have 
    ------------------- ---- -----
    ExtUtils::MakeMaker 0    7.34 


------------------------------
ENVIRONMENT AND OTHER CONTEXT
------------------------------

Environment variables:

    AUTOMATED_TESTING = 1
    LANG = en_US.UTF-8
    PATH = /home/sand/bin:/usr/local/bin:/usr/bin:/bin:/usr/games:/usr/local/perl/bin:/usr/X11/bin:/sbin:/usr/sbin
    PERL5LIB = 
    PERL5OPT = 
    PERL5_CPANPLUS_IS_RUNNING = 14438
    PERL5_CPAN_IS_RUNNING = 14438
    PERL5_CPAN_IS_RUNNING_IN_RECURSION = 12153,14438
    PERL_CANARY_STABILITY_NOPROMPT = 1
    PERL_MM_USE_DEFAULT = 1
    PERL_USE_UNSAFE_INC = 1
    SHELL = /usr/bin/zsh
    TERM = screen

Perl special variables (and OS-specific diagnostics, for MSWin32):

    $^X = /home/sand/src/perl/repoperls/installed-perls/host/k93msid/v5.26.1/ac75/bin/perl
    $UID/$EUID = 1005 / 1005
    $GID = 1005 1005
    $EGID = 1005 1005

Perl module toolchain versions installed:

    Module              Have    
    ------------------- --------
    CPAN                2.21    
    CPAN::Meta          2.150010
    Cwd                 3.75    
    ExtUtils::CBuilder  0.280230
    ExtUtils::Command   7.34    
    ExtUtils::Install   2.06    
    ExtUtils::MakeMaker 7.34    
    ExtUtils::Manifest  1.70    
    ExtUtils::ParseXS   3.34    
    File::Spec          3.75    
    JSON                4.00    
    JSON::PP            4.00    
    Module::Build       0.4224  
    Module::Signature   0.83    
    Parse::CPAN::Meta   2.150010
    Test::Harness       3.42    
    Test::More          1.302160
    YAML                1.26    
    YAML::Syck          1.31    
    version             0.9917  


--

Summary of my perl5 (revision 5 version 26 subversion 1) configuration:
  Derived from: 714a461a2ab3017f19ea0f7bbb4934b2309d3aa8
  Platform:
    osname=linux
    osvers=4.18.0-2-amd64
    archname=x86_64-linux-thread-multi-ld
    uname='linux k93msid 4.18.0-2-amd64 #1 smp debian 4.18.10-2 (2018-10-07) x86_64 gnulinux '
    config_args='-Dprefix=/home/sand/src/perl/repoperls/installed-perls/host/k93msid/v5.26.1/ac75 -Dmyhostname=k93msid -Dinstallusrbinperl=n -Uversiononly -Dusedevel -des -Ui_db -Dlibswanted=cl pthread socket inet nsl gdbm dbm malloc dl ld sun m crypt sec util c cposix posix ucb BSD gdbm_compat -Duseithreads -Duselongdouble -DEBUGGING=both'
    hint=recommended
    useposix=true
    d_sigaction=define
    useithreads=define
    usemultiplicity=define
    use64bitint=define
    use64bitall=define
    uselongdouble=define
    usemymalloc=n
    default_inc_excludes_dot=define
    bincompat5005=undef
  Compiler:
    cc='cc'
    ccflags ='-D_REENTRANT -D_GNU_SOURCE -fwrapv -DDEBUGGING -fno-strict-aliasing -pipe -fstack-protector-strong -I/usr/local/include -D_LARGEFILE_SOURCE -D_FILE_OFFSET_BITS=64'
    optimize='-O2 -g'
    cppflags='-D_REENTRANT -D_GNU_SOURCE -fwrapv -DDEBUGGING -fno-strict-aliasing -pipe -fstack-protector-strong -I/usr/local/include'
    ccversion=''
    gccversion='8.2.0'
    gccosandvers=''
    intsize=4
    longsize=8
    ptrsize=8
    doublesize=8
    byteorder=12345678
    doublekind=3
    d_longlong=define
    longlongsize=8
    d_longdbl=define
    longdblsize=16
    longdblkind=3
    ivtype='long'
    ivsize=8
    nvtype='long double'
    nvsize=16
    Off_t='off_t'
    lseeksize=8
    alignbytes=16
    prototype=define
  Linker and Libraries:
    ld='cc'
    ldflags =' -fstack-protector-strong -L/usr/local/lib'
    libpth=/usr/local/lib /usr/lib/gcc/x86_64-linux-gnu/8/include-fixed /usr/include/x86_64-linux-gnu /usr/lib /lib/x86_64-linux-gnu /lib/../lib /usr/lib/x86_64-linux-gnu /usr/lib/../lib /lib
    libs=-lpthread -lnsl -ldl -lm -lcrypt -lutil -lc
    perllibs=-lpthread -lnsl -ldl -lm -lcrypt -lutil -lc
    libc=libc-2.27.so
    so=so
    useshrplib=false
    libperl=libperl.a
    gnulibc_version='2.27'
  Dynamic Linking:
    dlsrc=dl_dlopen.xs
    dlext=so
    d_dlsymun=undef
    ccdlflags='-Wl,-E'
    cccdlflags='-fPIC'
    lddlflags='-shared -O2 -g -L/usr/local/lib -fstack-protector-strong'


Characteristics of this binary (from libperl): 
  Compile-time options:
    DEBUGGING
    HAS_TIMES
    MULTIPLICITY
    PERLIO_LAYERS
    PERL_COPY_ON_WRITE
    PERL_DONT_CREATE_GVSV
    PERL_IMPLICIT_CONTEXT
    PERL_MALLOC_WRAP
    PERL_OP_PARENT
    PERL_PRESERVE_IVUV
    PERL_TRACK_MEMPOOL
    PERL_USE_DEVEL
    USE_64_BIT_ALL
    USE_64_BIT_INT
    USE_ITHREADS
    USE_LARGE_FILES
    USE_LOCALE
    USE_LOCALE_COLLATE
    USE_LOCALE_CTYPE
    USE_LOCALE_NUMERIC
    USE_LOCALE_TIME
    USE_LONG_DOUBLE
    USE_PERLIO
    USE_PERL_ATOF
    USE_REENTRANT_API
  Locally applied patches:
    uncommitted-changes
  Built under linux
  Compiled at Oct 28 2018 20:11:40
  %ENV:
    PERL5LIB=""
    PERL5OPT=""
    PERL5_CPANPLUS_IS_RUNNING="14438"
    PERL5_CPAN_IS_RUNNING="14438"
    PERL5_CPAN_IS_RUNNING_IN_RECURSION="12153,14438"
    PERL_CANARY_STABILITY_NOPROMPT="1"
    PERL_MM_USE_DEFAULT="1"
    PERL_USE_UNSAFE_INC="1"
  @INC:
    /home/sand/src/perl/repoperls/installed-perls/host/k93msid/v5.26.1/ac75/lib/site_perl/5.26.1/x86_64-linux-thread-multi-ld
    /home/sand/src/perl/repoperls/installed-perls/host/k93msid/v5.26.1/ac75/lib/site_perl/5.26.1
    /home/sand/src/perl/repoperls/installed-perls/host/k93msid/v5.26.1/ac75/lib/5.26.1/x86_64-linux-thread-multi-ld
    /home/sand/src/perl/repoperls/installed-perls/host/k93msid/v5.26.1/ac75/lib/5.26.1
    .