Report for Config-INI-Serializer-0.002

Back
From: metabase:user:314402c4-2aae-11df-837a-5e0a49663a4f
Subject: PASS Config-INI-Serializer-0.002 v5.16.3 FreeBSD
Date: 2016-09-18T19:50:01Z

This distribution has been tested as part of the CPAN Testers
project, supporting the Perl programming language.  See
http://wiki.cpantesters.org/ for more information or email
questions to cpan-testers-discuss@perl.org


--
Dear Steffen Schwigon,

This is a computer-generated report for Config-INI-Serializer-0.002
on perl 5.16.3, created by CPAN-Reporter-1.2010.

Thank you for uploading your work to CPAN.  Congratulations!
All tests were successful.

Sections of this report:

    * Tester comments
    * Program output
    * Prerequisites
    * Environment and other context

------------------------------
TESTER COMMENTS
------------------------------

Additional comments from tester:

none provided

------------------------------
PROGRAM OUTPUT
------------------------------

Output from '/usr/bin/make test':

PERL_DL_NONLAZY=1 "/usr/perl5.16.3/bin/perl" "-MExtUtils::Command::MM" "-MTest::Harness" "-e" "undef *Test::Harness::Switches; test_harness(0, 'blib/lib', 'blib/arch')" t/*.t
t/00-compile.t ............ ok
t/author-eol.t ............ skipped: these tests are for testing by the author
t/author-no-tabs.t ........ skipped: these tests are for testing by the author
t/release-pod-coverage.t .. skipped: these tests are for release candidate testing
t/release-pod-syntax.t .... skipped: these tests are for release candidate testing
t/serializer.t ............ ok
All tests successful.
Files=6, Tests=9,  0 wallclock secs ( 0.05 usr  0.04 sys +  0.33 cusr  0.18 csys =  0.59 CPU)
Result: PASS

------------------------------
PREREQUISITES
------------------------------

Prerequisite modules loaded:

requires:

    Module              Need  Have    
    ------------------- ----- --------
    perl                5.006 5.016003
    strict              0     1.07    
    warnings            0     1.13    

build_requires:

    Module              Need  Have    
    ------------------- ----- --------
    blib                1.01  1.06    
    Data::Dumper        0     2.135_06
    ExtUtils::MakeMaker 0     7.24    
    File::Spec          0     3.40    
    IO::Handle          0     1.33    
    IPC::Open3          0     1.12    
    Test::Deep          0     0.112   
    Test::More          0     1.001002

configure_requires:

    Module              Need  Have    
    ------------------- ----- --------
    ExtUtils::MakeMaker 0     7.24    


------------------------------
ENVIRONMENT AND OTHER CONTEXT
------------------------------

Environment variables:

    LC_ALL = de_DE.UTF-8
    PATH = /usr/local/bin:/usr/bin:/bin:/usr/local/sbin:/usr/sbin:/sbin:/home/e/eserte/bin/freebsd9.1:/home/e/eserte/bin/sh:/home/e/eserte/bin:/home/e/eserte/bin/pistachio-perl/bin:/usr/games:/home/e/eserte/devel:/home/e/eserte/src/srezic-misc/scripts
    PERL5LIB = /usr/local/src/CPAN/build/2016091821/BenchmarkAnything-Storage-Backend-SQL-0.020-SM0Wk3/blib/arch:/usr/local/src/CPAN/build/2016091821/BenchmarkAnything-Storage-Backend-SQL-0.020-SM0Wk3/blib/lib:/usr/local/src/CPAN/build/2016091821/Sereal-Encoder-3.015-egyiIs/blib/arch:/usr/local/src/CPAN/build/2016091821/Sereal-Encoder-3.015-egyiIs/blib/lib:/usr/local/src/CPAN/build/2016091821/Sereal-Decoder-3.015-f3BIUo/blib/arch:/usr/local/src/CPAN/build/2016091821/Sereal-Decoder-3.015-f3BIUo/blib/lib:/usr/local/src/CPAN/build/2016091821/ExtUtils-MakeMaker-7.24-3IH_I9/blib/arch:/usr/local/src/CPAN/build/2016091821/ExtUtils-MakeMaker-7.24-3IH_I9/blib/lib:/usr/local/src/CPAN/build/2016091821/DBD-SQLite-1.50-T1qqxl/blib/arch:/usr/local/src/CPAN/build/2016091821/DBD-SQLite-1.50-T1qqxl/blib/lib
    PERL5OPT = 
    PERL5_CPANPLUS_IS_RUNNING = 5104
    PERL5_CPAN_IS_RUNNING = 5104
    PERL5_CPAN_IS_RUNNING_IN_RECURSION = 87452,5104
    PERLDOC = -MPod::Perldoc::ToTextOverstrike
    PERL_BATCH = yes
    PERL_CANARY_STABILITY_NOPROMPT = 1
    PERL_CPAN_REPORTER_CONFIG = /var/tmp/cpansmoker-1000/2016091809/cpanreporter_000_config.ini
    PERL_EXTUTILS_AUTOINSTALL = --defaultdeps
    SHELL = /usr/local/bin/zsh
    TERM = screen
    TMPDIR = /var/tmp/cpansmoker-1000/2016091809

Perl special variables (and OS-specific diagnostics, for MSWin32):

    $^X = /usr/perl5.16.3/bin/perl
    $UID/$EUID = 1000 / 1000
    $GID = 1000 1000 0 5 1023 1024
    $EGID = 1000 1000 0 5 1023 1024

Perl module toolchain versions installed:

    Module              Have    
    ------------------- --------
    CPAN                1.9800  
    CPAN::Meta          2.143240
    Cwd                 3.40    
    ExtUtils::CBuilder  0.280206
    ExtUtils::Command   7.24    
    ExtUtils::Install   1.58    
    ExtUtils::MakeMaker 7.24    
    ExtUtils::Manifest  1.70    
    ExtUtils::ParseXS   3.24    
    File::Spec          3.40    
    JSON                2.90    
    JSON::PP            2.27203 
    Module::Build       0.4205  
    Module::Signature   n/a     
    Parse::CPAN::Meta   1.4414  
    Test::Harness       3.30    
    Test::More          1.001002
    YAML                0.84    
    YAML::Syck          1.27    
    version             0.99    


--

Summary of my perl5 (revision 5 version 16 subversion 3) configuration:
   
  Platform:
    osname=freebsd, osvers=9.2-release, archname=amd64-freebsd
    uname='freebsd cvrsnica.herceg.de 9.2-release freebsd 9.2-release #0 r255898: thu sep 26 22:50:31 utc 2013 root@bake.isc.freebsd.org:usrobjusrsrcsysgeneric amd64 '
    config_args='-D useshrplib=true -Dprefix=/usr/perl5.16.3 -Dusemymalloc=n -D cc=ccache cc -Dgccansipedantic -de'
    hint=recommended, useposix=true, d_sigaction=define
    useithreads=undef, usemultiplicity=undef
    useperlio=define, d_sfio=undef, uselargefiles=define, usesocks=undef
    use64bitint=define, use64bitall=define, uselongdouble=undef
    usemymalloc=n, bincompat5005=undef
  Compiler:
    cc='ccache cc', ccflags ='-DHAS_FPSETMASK -DHAS_FLOATINGPOINT_H -fno-strict-aliasing -pipe -fstack-protector -I/usr/local/include',
    optimize='-O2 -pipe',
    cppflags='-DHAS_FPSETMASK -DHAS_FLOATINGPOINT_H -fno-strict-aliasing -pipe -fstack-protector -I/usr/local/include'
    ccversion='', gccversion='4.2.1 20070831 patched [FreeBSD]', gccosandvers=''
    intsize=4, longsize=8, ptrsize=8, doublesize=8, byteorder=12345678
    d_longlong=define, longlongsize=8, d_longdbl=define, longdblsize=16
    ivtype='long', ivsize=8, nvtype='double', nvsize=8, Off_t='off_t', lseeksize=8
    alignbytes=8, prototype=define
  Linker and Libraries:
    ld='ccache cc', ldflags ='-Wl,-E  -fstack-protector -L/usr/local/lib'
    libpth=/usr/lib /usr/local/lib
    libs=-lgdbm -lm -lcrypt -lutil -lc
    perllibs=-lm -lcrypt -lutil -lc
    libc=, so=so, useshrplib=true, libperl=libperl.so
    gnulibc_version=''
  Dynamic Linking:
    dlsrc=dl_dlopen.xs, dlext=so, d_dlsymun=undef, ccdlflags='  -Wl,-R/usr/perl5.16.3/lib/5.16.3/amd64-freebsd/CORE'
    cccdlflags='-DPIC -fPIC', lddlflags='-shared  -L/usr/local/lib -fstack-protector'


Characteristics of this binary (from libperl): 
  Compile-time options: HAS_TIMES PERLIO_LAYERS PERL_DONT_CREATE_GVSV
                        PERL_MALLOC_WRAP PERL_PRESERVE_IVUV PERL_USE_DEVEL
                        USE_64_BIT_ALL USE_64_BIT_INT USE_LARGE_FILES
                        USE_LOCALE USE_LOCALE_COLLATE USE_LOCALE_CTYPE
                        USE_LOCALE_NUMERIC USE_PERLIO USE_PERL_ATOF
  Built under freebsd
  Compiled at Oct 30 2013 17:36:17
  %ENV:
    PERL5LIB="/usr/local/src/CPAN/build/2016091821/BenchmarkAnything-Storage-Backend-SQL-0.020-SM0Wk3/blib/arch:/usr/local/src/CPAN/build/2016091821/BenchmarkAnything-Storage-Backend-SQL-0.020-SM0Wk3/blib/lib:/usr/local/src/CPAN/build/2016091821/Sereal-Encoder-3.015-egyiIs/blib/arch:/usr/local/src/CPAN/build/2016091821/Sereal-Encoder-3.015-egyiIs/blib/lib:/usr/local/src/CPAN/build/2016091821/Sereal-Decoder-3.015-f3BIUo/blib/arch:/usr/local/src/CPAN/build/2016091821/Sereal-Decoder-3.015-f3BIUo/blib/lib:/usr/local/src/CPAN/build/2016091821/ExtUtils-MakeMaker-7.24-3IH_I9/blib/arch:/usr/local/src/CPAN/build/2016091821/ExtUtils-MakeMaker-7.24-3IH_I9/blib/lib:/usr/local/src/CPAN/build/2016091821/DBD-SQLite-1.50-T1qqxl/blib/arch:/usr/local/src/CPAN/build/2016091821/DBD-SQLite-1.50-T1qqxl/blib/lib"
    PERL5OPT=""
    PERL5_CPANPLUS_IS_RUNNING="5104"
    PERL5_CPAN_IS_RUNNING="5104"
    PERL5_CPAN_IS_RUNNING_IN_RECURSION="87452,5104"
    PERLDOC="-MPod::Perldoc::ToTextOverstrike"
    PERL_BATCH="yes"
    PERL_CANARY_STABILITY_NOPROMPT="1"
    PERL_CPAN_REPORTER_CONFIG="/var/tmp/cpansmoker-1000/2016091809/cpanreporter_000_config.ini"
    PERL_EXTUTILS_AUTOINSTALL="--defaultdeps"
  @INC:
    /usr/local/src/CPAN/build/2016091821/BenchmarkAnything-Storage-Backend-SQL-0.020-SM0Wk3/blib/arch
    /usr/local/src/CPAN/build/2016091821/BenchmarkAnything-Storage-Backend-SQL-0.020-SM0Wk3/blib/lib
    /usr/local/src/CPAN/build/2016091821/Sereal-Encoder-3.015-egyiIs/blib/arch
    /usr/local/src/CPAN/build/2016091821/Sereal-Encoder-3.015-egyiIs/blib/lib
    /usr/local/src/CPAN/build/2016091821/Sereal-Decoder-3.015-f3BIUo/blib/arch
    /usr/local/src/CPAN/build/2016091821/Sereal-Decoder-3.015-f3BIUo/blib/lib
    /usr/local/src/CPAN/build/2016091821/ExtUtils-MakeMaker-7.24-3IH_I9/blib/arch
    /usr/local/src/CPAN/build/2016091821/ExtUtils-MakeMaker-7.24-3IH_I9/blib/lib
    /usr/local/src/CPAN/build/2016091821/DBD-SQLite-1.50-T1qqxl/blib/arch
    /usr/local/src/CPAN/build/2016091821/DBD-SQLite-1.50-T1qqxl/blib/lib
    /usr/perl5.16.3/lib/site_perl/5.16.3/amd64-freebsd
    /usr/perl5.16.3/lib/site_perl/5.16.3
    /usr/perl5.16.3/lib/5.16.3/amd64-freebsd
    /usr/perl5.16.3/lib/5.16.3
    .