Alien-Build-Plugin-Decode-SourceForge v0.02 Perl 5 v5.41.9 x86_64-linux
- Status
- Pass
- From
- Slaven Rezić
- Dist
-
Alien-Build-Plugin-Decode-SourceForge v0.02
- Platform
- Perl 5 v5.41.9 x86_64-linux
- Date
- 2025-02-26 08:31:34
- ID
- 1680e7d4-f41c-11ef-927a-6e1b6e8775ea
This distribution has been tested as part of the CPAN Testers
project, supporting the Perl programming language. See
http://wiki.cpantesters.org/ for more information or email
questions to cpan-testers-discuss@perl.org
--
Dear Graham Ollis,
This is a computer-generated report for Alien-Build-Plugin-Decode-SourceForge-0.02
on perl 5.41.9, created by CPAN-Reporter-1.2020.
Thank you for uploading your work to CPAN. Congratulations!
All tests were successful.
Sections of this report:
* Tester comments
* Program output
* Prerequisites
* Environment and other context
------------------------------
TESTER COMMENTS
------------------------------
Additional comments from tester:
none provided
------------------------------
PROGRAM OUTPUT
------------------------------
Output from '/usr/bin/make test':
PERL_DL_NONLAZY=1 "/opt/perl-5.41.9/bin/perl5.41.9" "-MExtUtils::Command::MM" "-MTest::Harness" "-e" "undef *Test::Harness::Switches; test_harness(0, 'blib/lib', 'blib/arch')" t/*.t
#
#
#
# HARNESS_ACTIVE=1
# HARNESS_VERSION=3.50
# LANG=C
# PERL5LIB=/home/cpansand/.cpan/build/2025022608/Alien-Build-Plugin-Decode-SourceForge-0.02-0/blib/lib:/home/cpansand/.cpan/build/2025022608/Alien-Build-Plugin-Decode-SourceForge-0.02-0/blib/arch:
# PERL5OPT=
# PERL5_CPANPLUS_IS_RUNNING=3188181
# PERL5_CPAN_IS_RUNNING=3188181
# PERL5_CPAN_IS_RUNNING_IN_RECURSION=3114988,3188181
# PERLDOC=-MPod::Perldoc::ToTextOverstrike
# PERL_BATCH=yes
# PERL_CANARY_STABILITY_NOPROMPT=1
# PERL_CPAN_REPORTER_CONFIG=/var/tmp/cpansmoker-1023/2025022607/cpanreporter_001_config.ini
# PERL_DL_NONLAZY=1
# PERL_EXTUTILS_AUTOINSTALL=--defaultdeps
# PERL_USE_UNSAFE_INC=1
# SHELL=/usr/bin/zsh
#
#
#
# PERL5LIB path
# /home/cpansand/.cpan/build/2025022608/Alien-Build-Plugin-Decode-SourceForge-0.02-0/blib/lib
# /home/cpansand/.cpan/build/2025022608/Alien-Build-Plugin-Decode-SourceForge-0.02-0/blib/arch
#
#
#
# perl 5.041009
# Alien::Build 2.84
# Alien::Build::Plugin 2.84
# Alien::Build::Plugin::Decode::Mojo 2.84
# ExtUtils::MakeMaker 7.70
# Mojo::DOM58 3.001
# Test2::V0 1.302209
# Test::Alien::Build 2.84
# URI 5.31
# URI::Escape 5.31
#
#
#
t/00_diag.t ................................ ok
t/01_use.t ................................. ok
t/alien_build_plugin_decode_sourceforge.t .. ok
All tests successful.
Files=3, Tests=5, 1 wallclock secs ( 0.02 usr 0.01 sys + 0.60 cusr 0.07 csys = 0.70 CPU)
Result: PASS
------------------------------
PREREQUISITES
------------------------------
Prerequisite modules loaded:
requires:
Module Need Have
---------------------------------- -------- --------
Alien::Build 1.74 2.84
Alien::Build::Plugin 0 2.84
Alien::Build::Plugin::Decode::Mojo 1.74 2.84
perl 5.008001 5.041009
URI 0 5.31
build_requires:
Module Need Have
---------------------------------- -------- --------
ExtUtils::MakeMaker 0 7.70
Mojo::DOM58 0 3.001
Test2::V0 0.000060 1.302209
Test::Alien::Build 0 2.84
URI::Escape 0 5.31
configure_requires:
Module Need Have
---------------------------------- -------- --------
ExtUtils::MakeMaker 0 7.70
perl 5.008001 5.041009
------------------------------
ENVIRONMENT AND OTHER CONTEXT
------------------------------
Environment variables:
LANG = C
PATH = /usr/local/bin:/usr/bin:/bin:/usr/local/sbin:/usr/sbin:/sbin:/home/cpansand/bin/linux-gnu:/home/cpansand/bin/sh:/home/cpansand/bin:/usr/games:/home/cpansand/devel:/home/eserte/src/srezic-misc/scripts
PERL5LIB =
PERL5OPT =
PERL5_CPANPLUS_IS_RUNNING = 3188181
PERL5_CPAN_IS_RUNNING = 3188181
PERL5_CPAN_IS_RUNNING_IN_RECURSION = 3114988,3188181
PERLDOC = -MPod::Perldoc::ToTextOverstrike
PERL_BATCH = yes
PERL_CANARY_STABILITY_NOPROMPT = 1
PERL_CPAN_REPORTER_CONFIG = /var/tmp/cpansmoker-1023/2025022607/cpanreporter_001_config.ini
PERL_EXTUTILS_AUTOINSTALL = --defaultdeps
PERL_USE_UNSAFE_INC = 1
SHELL = /usr/bin/zsh
TERM = screen
TMPDIR = /var/tmp/cpansmoker-1023/2025022607
Perl special variables (and OS-specific diagnostics, for MSWin32):
$^X = /opt/perl-5.41.9/bin/perl5.41.9
$UID/$EUID = 1023 / 1023
$GID = 1023 1023
$EGID = 1023 1023
Perl module toolchain versions installed:
Module Have
------------------- --------
CPAN 2.38
CPAN::Meta 2.150010
Cwd 3.92
ExtUtils::CBuilder 0.280240
ExtUtils::Command 7.70
ExtUtils::Install 2.22
ExtUtils::MakeMaker 7.70
ExtUtils::Manifest 1.75
ExtUtils::ParseXS 3.57
File::Spec 3.93
JSON 4.10
JSON::PP 4.16
Module::Build 0.4234
Module::Signature n/a
Parse::CPAN::Meta 2.150010
Test2 1.302209
Test::Harness 3.50
Test::More 1.302209
YAML 1.31
YAML::Syck 1.34
version 0.9933
--
Summary of my perl5 (revision 5 version 41 subversion 9) configuration:
Platform:
osname=linux
osvers=6.1.0-31-amd64
archname=x86_64-linux
uname='linux cloud5.bbbike.org 6.1.0-31-amd64 #1 smp preempt_dynamic debian 6.1.128-1 (2025-02-07) x86_64 gnulinux '
config_args='-ds -e -Dprefix=/opt/perl-5.41.9 -Uinstallusrbinperl -Dusedevel -Dusemallocwrap=no -Dcf_email=srezic@cpan.org'
hint=recommended
useposix=true
d_sigaction=define
useithreads=undef
usemultiplicity=undef
use64bitint=define
use64bitall=define
uselongdouble=undef
usemymalloc=n
default_inc_excludes_dot=define
Compiler:
cc='cc'
ccflags ='-fwrapv -fno-strict-aliasing -pipe -fstack-protector-strong -I/usr/local/include -D_LARGEFILE_SOURCE -D_FILE_OFFSET_BITS=64 -D_FORTIFY_SOURCE=2'
optimize='-O2'
cppflags='-fwrapv -fno-strict-aliasing -pipe -fstack-protector-strong -I/usr/local/include'
ccversion=''
gccversion='12.2.0'
gccosandvers=''
intsize=4
longsize=8
ptrsize=8
doublesize=8
byteorder=12345678
doublekind=3
d_longlong=define
longlongsize=8
d_longdbl=define
longdblsize=16
longdblkind=3
ivtype='long'
ivsize=8
nvtype='double'
nvsize=8
Off_t='off_t'
lseeksize=8
alignbytes=8
prototype=define
Linker and Libraries:
ld='cc'
ldflags =' -fstack-protector-strong -L/usr/local/lib'
libpth=/usr/local/lib /usr/lib/x86_64-linux-gnu /usr/lib /usr/lib64
libs=-lpthread -lgdbm -ldb -ldl -lm -lcrypt -lutil -lc
perllibs=-lpthread -ldl -lm -lcrypt -lutil -lc
libc=/lib/x86_64-linux-gnu/libc.so.6
so=so
useshrplib=false
libperl=libperl.a
gnulibc_version='2.36'
Dynamic Linking:
dlsrc=dl_dlopen.xs
dlext=so
d_dlsymun=undef
ccdlflags='-Wl,-E'
cccdlflags='-fPIC'
lddlflags='-shared -O2 -L/usr/local/lib -fstack-protector-strong'
Characteristics of this binary (from libperl):
Compile-time options:
HAS_LONG_DOUBLE
HAS_STRTOLD
HAS_TIMES
PERLIO_LAYERS
PERL_COPY_ON_WRITE
PERL_DONT_CREATE_GVSV
PERL_HASH_FUNC_SIPHASH13
PERL_HASH_USE_SBOX32
PERL_OP_PARENT
PERL_PRESERVE_IVUV
PERL_USE_DEVEL
PERL_USE_SAFE_PUTENV
USE_64_BIT_ALL
USE_64_BIT_INT
USE_LARGE_FILES
USE_LOCALE
USE_LOCALE_COLLATE
USE_LOCALE_CTYPE
USE_LOCALE_NUMERIC
USE_LOCALE_TIME
USE_PERLIO
USE_PERL_ATOF
Built under linux
Compiled at Feb 25 2025 20:45:38
%ENV:
PERL5LIB=""
PERL5OPT=""
PERL5_CPANPLUS_IS_RUNNING="3188181"
PERL5_CPAN_IS_RUNNING="3188181"
PERL5_CPAN_IS_RUNNING_IN_RECURSION="3114988,3188181"
PERLDOC="-MPod::Perldoc::ToTextOverstrike"
PERL_BATCH="yes"
PERL_CANARY_STABILITY_NOPROMPT="1"
PERL_CPAN_REPORTER_CONFIG="/var/tmp/cpansmoker-1023/2025022607/cpanreporter_001_config.ini"
PERL_EXTUTILS_AUTOINSTALL="--defaultdeps"
PERL_USE_UNSAFE_INC="1"
@INC:
/opt/perl-5.41.9/lib/site_perl/5.41.9/x86_64-linux
/opt/perl-5.41.9/lib/site_perl/5.41.9
/opt/perl-5.41.9/lib/5.41.9/x86_64-linux
/opt/perl-5.41.9/lib/5.41.9
.