Back
From: metabase:user:d2c9f356-b46f-11df-9a90-20a83c0b7757
Subject: PASS Google-AJAX-Library-0.022 v5.17.9 SunOS/Solaris
Date: 2013-05-05T00:24:02Z
This distribution has been tested as part of the CPAN Testers
project, supporting the Perl programming language. See
http://wiki.cpantesters.org/ for more information or email
questions to cpan-testers-discuss@perl.org
--
Dear Robert Krimen,
This is a computer-generated report for Google-AJAX-Library-0.022
on perl 5.17.9, created by CPAN-Reporter-1.2010.
Thank you for uploading your work to CPAN. Congratulations!
All tests were successful.
Sections of this report:
* Tester comments
* Program output
* Prerequisites
* Environment and other context
------------------------------
TESTER COMMENTS
------------------------------
Additional comments from tester:
this report is from an automated smoke testing program
and was not reviewed by a human for accuracy
------------------------------
PROGRAM OUTPUT
------------------------------
Output from '/usr/local/bin/make test':
PERL_DL_NONLAZY=1 /export/home/cpant5/perl5/perlbrew/perls/perl-5.17.9/bin/perl5.17.9 "-MExtUtils::Command::MM" "-e" "test_harness(0, 'blib/lib', 'blib/arch')" t/*.t
You are overwriting a locally defined function (file) with an accessor at /export/home/cpant5/perl5/perlbrew/perls/perl-5.17.9/lib/site_perl/5.17.9/i86pc-solaris-64int/Moose/Meta/Attribute.pm line 1080.
Moose::Meta::Attribute::_process_accessors('Moose::Meta::Attribute=HASH(0x8261484)', 'reader', 'file', undef) called at /export/home/cpant5/perl5/perlbrew/perls/perl-5.17.9/lib/site_perl/5.17.9/i86pc-solaris-64int/Class/MOP/Attribute.pm line 428
Class::MOP::Attribute::install_accessors('Moose::Meta::Attribute=HASH(0x8261484)') called at /export/home/cpant5/perl5/perlbrew/perls/perl-5.17.9/lib/site_perl/5.17.9/i86pc-solaris-64int/Moose/Meta/Attribute.pm line 1027
Moose::Meta::Attribute::install_accessors('Moose::Meta::Attribute=HASH(0x8261484)') called at /export/home/cpant5/perl5/perlbrew/perls/perl-5.17.9/lib/site_perl/5.17.9/i86pc-solaris-64int/Class/MOP/Class.pm line 891
Class::MOP::Class::__ANON__() called at /export/home/cpant5/perl5/perlbrew/perls/perl-5.17.9/lib/site_perl/5.17.9/Try/Tiny.pm line 76
eval {...} called at /export/home/cpant5/perl5/perlbrew/perls/perl-5.17.9/lib/site_perl/5.17.9/Try/Tiny.pm line 67
Try::Tiny::try('CODE(0x8260ca0)', 'Try::Tiny::Catch=REF(0x8261164)') called at /export/home/cpant5/perl5/perlbrew/perls/perl-5.17.9/lib/site_perl/5.17.9/i86pc-solaris-64int/Class/MOP/Class.pm line 896
Class::MOP::Class::_post_add_attribute('Moose::Meta::Class=HASH(0x8946d0c)', 'Moose::Meta::Attribute=HASH(0x8261484)') called at /export/home/cpant5/perl5/perlbrew/perls/perl-5.17.9/lib/site_perl/5.17.9/i86pc-solaris-64int/Class/MOP/Mixin/HasAttributes.pm line 44
Class::MOP::Mixin::HasAttributes::add_attribute('Moose::Meta::Class=HASH(0x8946d0c)', 'Moose::Meta::Attribute=HASH(0x8261484)') called at /export/home/cpant5/perl5/perlbrew/perls/perl-5.17.9/lib/site_perl/5.17.9/i86pc-solaris-64int/Moose/Meta/Class.pm line 570
Moose::Meta::Class::add_attribute('Moose::Meta::Class=HASH(0x8946d0c)', 'file', 'is', 'ro', 'definition_context', 'HASH(0x8d94fdc)') called at /export/home/cpant5/perl5/perlbrew/perls/perl-5.17.9/lib/site_perl/5.17.9/i86pc-solaris-64int/Moose.pm line 81
Moose::has('Moose::Meta::Class=HASH(0x8946d0c)', 'file', 'is', 'ro') called at /export/home/cpant5/perl5/perlbrew/perls/perl-5.17.9/lib/site_perl/5.17.9/i86pc-solaris-64int/Moose/Exporter.pm line 409
Moose::has('file', 'is', 'ro') called at /export/home/cpant5/.cpan/build/Google-AJAX-Library-0.022-3Dwjnw/blib/lib/Google/AJAX/Library.pm line 32
require Google/AJAX/Library.pm called at t/01-basic.t line 5
main::BEGIN() called at /export/home/cpant5/.cpan/build/Google-AJAX-Library-0.022-3Dwjnw/blib/lib/Google/AJAX/Library.pm line 0
eval {...} called at /export/home/cpant5/.cpan/build/Google-AJAX-Library-0.022-3Dwjnw/blib/lib/Google/AJAX/Library.pm line 0
t/01-basic.t .... ok
You are overwriting a locally defined function (file) with an accessor at /export/home/cpant5/perl5/perlbrew/perls/perl-5.17.9/lib/site_perl/5.17.9/i86pc-solaris-64int/Moose/Meta/Attribute.pm line 1080.
Moose::Meta::Attribute::_process_accessors('Moose::Meta::Attribute=HASH(0x82616dc)', 'reader', 'file', undef) called at /export/home/cpant5/perl5/perlbrew/perls/perl-5.17.9/lib/site_perl/5.17.9/i86pc-solaris-64int/Class/MOP/Attribute.pm line 428
Class::MOP::Attribute::install_accessors('Moose::Meta::Attribute=HASH(0x82616dc)') called at /export/home/cpant5/perl5/perlbrew/perls/perl-5.17.9/lib/site_perl/5.17.9/i86pc-solaris-64int/Moose/Meta/Attribute.pm line 1027
Moose::Meta::Attribute::install_accessors('Moose::Meta::Attribute=HASH(0x82616dc)') called at /export/home/cpant5/perl5/perlbrew/perls/perl-5.17.9/lib/site_perl/5.17.9/i86pc-solaris-64int/Class/MOP/Class.pm line 891
Class::MOP::Class::__ANON__() called at /export/home/cpant5/perl5/perlbrew/perls/perl-5.17.9/lib/site_perl/5.17.9/Try/Tiny.pm line 76
eval {...} called at /export/home/cpant5/perl5/perlbrew/perls/perl-5.17.9/lib/site_perl/5.17.9/Try/Tiny.pm line 67
Try::Tiny::try('CODE(0x8260f20)', 'Try::Tiny::Catch=REF(0x82613e4)') called at /export/home/cpant5/perl5/perlbrew/perls/perl-5.17.9/lib/site_perl/5.17.9/i86pc-solaris-64int/Class/MOP/Class.pm line 896
Class::MOP::Class::_post_add_attribute('Moose::Meta::Class=HASH(0x8946ef8)', 'Moose::Meta::Attribute=HASH(0x82616dc)') called at /export/home/cpant5/perl5/perlbrew/perls/perl-5.17.9/lib/site_perl/5.17.9/i86pc-solaris-64int/Class/MOP/Mixin/HasAttributes.pm line 44
Class::MOP::Mixin::HasAttributes::add_attribute('Moose::Meta::Class=HASH(0x8946ef8)', 'Moose::Meta::Attribute=HASH(0x82616dc)') called at /export/home/cpant5/perl5/perlbrew/perls/perl-5.17.9/lib/site_perl/5.17.9/i86pc-solaris-64int/Moose/Meta/Class.pm line 570
Moose::Meta::Class::add_attribute('Moose::Meta::Class=HASH(0x8946ef8)', 'file', 'definition_context', 'HASH(0x8d95070)', 'is', 'ro') called at /export/home/cpant5/perl5/perlbrew/perls/perl-5.17.9/lib/site_perl/5.17.9/i86pc-solaris-64int/Moose.pm line 81
Moose::has('Moose::Meta::Class=HASH(0x8946ef8)', 'file', 'is', 'ro') called at /export/home/cpant5/perl5/perlbrew/perls/perl-5.17.9/lib/site_perl/5.17.9/i86pc-solaris-64int/Moose/Exporter.pm line 409
Moose::has('file', 'is', 'ro') called at /export/home/cpant5/.cpan/build/Google-AJAX-Library-0.022-3Dwjnw/blib/lib/Google/AJAX/Library.pm line 32
require Google/AJAX/Library.pm called at t/02-library.t line 5
main::BEGIN() called at /export/home/cpant5/.cpan/build/Google-AJAX-Library-0.022-3Dwjnw/blib/lib/Google/AJAX/Library.pm line 0
eval {...} called at /export/home/cpant5/.cpan/build/Google-AJAX-Library-0.022-3Dwjnw/blib/lib/Google/AJAX/Library.pm line 0
t/02-library.t .. ok
You are overwriting a locally defined function (file) with an accessor at /export/home/cpant5/perl5/perlbrew/perls/perl-5.17.9/lib/site_perl/5.17.9/i86pc-solaris-64int/Moose/Meta/Attribute.pm line 1080.
Moose::Meta::Attribute::_process_accessors('Moose::Meta::Attribute=HASH(0x826115c)', 'reader', 'file', undef) called at /export/home/cpant5/perl5/perlbrew/perls/perl-5.17.9/lib/site_perl/5.17.9/i86pc-solaris-64int/Class/MOP/Attribute.pm line 428
Class::MOP::Attribute::install_accessors('Moose::Meta::Attribute=HASH(0x826115c)') called at /export/home/cpant5/perl5/perlbrew/perls/perl-5.17.9/lib/site_perl/5.17.9/i86pc-solaris-64int/Moose/Meta/Attribute.pm line 1027
Moose::Meta::Attribute::install_accessors('Moose::Meta::Attribute=HASH(0x826115c)') called at /export/home/cpant5/perl5/perlbrew/perls/perl-5.17.9/lib/site_perl/5.17.9/i86pc-solaris-64int/Class/MOP/Class.pm line 891
Class::MOP::Class::__ANON__() called at /export/home/cpant5/perl5/perlbrew/perls/perl-5.17.9/lib/site_perl/5.17.9/Try/Tiny.pm line 76
eval {...} called at /export/home/cpant5/perl5/perlbrew/perls/perl-5.17.9/lib/site_perl/5.17.9/Try/Tiny.pm line 67
Try::Tiny::try('CODE(0x8260978)', 'Try::Tiny::Catch=REF(0x8260e3c)') called at /export/home/cpant5/perl5/perlbrew/perls/perl-5.17.9/lib/site_perl/5.17.9/i86pc-solaris-64int/Class/MOP/Class.pm line 896
Class::MOP::Class::_post_add_attribute('Moose::Meta::Class=HASH(0x8946a2c)', 'Moose::Meta::Attribute=HASH(0x826115c)') called at /export/home/cpant5/perl5/perlbrew/perls/perl-5.17.9/lib/site_perl/5.17.9/i86pc-solaris-64int/Class/MOP/Mixin/HasAttributes.pm line 44
Class::MOP::Mixin::HasAttributes::add_attribute('Moose::Meta::Class=HASH(0x8946a2c)', 'Moose::Meta::Attribute=HASH(0x826115c)') called at /export/home/cpant5/perl5/perlbrew/perls/perl-5.17.9/lib/site_perl/5.17.9/i86pc-solaris-64int/Moose/Meta/Class.pm line 570
Moose::Meta::Class::add_attribute('Moose::Meta::Class=HASH(0x8946a2c)', 'file', 'is', 'ro', 'definition_context', 'HASH(0x8d94e4c)') called at /export/home/cpant5/perl5/perlbrew/perls/perl-5.17.9/lib/site_perl/5.17.9/i86pc-solaris-64int/Moose.pm line 81
Moose::has('Moose::Meta::Class=HASH(0x8946a2c)', 'file', 'is', 'ro') called at /export/home/cpant5/perl5/perlbrew/perls/perl-5.17.9/lib/site_perl/5.17.9/i86pc-solaris-64int/Moose/Exporter.pm line 409
Moose::has('file', 'is', 'ro') called at /export/home/cpant5/.cpan/build/Google-AJAX-Library-0.022-3Dwjnw/blib/lib/Google/AJAX/Library.pm line 32
require Google/AJAX/Library.pm called at t/03-fetch.t line 5
main::BEGIN() called at /export/home/cpant5/.cpan/build/Google-AJAX-Library-0.022-3Dwjnw/blib/lib/Google/AJAX/Library.pm line 0
eval {...} called at /export/home/cpant5/.cpan/build/Google-AJAX-Library-0.022-3Dwjnw/blib/lib/Google/AJAX/Library.pm line 0
t/03-fetch.t .... skipped: Not going out to http://ajax.googleapis.com to test fetching/writing
All tests successful.
Files=3, Tests=61, 1 wallclock secs ( 0.03 usr 0.02 sys + 0.92 cusr 0.16 csys = 1.13 CPU)
Result: PASS
------------------------------
PREREQUISITES
------------------------------
Prerequisite modules loaded:
requires:
Module Need Have
------------------- ---- ------
Carp::Clan::Share 0 0.013
HTML::Declare 0 2.4
LWP::UserAgent 0 6.05
Moose 0 2.0801
Path::Class 0 0.32
URI 0 1.60
build_requires:
Module Need Have
------------------- ---- ------
File::Temp 0 0.2301
Test::Most 0 0.31
configure_requires:
Module Need Have
------------------- ---- ------
ExtUtils::MakeMaker 6.31 6.66
------------------------------
ENVIRONMENT AND OTHER CONTEXT
------------------------------
Environment variables:
AUTOMATED_TESTING = 1
LANG = C
LD_LIBRARY_PATH = /usr/local/lib:
MANPATH_WITHOUT_PERLBREW =
PATH = /export/home/cpant5/perl5/perlbrew/bin:/export/home/cpant5/perl5/perlbrew/perls/perl-5.17.9/bin:/export/home/cpant5/perl5/bin:/usr/local/bin:/usr/bin
PATH_WITHOUT_PERLBREW = /export/home/cpant5/perl5/bin:/usr/local/bin:/usr/bin
PERL5LIB = /export/home/cpant5/.cpan/build/Carp-Clan-Share-0.013-NdLpmI/blib/arch:/export/home/cpant5/.cpan/build/Carp-Clan-Share-0.013-NdLpmI/blib/lib:/export/home/cpant5/.cpan/build/HTML-Declare-2.4-CZUIKt/blib/arch:/export/home/cpant5/.cpan/build/HTML-Declare-2.4-CZUIKt/blib/lib:/export/home/cpant5/.cpan/build/Test-Most-0.31-vBNqyr/blib/arch:/export/home/cpant5/.cpan/build/Test-Most-0.31-vBNqyr/blib/lib
PERL5OPT =
PERL5_CPANPLUS_IS_RUNNING = 10238
PERL5_CPAN_IS_RUNNING = 10238
PERL5_CPAN_IS_RUNNING_IN_RECURSION = 3758,10238
PERLBREW_BASHRC_VERSION = 0.44
PERLBREW_HOME = /export/home/cpant5/.perlbrew
PERLBREW_MANPATH = /export/home/cpant5/perl5/perlbrew/perls/perl-5.17.9/man
PERLBREW_PATH = /export/home/cpant5/perl5/perlbrew/bin:/export/home/cpant5/perl5/perlbrew/perls/perl-5.17.9/bin
PERLBREW_PERL = perl-5.17.9
PERLBREW_ROOT = /export/home/cpant5/perl5/perlbrew
PERLBREW_VERSION = 0.44
PERL_CR_SMOKER_CURRENT = Google-AJAX-Library-0.022
PERL_EXTUTILS_AUTOINSTALL = --defaultdeps
PERL_MM_USE_DEFAULT = 1
SHELL = /bin/bash
TERM = xterm
Perl special variables (and OS-specific diagnostics, for MSWin32):
$^X = /export/home/cpant5/perl5/perlbrew/perls/perl-5.17.9/bin/perl5.17.9
$UID/$EUID = 105 / 105
$GID = 1 1
$EGID = 1 1
Perl module toolchain versions installed:
Module Have
------------------- --------
CPAN 2.00
CPAN::Meta 2.130880
Cwd 3.40
ExtUtils::CBuilder 0.280209
ExtUtils::Command 1.17
ExtUtils::Install 1.59
ExtUtils::MakeMaker 6.66
ExtUtils::Manifest 1.63
ExtUtils::ParseXS 3.18
File::Spec 3.40
JSON 2.57
JSON::PP 2.27202
Module::Build 0.4004
Module::Signature n/a
Parse::CPAN::Meta 1.4404
Test::Harness 3.26
Test::More 0.98
YAML 0.84
YAML::Syck 1.25
version 0.9902
--
Summary of my perl5 (revision 5 version 17 subversion 9) configuration:
Platform:
osname=solaris, osvers=2.10, archname=i86pc-solaris-64int
uname='sunos vmrz0046 5.10 generic_141445-09 i86pc i386 i86pc solaris '
config_args='-de -Dprefix=/export/home/cpant5/perl5/perlbrew/perls/perl-5.17.9 -Dcc=gcc -Duse64bitint -Dusedevel -Dusedevel -Aeval:scriptdir=/export/home/cpant5/perl5/perlbrew/perls/perl-5.17.9/bin'
hint=recommended, useposix=true, d_sigaction=define
useithreads=undef, usemultiplicity=undef
useperlio=define, d_sfio=undef, uselargefiles=define, usesocks=undef
use64bitint=define, use64bitall=undef, uselongdouble=undef
usemymalloc=n, bincompat5005=undef
Compiler:
cc='gcc', ccflags ='-DPTR_IS_LONG -fno-strict-aliasing -pipe -I/usr/local/include -D_LARGEFILE_SOURCE -D_FILE_OFFSET_BITS=64 -DPERL_USE_SAFE_PUTENV',
optimize='-O',
cppflags='-DPTR_IS_LONG -fno-strict-aliasing -pipe -I/usr/local/include'
ccversion='', gccversion='3.4.6', gccosandvers='solaris2.10'
intsize=4, longsize=4, ptrsize=4, doublesize=8, byteorder=12345678
d_longlong=define, longlongsize=8, d_longdbl=define, longdblsize=12
ivtype='long long', ivsize=8, nvtype='double', nvsize=8, Off_t='off_t', lseeksize=8
alignbytes=4, prototype=define
Linker and Libraries:
ld='gcc', ldflags =' -L/usr/local/lib '
libpth=/usr/local/lib /usr/lib /usr/ccs/lib
libs=-lsocket -lnsl -lgdbm -ldl -lm -lc
perllibs=-lsocket -lnsl -ldl -lm -lc
libc=/lib/libc.so, so=so, useshrplib=false, libperl=libperl.a
gnulibc_version=''
Dynamic Linking:
dlsrc=dl_dlopen.xs, dlext=so, d_dlsymun=undef, ccdlflags=' '
cccdlflags='-fPIC', lddlflags='-G -L/usr/local/lib'
Characteristics of this binary (from libperl):
Compile-time options: HAS_TIMES PERLIO_LAYERS PERL_DONT_CREATE_GVSV
PERL_MALLOC_WRAP PERL_NEW_COPY_ON_WRITE
PERL_PRESERVE_IVUV PERL_USE_DEVEL
PERL_USE_SAFE_PUTENV USE_64_BIT_INT USE_LARGE_FILES
USE_LOCALE USE_LOCALE_COLLATE USE_LOCALE_CTYPE
USE_LOCALE_NUMERIC USE_PERLIO USE_PERL_ATOF
Built under solaris
Compiled at Mar 18 2013 15:10:42
%ENV:
PERL5LIB="/export/home/cpant5/.cpan/build/Carp-Clan-Share-0.013-NdLpmI/blib/arch:/export/home/cpant5/.cpan/build/Carp-Clan-Share-0.013-NdLpmI/blib/lib:/export/home/cpant5/.cpan/build/HTML-Declare-2.4-CZUIKt/blib/arch:/export/home/cpant5/.cpan/build/HTML-Declare-2.4-CZUIKt/blib/lib:/export/home/cpant5/.cpan/build/Test-Most-0.31-vBNqyr/blib/arch:/export/home/cpant5/.cpan/build/Test-Most-0.31-vBNqyr/blib/lib"
PERL5OPT=""
PERL5_CPANPLUS_IS_RUNNING="10238"
PERL5_CPAN_IS_RUNNING="10238"
PERL5_CPAN_IS_RUNNING_IN_RECURSION="3758,10238"
PERLBREW_BASHRC_VERSION="0.44"
PERLBREW_HOME="/export/home/cpant5/.perlbrew"
PERLBREW_MANPATH="/export/home/cpant5/perl5/perlbrew/perls/perl-5.17.9/man"
PERLBREW_PATH="/export/home/cpant5/perl5/perlbrew/bin:/export/home/cpant5/perl5/perlbrew/perls/perl-5.17.9/bin"
PERLBREW_PERL="perl-5.17.9"
PERLBREW_ROOT="/export/home/cpant5/perl5/perlbrew"
PERLBREW_VERSION="0.44"
PERL_CR_SMOKER_CURRENT="Google-AJAX-Library-0.022"
PERL_EXTUTILS_AUTOINSTALL="--defaultdeps"
PERL_MM_USE_DEFAULT="1"
@INC:
/export/home/cpant5/.cpan/build/Carp-Clan-Share-0.013-NdLpmI/blib/arch
/export/home/cpant5/.cpan/build/Carp-Clan-Share-0.013-NdLpmI/blib/lib
/export/home/cpant5/.cpan/build/HTML-Declare-2.4-CZUIKt/blib/arch
/export/home/cpant5/.cpan/build/HTML-Declare-2.4-CZUIKt/blib/lib
/export/home/cpant5/.cpan/build/Test-Most-0.31-vBNqyr/blib/arch
/export/home/cpant5/.cpan/build/Test-Most-0.31-vBNqyr/blib/lib
/export/home/cpant5/perl5/perlbrew/perls/perl-5.17.9/lib/site_perl/5.17.9/i86pc-solaris-64int
/export/home/cpant5/perl5/perlbrew/perls/perl-5.17.9/lib/site_perl/5.17.9
/export/home/cpant5/perl5/perlbrew/perls/perl-5.17.9/lib/5.17.9/i86pc-solaris-64int
/export/home/cpant5/perl5/perlbrew/perls/perl-5.17.9/lib/5.17.9
.