Back
From: metabase:user:30977d10-2aae-11df-837a-5e0a49663a4f
Subject: PASS Dist-Zilla-Plugin-if-0.002002 v5.14.4 SunOS/Solaris
Date: 2017-03-19T23:59:29Z
This distribution has been tested as part of the CPAN Testers
project, supporting the Perl programming language. See
http://wiki.cpantesters.org/ for more information or email
questions to cpan-testers-discuss@perl.org
--
Dear Kent Fredric,
This is a computer-generated report for Dist-Zilla-Plugin-if-0.002002
on perl 5.14.4, created by CPAN-Reporter-1.2018.
Thank you for uploading your work to CPAN. Congratulations!
All tests were successful.
Sections of this report:
* Tester comments
* Program output
* Prerequisites
* Environment and other context
------------------------------
TESTER COMMENTS
------------------------------
Additional comments from tester:
this report is from an automated smoke testing program
and was not reviewed by a human for accuracy
------------------------------
PROGRAM OUTPUT
------------------------------
Output from '/usr/bin/make test':
PERL_DL_NONLAZY=1 "/home/stro/perl/5.14.4/bin/perl" "-MExtUtils::Command::MM" "-MTest::Harness" "-e" "undef *Test::Harness::Switches; test_harness(0, 'blib/lib', 'blib/arch')" t/*.t t/00-compile/*.t t/if/*.t t/ifnot/*.t
t/00-compile/lib_Dist_Zilla_Plugin_if_not_pm.t .. ok
t/00-compile/lib_Dist_Zilla_Plugin_if_pm.t ...... ok
#
# Versions for all modules listed in MYMETA.json (including optional ones):
#
# === Configure Requires ===
#
# Module Want Have
# ------------------- ---- ----
# ExtUtils::MakeMaker any 7.24
#
# === Configure Recommends ===
#
# Module Want Have
# ------------------- ---- ----
# ExtUtils::MakeMaker 7.00 7.24
#
# === Build Requires ===
#
# Module Want Have
# ------------------- ---- ----
# ExtUtils::MakeMaker any 7.24
#
# === Test Requires ===
#
# Module Want Have
# ------------------- ---- --------
# ExtUtils::MakeMaker any 7.24
# File::Spec any 3.62
# Test::DZil any 6.008
# Test::Differences any 0.64
# Test::More any 1.302075
#
# === Test Recommends ===
#
# Module Want Have
# ------------------- -------- --------
# CPAN::Meta 2.120900 2.143240
# ExtUtils::MakeMaker 7.00 7.24
# Test::More 0.99 1.302075
#
# === Runtime Requires ===
#
# Module Want Have
# --------------------------------------------- ---- --------
# Dist::Zilla::Role::PluginLoader::Configurable any 0.001003
# Dist::Zilla::Util any 6.008
# Eval::Closure any 0.14
# Moose any 2.2004
# strict any 1.04
# utf8 any 1.09
# warnings any 1.12
#
# === Runtime Recommends ===
#
# Module Want Have
# ------ ----- ------
# Moose 2.000 2.2004
#
t/00-report-prereqs.t ........................... ok
t/if/env-disable.t .............................. ok
t/if/no-plugin.t ................................ ok
t/if/pass-args.t ................................ ok
t/if/plugin-doublelevel.t ....................... ok
t/if/plugin-only-2.t ............................ ok
t/if/plugin-only.t .............................. ok
t/ifnot/env-disable.t ........................... ok
t/ifnot/no-plugin.t ............................. ok
t/ifnot/pass-args.t ............................. ok
t/ifnot/plugin-doublelevel.t .................... ok
t/ifnot/plugin-only-2.t ......................... ok
t/ifnot/plugin-only.t ........................... ok
All tests successful.
Files=15, Tests=27, 19 wallclock secs ( 0.07 usr 0.03 sys + 16.10 cusr 1.46 csys = 17.66 CPU)
Result: PASS
------------------------------
PREREQUISITES
------------------------------
Prerequisite modules loaded:
requires:
Module Need Have
--------------------------------------------- -------- --------
Dist::Zilla::Role::PluginLoader::Configurable 0 0.001003
Dist::Zilla::Util 0 6.008
Eval::Closure 0 0.14
Moose 0 2.2004
perl 5.010 5.014004
strict 0 1.04
utf8 0 1.09
warnings 0 1.12
build_requires:
Module Need Have
--------------------------------------------- -------- --------
ExtUtils::MakeMaker 0 7.24
File::Spec 0 3.62
Test::Differences 0 0.64
Test::DZil 0 6.008
Test::More 0 1.302075
configure_requires:
Module Need Have
--------------------------------------------- -------- --------
ExtUtils::MakeMaker 0 7.24
perl 5.010 5.014004
opt_requires:
Module Need Have
--------------------------------------------- -------- --------
Moose 2.000 2.2004
opt_build_requires:
Module Need Have
--------------------------------------------- -------- --------
CPAN::Meta 2.120900 2.143240
ExtUtils::MakeMaker 7.00 7.24
Test::More 0.99 1.302075
------------------------------
ENVIRONMENT AND OTHER CONTEXT
------------------------------
Environment variables:
AUTOMATED_TESTING = 1
LANG = en_US.UTF-8
PATH = /usr/gnu/bin:/usr/bin:/usr/sbin:/sbin:/usr/sfw/bin:
PERL5LIB =
PERL5OPT =
PERL5_CPANPLUS_IS_RUNNING = 29585
PERL5_CPAN_IS_RUNNING = 29585
PERL5_CPAN_IS_RUNNING_IN_RECURSION = 17099,29585
PERL_CR_SMOKER_CURRENT = Dist-Zilla-Plugin-if-0.002002
PERL_EXTUTILS_AUTOINSTALL = --defaultdeps
PERL_MM_USE_DEFAULT = 1
SHELL = /bin/bash
TERM = xterm
Perl special variables (and OS-specific diagnostics, for MSWin32):
$^X = /home/stro/perl/5.14.4/bin/perl
$UID/$EUID = 101 / 101
$GID = 10 10
$EGID = 10 10
Perl module toolchain versions installed:
Module Have
------------------- --------
CPAN 2.16
CPAN::Meta 2.143240
Cwd 3.62
ExtUtils::CBuilder 0.280224
ExtUtils::Command 7.24
ExtUtils::Install 2.04
ExtUtils::MakeMaker 7.24
ExtUtils::Manifest 1.70
ExtUtils::ParseXS 3.30
File::Spec 3.62
JSON 2.90
JSON::PP 2.27400
Module::Build 0.4220
Module::Signature n/a
Parse::CPAN::Meta 1.4414
Test::Harness 3.36
Test::More 1.302075
YAML 1.22
YAML::Syck 1.29
version 0.9917
--
Summary of my perl5 (revision 5 version 14 subversion 4) configuration:
Platform:
osname=solaris, osvers=2.11, archname=i86pc-solaris
uname='sunos vm-openindiana-001 5.11 illumos-2816291 i86pc i386 i86pc '
config_args='-Dcc=gcc'
hint=recommended, useposix=true, d_sigaction=define
useithreads=undef, usemultiplicity=undef
useperlio=define, d_sfio=undef, uselargefiles=define, usesocks=undef
use64bitint=undef, use64bitall=undef, uselongdouble=undef
usemymalloc=n, bincompat5005=undef
Compiler:
cc='gcc', ccflags ='-fno-strict-aliasing -pipe -I/usr/gnu/include -D_LARGEFILE_SOURCE -D_FILE_OFFSET_BITS=64 -DPERL_USE_SAFE_PUTENV',
optimize='-O',
cppflags='-fno-strict-aliasing -pipe -I/usr/gnu/include'
ccversion='', gccversion='3.4.3 (csl-sol210-3_4-20050802)', gccosandvers='solaris2.11'
intsize=4, longsize=4, ptrsize=4, doublesize=8, byteorder=1234
d_longlong=define, longlongsize=8, d_longdbl=define, longdblsize=12
ivtype='long', ivsize=4, nvtype='double', nvsize=8, Off_t='off_t', lseeksize=8
alignbytes=4, prototype=define
Linker and Libraries:
ld='gcc', ldflags =' -L/usr/gnu/lib '
libpth=/usr/gnu/lib /usr/lib /usr/ccs/lib
libs=-lsocket -lnsl -lgdbm -ldb -ldl -lm -lc
perllibs=-lsocket -lnsl -ldl -lm -lc
libc=/lib/libc.so, so=so, useshrplib=false, libperl=libperl.a
gnulibc_version=''
Dynamic Linking:
dlsrc=dl_dlopen.xs, dlext=so, d_dlsymun=undef, ccdlflags=' '
cccdlflags='-fPIC', lddlflags='-G -L/usr/gnu/lib'
Characteristics of this binary (from libperl):
Compile-time options: PERL_DONT_CREATE_GVSV PERL_MALLOC_WRAP
PERL_PRESERVE_IVUV PERL_USE_SAFE_PUTENV
USE_LARGE_FILES USE_PERLIO USE_PERL_ATOF
Built under solaris
Compiled at Dec 28 2016 10:38:30
%ENV:
PERL5LIB=""
PERL5OPT=""
PERL5_CPANPLUS_IS_RUNNING="29585"
PERL5_CPAN_IS_RUNNING="29585"
PERL5_CPAN_IS_RUNNING_IN_RECURSION="17099,29585"
PERL_CR_SMOKER_CURRENT="Dist-Zilla-Plugin-if-0.002002"
PERL_EXTUTILS_AUTOINSTALL="--defaultdeps"
PERL_MM_USE_DEFAULT="1"
@INC:
/home/stro/perl/5.14.4/lib/site_perl/5.14.4/i86pc-solaris
/home/stro/perl/5.14.4/lib/site_perl/5.14.4
/home/stro/perl/5.14.4/lib/5.14.4/i86pc-solaris
/home/stro/perl/5.14.4/lib/5.14.4
.