POE-Loop-Glib v0.038 Perl 5 v5.37.2 x86_64-linux-ld
- Status
- Pass
- From
- Andreas J. König (ANDK)
- Dist
-
POE-Loop-Glib v0.038
- Platform
- Perl 5 v5.37.2 x86_64-linux-ld
- Date
- 2022-08-15 22:24:55
- ID
- 16c6badc-1ce9-11ed-9632-94cf2c60ee51
This distribution has been tested as part of the CPAN Testers
project, supporting the Perl programming language. See
http://wiki.cpantesters.org/ for more information or email
questions to cpan-testers-discuss@perl.org
--
Dear Apocalypse,
This is a computer-generated report for POE-Loop-Glib-0.038
on perl 5.37.2, created by CPAN-Reporter-1.2018.
Thank you for uploading your work to CPAN. Congratulations!
All tests were successful.
Sections of this report:
* Tester comments
* Program output
* Prerequisites
* Environment and other context
------------------------------
TESTER COMMENTS
------------------------------
Additional comments from tester:
this report is from an automated smoke testing program
and was not reviewed by a human for accuracy
------------------------------
PROGRAM OUTPUT
------------------------------
Output from '/usr/bin/make test':
/tmp/basesmoker-reloperl-RcxP/bin/perl Build --makefile_env_macros 1 test
t/1_load.t ............................. ok
t/apocalypse.t ......................... skipped: Test::Apocalypse required for validating the distribution
# Testing POE 1.370, POE::Test::Loops 1.360, Using Loop(POE::Loop::Glib), Perl 5.037002, /tmp/basesmoker-reloperl-RcxP/bin/perl on linux
t/glib/00_info.t ....................... ok
t/glib/all_errors.t .................... skipped: most of these should move into other test files
GLib-CRITICAL **: Source ID 4 was not found when attempting to remove it at /tmp/loop_over_bdir-2354933-coBJBy/POE-Loop-Glib-0.038-0/blib/lib/POE/Loop/Glib.pm line 53.
GLib-CRITICAL **: Source ID 10 was not found when attempting to remove it at /tmp/loop_over_bdir-2354933-coBJBy/POE-Loop-Glib-0.038-0/blib/lib/POE/Loop/Glib.pm line 53.
t/glib/comp_tcp.t ...................... ok
# You might see a 'disconnect' error during this test.
# It may be ignored.
GLib-CRITICAL **: Source ID 4 was not found when attempting to remove it at /tmp/loop_over_bdir-2354933-coBJBy/POE-Loop-Glib-0.038-0/blib/lib/POE/Loop/Glib.pm line 53.
GLib-CRITICAL **: Source ID 26 was not found when attempting to remove it at /tmp/loop_over_bdir-2354933-coBJBy/POE-Loop-Glib-0.038-0/blib/lib/POE/Loop/Glib.pm line 53.
GLib-CRITICAL **: Source ID 87 was not found when attempting to remove it at /tmp/loop_over_bdir-2354933-coBJBy/POE-Loop-Glib-0.038-0/blib/lib/POE/Loop/Glib.pm line 53.
GLib-CRITICAL **: Source ID 94 was not found when attempting to remove it at /tmp/loop_over_bdir-2354933-coBJBy/POE-Loop-Glib-0.038-0/blib/lib/POE/Loop/Glib.pm line 53.
GLib-CRITICAL **: Source ID 96 was not found when attempting to remove it at /tmp/loop_over_bdir-2354933-coBJBy/POE-Loop-Glib-0.038-0/blib/lib/POE/Loop/Glib.pm line 53.
GLib-CRITICAL **: Source ID 99 was not found when attempting to remove it at /tmp/loop_over_bdir-2354933-coBJBy/POE-Loop-Glib-0.038-0/blib/lib/POE/Loop/Glib.pm line 53.
GLib-CRITICAL **: Source ID 110 was not found when attempting to remove it at /tmp/loop_over_bdir-2354933-coBJBy/POE-Loop-Glib-0.038-0/blib/lib/POE/Loop/Glib.pm line 53.
GLib-CRITICAL **: Source ID 115 was not found when attempting to remove it at /tmp/loop_over_bdir-2354933-coBJBy/POE-Loop-Glib-0.038-0/blib/lib/POE/Loop/Glib.pm line 53.
GLib-CRITICAL **: Source ID 119 was not found when attempting to remove it at /tmp/loop_over_bdir-2354933-coBJBy/POE-Loop-Glib-0.038-0/blib/lib/POE/Loop/Glib.pm line 53.
GLib-CRITICAL **: Source ID 127 was not found when attempting to remove it at /tmp/loop_over_bdir-2354933-coBJBy/POE-Loop-Glib-0.038-0/blib/lib/POE/Loop/Glib.pm line 53.
GLib-CRITICAL **: Source ID 129 was not found when attempting to remove it at /tmp/loop_over_bdir-2354933-coBJBy/POE-Loop-Glib-0.038-0/blib/lib/POE/Loop/Glib.pm line 53.
GLib-CRITICAL **: Source ID 131 was not found when attempting to remove it at /tmp/loop_over_bdir-2354933-coBJBy/POE-Loop-Glib-0.038-0/blib/lib/POE/Loop/Glib.pm line 53.
GLib-CRITICAL **: Source ID 135 was not found when attempting to remove it at /tmp/loop_over_bdir-2354933-coBJBy/POE-Loop-Glib-0.038-0/blib/lib/POE/Loop/Glib.pm line 53.
GLib-CRITICAL **: Source ID 136 was not found when attempting to remove it at /tmp/loop_over_bdir-2354933-coBJBy/POE-Loop-Glib-0.038-0/blib/lib/POE/Loop/Glib.pm line 53.
GLib-CRITICAL **: Source ID 140 was not found when attempting to remove it at /tmp/loop_over_bdir-2354933-coBJBy/POE-Loop-Glib-0.038-0/blib/lib/POE/Loop/Glib.pm line 53.
GLib-CRITICAL **: Source ID 142 was not found when attempting to remove it at /tmp/loop_over_bdir-2354933-coBJBy/POE-Loop-Glib-0.038-0/blib/lib/POE/Loop/Glib.pm line 53.
GLib-CRITICAL **: Source ID 143 was not found when attempting to remove it at /tmp/loop_over_bdir-2354933-coBJBy/POE-Loop-Glib-0.038-0/blib/lib/POE/Loop/Glib.pm line 53.
GLib-CRITICAL **: Source ID 147 was not found when attempting to remove it at /tmp/loop_over_bdir-2354933-coBJBy/POE-Loop-Glib-0.038-0/blib/lib/POE/Loop/Glib.pm line 53.
GLib-CRITICAL **: Source ID 149 was not found when attempting to remove it at /tmp/loop_over_bdir-2354933-coBJBy/POE-Loop-Glib-0.038-0/blib/lib/POE/Loop/Glib.pm line 53.
GLib-CRITICAL **: Source ID 150 was not found when attempting to remove it at /tmp/loop_over_bdir-2354933-coBJBy/POE-Loop-Glib-0.038-0/blib/lib/POE/Loop/Glib.pm line 53.
GLib-CRITICAL **: Source ID 154 was not found when attempting to remove it at /tmp/loop_over_bdir-2354933-coBJBy/POE-Loop-Glib-0.038-0/blib/lib/POE/Loop/Glib.pm line 53.
GLib-CRITICAL **: Source ID 156 was not found when attempting to remove it at /tmp/loop_over_bdir-2354933-coBJBy/POE-Loop-Glib-0.038-0/blib/lib/POE/Loop/Glib.pm line 53.
GLib-CRITICAL **: Source ID 157 was not found when attempting to remove it at /tmp/loop_over_bdir-2354933-coBJBy/POE-Loop-Glib-0.038-0/blib/lib/POE/Loop/Glib.pm line 53.
GLib-CRITICAL **: Source ID 161 was not found when attempting to remove it at /tmp/loop_over_bdir-2354933-coBJBy/POE-Loop-Glib-0.038-0/blib/lib/POE/Loop/Glib.pm line 53.
GLib-CRITICAL **: Source ID 163 was not found when attempting to remove it at /tmp/loop_over_bdir-2354933-coBJBy/POE-Loop-Glib-0.038-0/blib/lib/POE/Loop/Glib.pm line 53.
GLib-CRITICAL **: Source ID 164 was not found when attempting to remove it at /tmp/loop_over_bdir-2354933-coBJBy/POE-Loop-Glib-0.038-0/blib/lib/POE/Loop/Glib.pm line 53.
GLib-CRITICAL **: Source ID 168 was not found when attempting to remove it at /tmp/loop_over_bdir-2354933-coBJBy/POE-Loop-Glib-0.038-0/blib/lib/POE/Loop/Glib.pm line 53.
GLib-CRITICAL **: Source ID 171 was not found when attempting to remove it at /tmp/loop_over_bdir-2354933-coBJBy/POE-Loop-Glib-0.038-0/blib/lib/POE/Loop/Glib.pm line 53.
t/glib/comp_tcp_concurrent.t ........... ok
t/glib/connect_errors.t ................ ok
t/glib/k_alarms.t ...................... ok
t/glib/k_aliases.t ..................... ok
t/glib/k_detach.t ...................... ok
t/glib/k_run_returns.t ................. ok
GLib-CRITICAL **: Source ID 6 was not found when attempting to remove it at /tmp/loop_over_bdir-2354933-coBJBy/POE-Loop-Glib-0.038-0/blib/lib/POE/Loop/Glib.pm line 53.
GLib-CRITICAL **: Source ID 33 was not found when attempting to remove it at /tmp/loop_over_bdir-2354933-coBJBy/POE-Loop-Glib-0.038-0/blib/lib/POE/Loop/Glib.pm line 53.
GLib-CRITICAL **: Source ID 49 was not found when attempting to remove it at /tmp/loop_over_bdir-2354933-coBJBy/POE-Loop-Glib-0.038-0/blib/lib/POE/Loop/Glib.pm line 53.
GLib-CRITICAL **: Source ID 65 was not found when attempting to remove it at /tmp/loop_over_bdir-2354933-coBJBy/POE-Loop-Glib-0.038-0/blib/lib/POE/Loop/Glib.pm line 53.
GLib-CRITICAL **: Source ID 81 was not found when attempting to remove it at /tmp/loop_over_bdir-2354933-coBJBy/POE-Loop-Glib-0.038-0/blib/lib/POE/Loop/Glib.pm line 53.
t/glib/k_selects.t ..................... ok
t/glib/k_sig_child.t ................... ok
t/glib/k_signals.t ..................... ok
GLib-CRITICAL **: Source ID 3 was not found when attempting to remove it at /tmp/loop_over_bdir-2354933-coBJBy/POE-Loop-Glib-0.038-0/blib/lib/POE/Loop/Glib.pm line 53.
GLib-CRITICAL **: Source ID 14 was not found when attempting to remove it at /tmp/loop_over_bdir-2354933-coBJBy/POE-Loop-Glib-0.038-0/blib/lib/POE/Loop/Glib.pm line 53.
GLib-CRITICAL **: Source ID 25 was not found when attempting to remove it at /tmp/loop_over_bdir-2354933-coBJBy/POE-Loop-Glib-0.038-0/blib/lib/POE/Loop/Glib.pm line 53.
GLib-CRITICAL **: Source ID 36 was not found when attempting to remove it at /tmp/loop_over_bdir-2354933-coBJBy/POE-Loop-Glib-0.038-0/blib/lib/POE/Loop/Glib.pm line 53.
GLib-CRITICAL **: Source ID 47 was not found when attempting to remove it at /tmp/loop_over_bdir-2354933-coBJBy/POE-Loop-Glib-0.038-0/blib/lib/POE/Loop/Glib.pm line 53.
GLib-CRITICAL **: Source ID 58 was not found when attempting to remove it at /tmp/loop_over_bdir-2354933-coBJBy/POE-Loop-Glib-0.038-0/blib/lib/POE/Loop/Glib.pm line 53.
GLib-CRITICAL **: Source ID 69 was not found when attempting to remove it at /tmp/loop_over_bdir-2354933-coBJBy/POE-Loop-Glib-0.038-0/blib/lib/POE/Loop/Glib.pm line 53.
GLib-CRITICAL **: Source ID 80 was not found when attempting to remove it at /tmp/loop_over_bdir-2354933-coBJBy/POE-Loop-Glib-0.038-0/blib/lib/POE/Loop/Glib.pm line 53.
t/glib/k_signals_rerun.t ............... ok
t/glib/sbk_signal_init.t ............... ok
t/glib/ses_nfa.t ....................... ok
# This test generates some STDERR during trace testing.
=== 3257646 === 23 -> _start (from /home/sand/src/perl/repoperls/installed-perls/host/k93jammy/v5.37.2/5674/lib/site_perl/5.37.2/POE/Kernel.pm at 1498)
=== 3257646 === 23 -> woot (from /home/sand/src/perl/repoperls/installed-perls/host/k93jammy/v5.37.2/5674/lib/site_perl/5.37.2/POE/Test/Loops/ses_session.pm at 691)
=== 3257646 === 23 -> narf (from /home/sand/src/perl/repoperls/installed-perls/host/k93jammy/v5.37.2/5674/lib/site_perl/5.37.2/POE/Test/Loops/ses_session.pm at 692)
=== 3257646 === 23 -> _stop (from /home/sand/src/perl/repoperls/installed-perls/host/k93jammy/v5.37.2/5674/lib/site_perl/5.37.2/POE/Resource/Sessions.pm at 571)
t/glib/ses_session.t ................... ok
t/glib/wheel_accept.t .................. ok
t/glib/wheel_curses.t .................. skipped: Need help with Curses functions blocking under ptys
t/glib/wheel_readline.t ................ ok
GLib-CRITICAL **: Source ID 17 was not found when attempting to remove it at /tmp/loop_over_bdir-2354933-coBJBy/POE-Loop-Glib-0.038-0/blib/lib/POE/Loop/Glib.pm line 53.
t/glib/wheel_readwrite.t ............... ok
t/glib/wheel_run.t ..................... ok
GLib-CRITICAL **: Source ID 3 was not found when attempting to remove it at /tmp/loop_over_bdir-2354933-coBJBy/POE-Loop-Glib-0.038-0/blib/lib/POE/Loop/Glib.pm line 53.
t/glib/wheel_run_size.t ................ ok
t/glib/wheel_sf_ipv6.t ................. skipped: Socket::GetAddrInfo is needed for IPv6 tests
GLib-CRITICAL **: Source ID 4 was not found when attempting to remove it at /tmp/loop_over_bdir-2354933-coBJBy/POE-Loop-Glib-0.038-0/blib/lib/POE/Loop/Glib.pm line 53.
t/glib/wheel_sf_tcp.t .................. ok
t/glib/wheel_sf_udp.t .................. ok
GLib-CRITICAL **: Source ID 4 was not found when attempting to remove it at /tmp/loop_over_bdir-2354933-coBJBy/POE-Loop-Glib-0.038-0/blib/lib/POE/Loop/Glib.pm line 53.
t/glib/wheel_sf_unix.t ................. ok
t/glib/wheel_tail.t .................... ok
t/glib/z_kogman_sig_order.t ............ ok
t/glib/z_leolo_wheel_run.t ............. ok
# Using '/bin/true' as our thing to run under system()
t/glib/z_merijn_sigchld_system.t ....... ok
GLib-CRITICAL **: Source ID 6 was not found when attempting to remove it at /tmp/loop_over_bdir-2354933-coBJBy/POE-Loop-Glib-0.038-0/blib/lib/POE/Loop/Glib.pm line 53.
GLib-CRITICAL **: Source ID 34 was not found when attempting to remove it at /tmp/loop_over_bdir-2354933-coBJBy/POE-Loop-Glib-0.038-0/blib/lib/POE/Loop/Glib.pm line 53.
t/glib/z_rt39872_sigchld.t ............. ok
# Parent 3257686 waiting 3sec for slow systems to settle.
# sending sigusr1
# sent sigusr1
3257687: GLib-CRITICAL **: Source ID 5 was not found when attempting to remove it at /tmp/loop_over_bdir-2354933-coBJBy/POE-Loop-Glib-0.038-0/blib/lib/POE/Loop/Glib.pm line 53.
3257686: GLib-CRITICAL **: Source ID 8 was not found when attempting to remove it at /tmp/loop_over_bdir-2354933-coBJBy/POE-Loop-Glib-0.038-0/blib/lib/POE/Loop/Glib.pm line 53.
3257688: GLib-CRITICAL **: Source ID 5 was not found when attempting to remove it at /tmp/loop_over_bdir-2354933-coBJBy/POE-Loop-Glib-0.038-0/blib/lib/POE/Loop/Glib.pm line 53.
3257686: GLib-CRITICAL **: Source ID 13 was not found when attempting to remove it at /tmp/loop_over_bdir-2354933-coBJBy/POE-Loop-Glib-0.038-0/blib/lib/POE/Loop/Glib.pm line 53.
t/glib/z_rt39872_sigchld_stop.t ........ ok
GLib-CRITICAL **: Source ID 14 was not found when attempting to remove it at /tmp/loop_over_bdir-2354933-coBJBy/POE-Loop-Glib-0.038-0/blib/lib/POE/Loop/Glib.pm line 53.
GLib-CRITICAL **: Source ID 34 was not found when attempting to remove it at /tmp/loop_over_bdir-2354933-coBJBy/POE-Loop-Glib-0.038-0/blib/lib/POE/Loop/Glib.pm line 53.
t/glib/z_rt53302_fh_watchers.t ......... ok
t/glib/z_rt54319_bazerka_followtail.t .. ok
t/glib/z_steinert_signal_integrity.t ... ok
All tests successful.
Files=37, Tests=491, 29 wallclock secs ( 0.12 usr 0.06 sys + 4.12 cusr 0.90 csys = 5.20 CPU)
Result: PASS
------------------------------
PREREQUISITES
------------------------------
Prerequisite modules loaded:
requires:
Module Need Have
---------------- ----- --------
Glib 1.222 1.3293
perl 5.006 5.037002
POE 1.288 1.370
configure_requires:
Module Need Have
---------------- ----- --------
Module::Build 0.36 0.4231
POE::Test::Loops 1.034 1.360
opt_requires:
Module Need Have
---------------- ----- --------
IO::Pty 0 1.16
Socket6 0 0.29
! Term::Readkey 0 n/a
! Win32::Console 0 n/a
------------------------------
ENVIRONMENT AND OTHER CONTEXT
------------------------------
Environment variables:
AUTOMATED_TESTING = 1
LANG = en_US.UTF-8
LC_ADDRESS = de_DE.UTF-8
LC_IDENTIFICATION = de_DE.UTF-8
LC_MEASUREMENT = de_DE.UTF-8
LC_MONETARY = de_DE.UTF-8
LC_NAME = de_DE.UTF-8
LC_NUMERIC = de_DE.UTF-8
LC_PAPER = de_DE.UTF-8
LC_TELEPHONE = de_DE.UTF-8
LC_TIME = de_DE.UTF-8
PATH = /home/sand/bin:/usr/local/bin:/usr/local/sbin:/usr/sbin:/usr/bin:/sbin:/bin:/usr/games:/usr/local/games:/snap/bin:/usr/local/perl/bin:/usr/X11/bin
PERL = /tmp/basesmoker-reloperl-RcxP/bin/perl
PERL5LIB = /tmp/loop_over_bdir-2354933-coBJBy/Devel-Required-0.16-0/blib/arch:/tmp/loop_over_bdir-2354933-coBJBy/Devel-Required-0.16-0/blib/lib:/tmp/loop_over_bdir-2354933-coBJBy/Dpkg-1.21.9-0/blib/arch:/tmp/loop_over_bdir-2354933-coBJBy/Dpkg-1.21.9-0/blib/lib
PERL5OPT =
PERL5_CPANPLUS_IS_RUNNING = 2354942
PERL5_CPAN_IS_RUNNING = 2354942
PERL_CANARY_STABILITY_NOPROMPT = 1
PERL_MM_USE_DEFAULT = 1
PERL_USE_UNSAFE_INC = 1
SHELL = /usr/bin/zsh
TERM = screen
Perl special variables (and OS-specific diagnostics, for MSWin32):
$^X = /tmp/basesmoker-reloperl-RcxP/bin/perl
$UID/$EUID = 1005 / 1005
$GID = 1005 1005
$EGID = 1005 1005
Perl module toolchain versions installed:
Module Have
------------------- --------
CPAN 2.34
CPAN::Meta 2.150010
Cwd 3.86
ExtUtils::CBuilder 0.280237
ExtUtils::Command 7.64
ExtUtils::Install 2.20
ExtUtils::MakeMaker 7.64
ExtUtils::Manifest 1.73
ExtUtils::ParseXS 3.45
File::Spec 3.86
JSON 4.09
JSON::PP 4.11
Module::Build 0.4231
Module::Signature 0.88
Parse::CPAN::Meta 2.150010
Test::Harness 3.44
Test::More 1.302191
YAML 1.30
YAML::Syck 1.34
version 0.9929
--
Summary of my perl5 (revision 5 version 37 subversion 2) configuration:
Commit id: 7f9b65d969a1c8b44028cacbb9e88596d1e5a8a3
Platform:
osname=linux
osvers=5.15.0-41-generic
archname=x86_64-linux-ld
uname='linux k93jammy 5.15.0-41-generic #44-ubuntu smp wed jun 22 14:20:53 utc 2022 x86_64 x86_64 x86_64 gnulinux '
config_args='-Dprefix=/home/sand/src/perl/repoperls/installed-perls/host/k93jammy/v5.37.2/5674 -Dmyhostname=k93jammy -Dinstallusrbinperl=n -Uversiononly -Dusedevel -des -Ui_db -Dlibswanted=cl pthread socket inet nsl gdbm dbm malloc dl ld sun m crypt sec util c cposix posix ucb BSD gdbm_compat -Uuseithreads -Duselongdouble -DEBUGGING=-g'
hint=recommended
useposix=true
d_sigaction=define
useithreads=undef
usemultiplicity=undef
use64bitint=define
use64bitall=define
uselongdouble=define
usemymalloc=n
default_inc_excludes_dot=define
Compiler:
cc='cc'
ccflags ='-fwrapv -fno-strict-aliasing -pipe -fstack-protector-strong -I/usr/local/include -D_LARGEFILE_SOURCE -D_FILE_OFFSET_BITS=64'
optimize='-O2 -g'
cppflags='-fwrapv -fno-strict-aliasing -pipe -fstack-protector-strong -I/usr/local/include'
ccversion=''
gccversion='11.2.0'
gccosandvers=''
intsize=4
longsize=8
ptrsize=8
doublesize=8
byteorder=12345678
doublekind=3
d_longlong=define
longlongsize=8
d_longdbl=define
longdblsize=16
longdblkind=3
ivtype='long'
ivsize=8
nvtype='long double'
nvsize=16
Off_t='off_t'
lseeksize=8
alignbytes=16
prototype=define
Linker and Libraries:
ld='cc'
ldflags =' -fstack-protector-strong -L/usr/local/lib'
libpth=/usr/local/lib /usr/lib/x86_64-linux-gnu /usr/lib /usr/lib64
libs=-lpthread -lnsl -ldl -lm -lcrypt -lutil -lc
perllibs=-lpthread -lnsl -ldl -lm -lcrypt -lutil -lc
libc=/lib/x86_64-linux-gnu/libc.so.6
so=so
useshrplib=false
libperl=libperl.a
gnulibc_version='2.35'
Dynamic Linking:
dlsrc=dl_dlopen.xs
dlext=so
d_dlsymun=undef
ccdlflags='-Wl,-E'
cccdlflags='-fPIC'
lddlflags='-shared -O2 -g -L/usr/local/lib -fstack-protector-strong'
Characteristics of this binary (from libperl):
Compile-time options:
HAS_TIMES
PERLIO_LAYERS
PERL_COPY_ON_WRITE
PERL_DONT_CREATE_GVSV
PERL_MALLOC_WRAP
PERL_OP_PARENT
PERL_PRESERVE_IVUV
PERL_USE_DEVEL
PERL_USE_SAFE_PUTENV
USE_64_BIT_ALL
USE_64_BIT_INT
USE_LARGE_FILES
USE_LOCALE
USE_LOCALE_COLLATE
USE_LOCALE_CTYPE
USE_LOCALE_NUMERIC
USE_LOCALE_TIME
USE_LONG_DOUBLE
USE_PERLIO
USE_PERL_ATOF
Built under linux
Compiled at Aug 14 2022 19:01:21
%ENV:
PERL="/tmp/basesmoker-reloperl-RcxP/bin/perl"
PERL5LIB="/tmp/loop_over_bdir-2354933-coBJBy/Devel-Required-0.16-0/blib/arch:/tmp/loop_over_bdir-2354933-coBJBy/Devel-Required-0.16-0/blib/lib:/tmp/loop_over_bdir-2354933-coBJBy/Dpkg-1.21.9-0/blib/arch:/tmp/loop_over_bdir-2354933-coBJBy/Dpkg-1.21.9-0/blib/lib"
PERL5OPT=""
PERL5_CPANPLUS_IS_RUNNING="2354942"
PERL5_CPAN_IS_RUNNING="2354942"
PERL_CANARY_STABILITY_NOPROMPT="1"
PERL_MM_USE_DEFAULT="1"
PERL_USE_UNSAFE_INC="1"
@INC:
/tmp/loop_over_bdir-2354933-coBJBy/Devel-Required-0.16-0/blib/arch
/tmp/loop_over_bdir-2354933-coBJBy/Devel-Required-0.16-0/blib/lib
/tmp/loop_over_bdir-2354933-coBJBy/Dpkg-1.21.9-0/blib/arch
/tmp/loop_over_bdir-2354933-coBJBy/Dpkg-1.21.9-0/blib/lib
/home/sand/src/perl/repoperls/installed-perls/host/k93jammy/v5.37.2/5674/lib/site_perl/5.37.2/x86_64-linux-ld
/home/sand/src/perl/repoperls/installed-perls/host/k93jammy/v5.37.2/5674/lib/site_perl/5.37.2
/home/sand/src/perl/repoperls/installed-perls/host/k93jammy/v5.37.2/5674/lib/5.37.2/x86_64-linux-ld
/home/sand/src/perl/repoperls/installed-perls/host/k93jammy/v5.37.2/5674/lib/5.37.2
.