AnyEvent-DBI-MySQL vv2.1.0 Perl 5 v5.27.4 x86_64-linux
- Status
- Pass
- From
- Andreas J. König (ANDK)
- Dist
-
AnyEvent-DBI-MySQL vv2.1.0
- Platform
- Perl 5 v5.27.4 x86_64-linux
- Date
- 2017-10-10 20:17:50
- ID
- 16d7ba86-adf8-11e7-a0e6-00d049b1df06
This distribution has been tested as part of the CPAN Testers
project, supporting the Perl programming language. See
http://wiki.cpantesters.org/ for more information or email
questions to cpan-testers-discuss@perl.org
--
Dear Alex Efros,
This is a computer-generated report for AnyEvent-DBI-MySQL-v2.1.0
on perl 5.27.4, created by CPAN-Reporter-1.2018.
Thank you for uploading your work to CPAN. Congratulations!
All tests were successful.
Sections of this report:
* Tester comments
* Program output
* Prerequisites
* Environment and other context
------------------------------
TESTER COMMENTS
------------------------------
Additional comments from tester:
this report is from an automated smoke testing program
and was not reviewed by a human for accuracy
------------------------------
PROGRAM OUTPUT
------------------------------
Output from './Build test':
# Testing AnyEvent::DBI::MySQL v2.1.0, Perl 5.027004, /home/sand/src/perl/repoperls/installed-perls/host/k93msid/v5.27.4/89ad/bin/perl
t/00.load.t ............... ok
t/01.export.t ............. skipped: This module doesn't export anything
t/async.t ................. skipped: ~/.test-database not configured
t/async_cv.t .............. skipped: ~/.test-database not configured
t/author-perlcritic.t ..... skipped: these tests are for testing by the author
t/author-pod-syntax.t ..... skipped: these tests are for testing by the author
t/connect.t ............... skipped: ~/.test-database not configured
t/err.t ................... skipped: ~/.test-database not configured
t/failed_connect.t ........ ok
t/gone.t .................. skipped: ~/.test-database not configured
t/prepare.t ............... skipped: ~/.test-database not configured
t/release-distribution.t .. skipped: these tests are for release candidate testing
t/simultanous.t ........... skipped: ~/.test-database not configured
t/superfluous_warning.t ... skipped: ~/.test-database not configured
t/sync.t .................. skipped: ~/.test-database not configured
All tests successful.
Files=15, Tests=4, 7 wallclock secs ( 0.04 usr 0.11 sys + 2.49 cusr 0.50 csys = 3.14 CPU)
Result: PASS
------------------------------
PREREQUISITES
------------------------------
Prerequisite modules loaded:
requires:
Module Need Have
------------------- -------- --------
AnyEvent 0 7.14
DBD::mysql 0 4.043
DBI 0 1.637
perl 5.010001 5.027004
Scalar::Util 0 1.48
build_requires:
Module Need Have
------------------- -------- --------
Test::Database 0 1.113
Test::Exception 0 0.43
Test::More 0 1.302096
Time::HiRes 0 1.9743
configure_requires:
Module Need Have
------------------- -------- --------
Module::Build::Tiny 0.034 0.039
------------------------------
ENVIRONMENT AND OTHER CONTEXT
------------------------------
Environment variables:
AUTOMATED_TESTING = 1
LANG = en_US.UTF-8
PATH = /home/sand/bin:/usr/local/bin:/usr/bin:/bin:/usr/games:/usr/local/perl/bin:/usr/X11/bin:/sbin:/usr/sbin
PERL5LIB = /tmp/loop_over_bdir-18024-DYnexj/Test-Database-1.113-0/blib/arch:/tmp/loop_over_bdir-18024-DYnexj/Test-Database-1.113-0/blib/lib:/tmp/loop_over_bdir-18024-DYnexj/SQL-Statement-1.412-0/blib/arch:/tmp/loop_over_bdir-18024-DYnexj/SQL-Statement-1.412-0/blib/lib:/tmp/loop_over_bdir-18024-DYnexj/Text-Soundex-3.05-0/blib/arch:/tmp/loop_over_bdir-18024-DYnexj/Text-Soundex-3.05-0/blib/lib:/tmp/loop_over_bdir-18024-DYnexj/Math-Base-Convert-0.11-0/blib/arch:/tmp/loop_over_bdir-18024-DYnexj/Math-Base-Convert-0.11-0/blib/lib
PERL5OPT =
PERL5_CPANPLUS_IS_RUNNING = 18029
PERL5_CPAN_IS_RUNNING = 18029
PERL5_CPAN_IS_RUNNING_IN_RECURSION = 12870,18029
PERL_CANARY_STABILITY_NOPROMPT = 1
PERL_MM_USE_DEFAULT = 1
PERL_USE_UNSAFE_INC = 1
SHELL = /usr/bin/zsh
TERM = screen
Perl special variables (and OS-specific diagnostics, for MSWin32):
$^X = /home/sand/src/perl/repoperls/installed-perls/host/k93msid/v5.27.4/89ad/bin/perl
$UID/$EUID = 1005 / 1005
$GID = 1005 1005
$EGID = 1005 1005
Perl module toolchain versions installed:
Module Have
------------------- --------
CPAN 2.18
CPAN::Meta 2.150010
Cwd 3.68
ExtUtils::CBuilder 0.280228
ExtUtils::Command 7.31_04
ExtUtils::Install 2.14
ExtUtils::MakeMaker 7.31_04
ExtUtils::Manifest 1.70
ExtUtils::ParseXS 3.35
File::Spec 3.68
JSON 2.94
JSON::PP 2.94
Module::Build 0.4224
Module::Signature 0.81
Parse::CPAN::Meta 2.150010
Test::Harness 3.39
Test::More 1.302096
YAML 1.23
YAML::Syck 1.30
version 0.9918
--
Summary of my perl5 (revision 5 version 27 subversion 4) configuration:
Commit id: a8b7548118623521a01940403176f14c40bf1320
Platform:
osname=linux
osvers=4.12.0-2-amd64
archname=x86_64-linux
uname='linux k93msid 4.12.0-2-amd64 #1 smp debian 4.12.13-1 (2017-09-19) x86_64 gnulinux '
config_args='-Dprefix=/home/sand/src/perl/repoperls/installed-perls/host/k93msid/v5.27.4/89ad -Dmyhostname=k93msid -Dinstallusrbinperl=n -Uversiononly -Dusedevel -des -Ui_db -Dlibswanted=cl pthread socket inet nsl gdbm dbm malloc dl ld sun m crypt sec util c cposix posix ucb BSD gdbm_compat -Uuseithreads -Uuselongdouble -DDEBUGGING=-g'
hint=recommended
useposix=true
d_sigaction=define
useithreads=undef
usemultiplicity=undef
use64bitint=define
use64bitall=define
uselongdouble=undef
usemymalloc=n
default_inc_excludes_dot=define
bincompat5005=undef
Compiler:
cc='cc'
ccflags ='-fwrapv -fno-strict-aliasing -pipe -fstack-protector-strong -I/usr/local/include -D_LARGEFILE_SOURCE -D_FILE_OFFSET_BITS=64 -D_FORTIFY_SOURCE=2'
optimize='-O2 -g'
cppflags='-fwrapv -fno-strict-aliasing -pipe -fstack-protector-strong -I/usr/local/include'
ccversion=''
gccversion='7.2.0'
gccosandvers=''
intsize=4
longsize=8
ptrsize=8
doublesize=8
byteorder=12345678
doublekind=3
d_longlong=define
longlongsize=8
d_longdbl=define
longdblsize=16
longdblkind=3
ivtype='long'
ivsize=8
nvtype='double'
nvsize=8
Off_t='off_t'
lseeksize=8
alignbytes=8
prototype=define
Linker and Libraries:
ld='cc'
ldflags =' -fstack-protector-strong -L/usr/local/lib'
libpth=/usr/local/lib /usr/lib/gcc/x86_64-linux-gnu/7/include-fixed /usr/include/x86_64-linux-gnu /usr/lib /lib/x86_64-linux-gnu /lib/../lib /usr/lib/x86_64-linux-gnu /usr/lib/../lib /lib
libs=-lpthread -lnsl -ldl -lm -lcrypt -lutil -lc
perllibs=-lpthread -lnsl -ldl -lm -lcrypt -lutil -lc
libc=libc-2.24.so
so=so
useshrplib=false
libperl=libperl.a
gnulibc_version='2.24'
Dynamic Linking:
dlsrc=dl_dlopen.xs
dlext=so
d_dlsymun=undef
ccdlflags='-Wl,-E'
cccdlflags='-fPIC'
lddlflags='-shared -O2 -g -L/usr/local/lib -fstack-protector-strong'
Characteristics of this binary (from libperl):
Compile-time options:
HAS_TIMES
PERLIO_LAYERS
PERL_COPY_ON_WRITE
PERL_DONT_CREATE_GVSV
PERL_MALLOC_WRAP
PERL_OP_PARENT
PERL_PRESERVE_IVUV
PERL_USE_DEVEL
USE_64_BIT_ALL
USE_64_BIT_INT
USE_LARGE_FILES
USE_LOCALE
USE_LOCALE_COLLATE
USE_LOCALE_CTYPE
USE_LOCALE_NUMERIC
USE_LOCALE_TIME
USE_PERLIO
USE_PERL_ATOF
Built under linux
Compiled at Oct 1 2017 20:32:35
%ENV:
PERL5LIB="/tmp/loop_over_bdir-18024-DYnexj/Test-Database-1.113-0/blib/arch:/tmp/loop_over_bdir-18024-DYnexj/Test-Database-1.113-0/blib/lib:/tmp/loop_over_bdir-18024-DYnexj/SQL-Statement-1.412-0/blib/arch:/tmp/loop_over_bdir-18024-DYnexj/SQL-Statement-1.412-0/blib/lib:/tmp/loop_over_bdir-18024-DYnexj/Text-Soundex-3.05-0/blib/arch:/tmp/loop_over_bdir-18024-DYnexj/Text-Soundex-3.05-0/blib/lib:/tmp/loop_over_bdir-18024-DYnexj/Math-Base-Convert-0.11-0/blib/arch:/tmp/loop_over_bdir-18024-DYnexj/Math-Base-Convert-0.11-0/blib/lib"
PERL5OPT=""
PERL5_CPANPLUS_IS_RUNNING="18029"
PERL5_CPAN_IS_RUNNING="18029"
PERL5_CPAN_IS_RUNNING_IN_RECURSION="12870,18029"
PERL_CANARY_STABILITY_NOPROMPT="1"
PERL_MM_USE_DEFAULT="1"
PERL_USE_UNSAFE_INC="1"
@INC:
/tmp/loop_over_bdir-18024-DYnexj/Test-Database-1.113-0/blib/arch
/tmp/loop_over_bdir-18024-DYnexj/Test-Database-1.113-0/blib/lib
/tmp/loop_over_bdir-18024-DYnexj/SQL-Statement-1.412-0/blib/arch
/tmp/loop_over_bdir-18024-DYnexj/SQL-Statement-1.412-0/blib/lib
/tmp/loop_over_bdir-18024-DYnexj/Text-Soundex-3.05-0/blib/arch
/tmp/loop_over_bdir-18024-DYnexj/Text-Soundex-3.05-0/blib/lib
/tmp/loop_over_bdir-18024-DYnexj/Math-Base-Convert-0.11-0/blib/arch
/tmp/loop_over_bdir-18024-DYnexj/Math-Base-Convert-0.11-0/blib/lib
/home/sand/src/perl/repoperls/installed-perls/host/k93msid/v5.27.4/89ad/lib/site_perl/5.27.4/x86_64-linux
/home/sand/src/perl/repoperls/installed-perls/host/k93msid/v5.27.4/89ad/lib/site_perl/5.27.4
/home/sand/src/perl/repoperls/installed-perls/host/k93msid/v5.27.4/89ad/lib/5.27.4/x86_64-linux
/home/sand/src/perl/repoperls/installed-perls/host/k93msid/v5.27.4/89ad/lib/5.27.4
.