Report for Catalyst-DispatchType-Regex-5.90035

Back
From: metabase:user:a0e144f2-373b-11e6-8edd-c6848980b093
Subject: PASS Catalyst-DispatchType-Regex-5.90035 v5.25.3 GNU/Linux
Date: 2016-07-03T09:18:23Z

This distribution has been tested as part of the CPAN Testers
project, supporting the Perl programming language.  See
http://wiki.cpantesters.org/ for more information or email
questions to cpan-testers-discuss@perl.org


--
Dear Mark Grimes,

This is a computer-generated report for Catalyst-DispatchType-Regex-5.90035
on perl 5.25.3, created by CPAN-Reporter-1.2018.

Thank you for uploading your work to CPAN.  Congratulations!
All tests were successful.

Sections of this report:

    * Tester comments
    * Program output
    * Prerequisites
    * Environment and other context

------------------------------
TESTER COMMENTS
------------------------------

Additional comments from tester:

none provided

------------------------------
PROGRAM OUTPUT
------------------------------

Output from './Build test':

# Testing Catalyst::DispatchType::Regex 5.90035
t/01use.t .............................................. ok
DEPRECATION WARNING: The Regex dispatch type is deprecated.
  It is recommended that you convert Regex and LocalRegex 
  methods to Chained methods. at /home/dcollins/toolchain/.afl4/.cpan/build/Catalyst-DispatchType-Regex-5.90035-0/blib/lib/Catalyst/DispatchType/Regex.pm line 210.
t/aggregate/live_component_controller_action_regexp.t .. ok
DEPRECATION WARNING: The Regex dispatch type is deprecated.
  It is recommended that you convert Regex and LocalRegex 
  methods to Chained methods. at /home/dcollins/toolchain/.afl4/.cpan/build/Catalyst-DispatchType-Regex-5.90035-0/blib/lib/Catalyst/DispatchType/Regex.pm line 210.
t/aggregate/live_priorities.t .......................... ok
DEPRECATION WARNING: The Regex dispatch type is deprecated.
  It is recommended that you convert Regex and LocalRegex 
  methods to Chained methods. at /home/dcollins/toolchain/.afl4/.cpan/build/Catalyst-DispatchType-Regex-5.90035-0/blib/lib/Catalyst/DispatchType/Regex.pm line 210.
t/aggregate/unit_core_uri_for_action.t ................. ok
All tests successful.
Files=4, Tests=60,  4 wallclock secs ( 0.02 usr  0.01 sys +  2.58 cusr  0.24 csys =  2.85 CPU)
Result: PASS

------------------------------
PREREQUISITES
------------------------------

Prerequisite modules loaded:

requires:

    Module               Need    Have    
    -------------------- ------- --------
    Catalyst::Runtime    5.90060 5.90105 
    Moose                0       2.1804  
    Text::Balanced       0       2.03    
    Text::SimpleTable    0       2.03    

build_requires:

    Module               Need    Have    
    -------------------- ------- --------
    Data::Dumper         0       2.160   
    MRO::Compat          0       0.12    
    namespace::autoclean 0       0.28    
    Scalar::Util         0       1.45_02 
    Test::More           0       1.302035

configure_requires:

    Module               Need    Have    
    -------------------- ------- --------
    Module::Build        0.4004  0.4218  


------------------------------
ENVIRONMENT AND OTHER CONTEXT
------------------------------

Environment variables:

    LANG = en_US.UTF-8
    PATH = /usr/local/bin:/usr/bin:/bin:/usr/local/games:/usr/games
    PERL5LIB = /home/dcollins/toolchain/.afl4/.cpan/build/Catalyst-Runtime-5.90105-10/blib/arch:/home/dcollins/toolchain/.afl4/.cpan/build/Catalyst-Runtime-5.90105-10/blib/lib:/home/dcollins/toolchain/.afl4/.cpan/build/Plack-1.0039-79/blib/arch:/home/dcollins/toolchain/.afl4/.cpan/build/Plack-1.0039-79/blib/lib:/home/dcollins/toolchain/.afl4/.cpan/build/Moose-2.1804-180/blib/arch:/home/dcollins/toolchain/.afl4/.cpan/build/Moose-2.1804-180/blib/lib:/home/dcollins/toolchain/.afl4/.cpan/build/Package-Stash-0.37-213/blib/arch:/home/dcollins/toolchain/.afl4/.cpan/build/Package-Stash-0.37-213/blib/lib:/home/dcollins/toolchain/.afl4/.cpan/build/libwww-perl-6.15-234/blib/arch:/home/dcollins/toolchain/.afl4/.cpan/build/libwww-perl-6.15-234/blib/lib
    PERL5OPT = 
    PERL5_CPANPLUS_IS_RUNNING = 52898
    PERL5_CPAN_IS_RUNNING = 52898
    SHELL = /bin/bash
    TERM = screen

Perl special variables (and OS-specific diagnostics, for MSWin32):

    $^X = /usr/bin/perl5.25.3
    $UID/$EUID = 1004 / 1004
    $GID = 1005 1005
    $EGID = 1005 1005

Perl module toolchain versions installed:

    Module              Have    
    ------------------- --------
    CPAN                2.14    
    CPAN::Meta          2.150005
    Cwd                 3.64    
    ExtUtils::CBuilder  0.280225
    ExtUtils::Command   7.18    
    ExtUtils::Install   2.04    
    ExtUtils::MakeMaker 7.18    
    ExtUtils::Manifest  1.70    
    ExtUtils::ParseXS   3.32    
    File::Spec          3.64    
    JSON                2.90    
    JSON::PP            2.27400 
    Module::Build       0.4218  
    Module::Signature   n/a     
    Parse::CPAN::Meta   1.4421  
    Test::Harness       3.36    
    Test::More          1.302035
    YAML                1.15    
    YAML::Syck          1.29    
    version             0.9917  


--

Summary of my perl5 (revision 5 version 25 subversion 3) configuration:
  Commit id: ee4b19b959afbc7b1778ed123bdc8612e6fb0cd6
  Platform:
    osname=linux
    osvers=4.6.0-1-amd64
    archname=x86_64-linux-thread-multi-quadmath
    uname='linux nightshade64 4.6.0-1-amd64 #1 smp debian 4.6.1-1 (2016-06-06) x86_64 gnulinux '
    config_args='-Dusedevel -Dprefix=/usr -Dcc=ccache gcc-6 -Duse64bitall -Doptimize=-O3 -Dversiononly -Uman1dir -Uman3dir -Dsiteprefix=/home/dcollins/toolchain/local -DDEBUGGING -Uuselongdouble -Dusequadmath -Dusethreads -Dusemultiplicity -des'
    hint=recommended
    useposix=true
    d_sigaction=define
    useithreads=define
    usemultiplicity=define
    use64bitint=define
    use64bitall=define
    uselongdouble=undef
    usemymalloc=n
    bincompat5005=undef
  Compiler:
    cc='ccache gcc-6'
    ccflags ='-D_REENTRANT -D_GNU_SOURCE -fwrapv -DDEBUGGING -fno-strict-aliasing -pipe -fstack-protector-strong -I/usr/local/include -D_LARGEFILE_SOURCE -D_FILE_OFFSET_BITS=64'
    optimize='-O3 -g'
    cppflags='-D_REENTRANT -D_GNU_SOURCE -fwrapv -DDEBUGGING -fno-strict-aliasing -pipe -fstack-protector-strong -I/usr/local/include'
    ccversion=''
    gccversion='6.1.1 20160519'
    gccosandvers=''
    intsize=4
    longsize=8
    ptrsize=8
    doublesize=8
    byteorder=12345678
    doublekind=3
    d_longlong=define
    longlongsize=8
    d_longdbl=define
    longdblsize=16
    longdblkind=3
    ivtype='long'
    ivsize=8
    nvtype='__float128'
    nvsize=16
    Off_t='off_t'
    lseeksize=8
    alignbytes=16
    prototype=define
  Linker and Libraries:
    ld='ccache gcc-6'
    ldflags =' -fstack-protector-strong -L/usr/local/lib'
    libpth=/usr/local/lib /usr/lib/gcc/x86_64-linux-gnu/6/include-fixed /usr/include/x86_64-linux-gnu /usr/lib /lib/x86_64-linux-gnu /lib/../lib /usr/lib/x86_64-linux-gnu /usr/lib/../lib /lib
    libs=-lpthread -lnsl -ldl -lm -lcrypt -lutil -lc -lquadmath
    perllibs=-lpthread -lnsl -ldl -lm -lcrypt -lutil -lc -lquadmath
    libc=libc-2.22.so
    so=so
    useshrplib=false
    libperl=libperl.a
    gnulibc_version='2.22'
  Dynamic Linking:
    dlsrc=dl_dlopen.xs
    dlext=so
    d_dlsymun=undef
    ccdlflags='-Wl,-E'
    cccdlflags='-fPIC'
    lddlflags='-shared -O3 -g -L/usr/local/lib -fstack-protector-strong'


Characteristics of this binary (from libperl): 
  Compile-time options:
    DEBUGGING
    HAS_TIMES
    MULTIPLICITY
    PERLIO_LAYERS
    PERL_COPY_ON_WRITE
    PERL_DONT_CREATE_GVSV
    PERL_HASH_FUNC_ONE_AT_A_TIME_HARD
    PERL_IMPLICIT_CONTEXT
    PERL_MALLOC_WRAP
    PERL_OP_PARENT
    PERL_PRESERVE_IVUV
    PERL_TRACK_MEMPOOL
    PERL_USE_DEVEL
    USE_64_BIT_ALL
    USE_64_BIT_INT
    USE_ITHREADS
    USE_LARGE_FILES
    USE_LOCALE
    USE_LOCALE_COLLATE
    USE_LOCALE_CTYPE
    USE_LOCALE_NUMERIC
    USE_LOCALE_TIME
    USE_PERLIO
    USE_PERL_ATOF
    USE_QUADMATH
    USE_REENTRANT_API
  Built under linux
  Compiled at Jan  1 1970 00:00:00
  %ENV:
    PERL5LIB="/home/dcollins/toolchain/.afl4/.cpan/build/Catalyst-Runtime-5.90105-10/blib/arch:/home/dcollins/toolchain/.afl4/.cpan/build/Catalyst-Runtime-5.90105-10/blib/lib:/home/dcollins/toolchain/.afl4/.cpan/build/Plack-1.0039-79/blib/arch:/home/dcollins/toolchain/.afl4/.cpan/build/Plack-1.0039-79/blib/lib:/home/dcollins/toolchain/.afl4/.cpan/build/Moose-2.1804-180/blib/arch:/home/dcollins/toolchain/.afl4/.cpan/build/Moose-2.1804-180/blib/lib:/home/dcollins/toolchain/.afl4/.cpan/build/Package-Stash-0.37-213/blib/arch:/home/dcollins/toolchain/.afl4/.cpan/build/Package-Stash-0.37-213/blib/lib:/home/dcollins/toolchain/.afl4/.cpan/build/libwww-perl-6.15-234/blib/arch:/home/dcollins/toolchain/.afl4/.cpan/build/libwww-perl-6.15-234/blib/lib"
    PERL5OPT=""
    PERL5_CPANPLUS_IS_RUNNING="52898"
    PERL5_CPAN_IS_RUNNING="52898"
  @INC:
    /home/dcollins/toolchain/.afl4/.cpan/build/Catalyst-Runtime-5.90105-10/blib/arch
    /home/dcollins/toolchain/.afl4/.cpan/build/Catalyst-Runtime-5.90105-10/blib/lib
    /home/dcollins/toolchain/.afl4/.cpan/build/Plack-1.0039-79/blib/arch
    /home/dcollins/toolchain/.afl4/.cpan/build/Plack-1.0039-79/blib/lib
    /home/dcollins/toolchain/.afl4/.cpan/build/Moose-2.1804-180/blib/arch
    /home/dcollins/toolchain/.afl4/.cpan/build/Moose-2.1804-180/blib/lib
    /home/dcollins/toolchain/.afl4/.cpan/build/Package-Stash-0.37-213/blib/arch
    /home/dcollins/toolchain/.afl4/.cpan/build/Package-Stash-0.37-213/blib/lib
    /home/dcollins/toolchain/.afl4/.cpan/build/libwww-perl-6.15-234/blib/arch
    /home/dcollins/toolchain/.afl4/.cpan/build/libwww-perl-6.15-234/blib/lib
    /home/dcollins/toolchain/local/lib/perl5/site_perl/5.25.3/x86_64-linux-thread-multi-quadmath
    /home/dcollins/toolchain/local/lib/perl5/site_perl/5.25.3
    /usr/lib/perl5/5.25.3/x86_64-linux-thread-multi-quadmath
    /usr/lib/perl5/5.25.3
    .