HTTP-Message v6.43 Perl 5 v5.36.0 x86_64-linux-thread-multi
- Status
- Pass
- From
- Slaven Rezić
- Dist
-
HTTP-Message v6.43
- Platform
- Perl 5 v5.36.0 x86_64-linux-thread-multi
- Date
- 2022-10-22 19:31:13
- ID
- 173aecb8-5240-11ed-b381-d3086e8775ea
This distribution has been tested as part of the CPAN Testers
project, supporting the Perl programming language. See
http://wiki.cpantesters.org/ for more information or email
questions to cpan-testers-discuss@perl.org
--
Dear Julien Fiegehenn,
This is a computer-generated report for HTTP-Message-6.43
on perl 5.36.0, created by CPAN-Reporter-1.2018.
Thank you for uploading your work to CPAN. Congratulations!
All tests were successful.
Sections of this report:
* Tester comments
* Program output
* Prerequisites
* Environment and other context
------------------------------
TESTER COMMENTS
------------------------------
Additional comments from tester:
none provided
------------------------------
PROGRAM OUTPUT
------------------------------
Output from '/usr/bin/make test':
PERL_DL_NONLAZY=1 "/opt/perl-5.36.0t/bin/perl" "-MExtUtils::Command::MM" "-MTest::Harness" "-e" "undef *Test::Harness::Switches; test_harness(0, 'blib/lib', 'blib/arch')" t/*.t
#
# Versions for all modules listed in MYMETA.json (including optional ones):
#
# === Configure Requires ===
#
# Module Want Have
# ------------------- ---- ----
# ExtUtils::MakeMaker any 7.64
#
# === Configure Suggests ===
#
# Module Want Have
# -------- ------- ----
# JSON::PP 2.27300 4.12
#
# === Build Requires ===
#
# Module Want Have
# ------------------- ---- ----
# ExtUtils::MakeMaker any 7.64
#
# === Test Requires ===
#
# Module Want Have
# ------------------- ---- --------
# ExtUtils::MakeMaker any 7.64
# File::Spec any 3.84
# File::Temp any 0.2311
# PerlIO::encoding any 0.30
# Test::More 0.88 1.302190
# Test::Needs any 0.002009
# Time::Local any 1.30
# Try::Tiny any 0.31
# URI::URL any 5.16
# lib any 0.65
# overload any 1.35
#
# === Test Recommends ===
#
# Module Want Have
# ---------------------- -------- --------
# CPAN::Meta 2.120900 2.150010
# IO::Compress::Brotli 0.004001 missing
# IO::Uncompress::Brotli 0.004001 missing
#
# === Runtime Requires ===
#
# Module Want Have
# -------------------------- ----- -----
# Carp any 1.52
# Compress::Raw::Bzip2 any 2.103
# Compress::Raw::Zlib any 2.105
# Encode 3.01 3.17
# Encode::Locale 1 1.05
# Exporter 5.57 5.77
# File::Spec any 3.84
# HTTP::Date 6 6.05
# IO::Compress::Bzip2 2.021 2.106
# IO::Compress::Deflate any 2.106
# IO::Compress::Gzip any 2.106
# IO::HTML any 1.004
# IO::Uncompress::Inflate any 2.106
# IO::Uncompress::RawInflate any 2.106
# LWP::MediaTypes 6 6.04
# MIME::Base64 2.1 3.16
# MIME::QuotedPrint any 3.16
# URI 1.10 5.16
# parent any 0.238
# strict any 1.12
# warnings any 1.58
#
# === Runtime Recommends ===
#
# Module Want Have
# ---------------------- -------- -------
# IO::Compress::Brotli 0.004001 missing
# IO::Uncompress::Brotli 0.004001 missing
#
# === Runtime Suggests ===
#
# Module Want Have
# ------ ---- ----
# Clone any 0.46
#
t/00-report-prereqs.t .......... ok
t/common-req.t ................. ok
t/headers-auth.t ............... ok
t/headers-etag.t ............... ok
t/headers-util.t ............... ok
t/headers.t .................... ok
t/http-config.t ................ ok
t/message-brotli.t ............. skipped: Need IO::Compress::Brotli, IO::Uncompress::Brotli
t/message-charset.t ............ ok
t/message-decode-brotlibomb.t .. skipped: Need IO::Compress::Brotli, IO::Uncompress::Brotli
t/message-decode-bzipbomb.t .... ok
t/message-decode-xml.t ......... ok
t/message-decode-zipbomb.t ..... ok
t/message-old.t ................ ok
t/message-parts.t .............. ok
t/message.t .................... ok
t/request.t .................... ok
t/request_type_with_data.t ..... ok
t/response.t ................... ok
t/status-old.t ................. ok
t/status.t ..................... ok
All tests successful.
Files=21, Tests=836, 2 wallclock secs ( 0.09 usr 0.02 sys + 2.44 cusr 0.20 csys = 2.75 CPU)
Result: PASS
------------------------------
PREREQUISITES
------------------------------
Prerequisite modules loaded:
requires:
Module Need Have
-------------------------- -------- --------
Carp 0 1.52
Compress::Raw::Bzip2 0 2.103
Compress::Raw::Zlib 0 2.105
Encode 3.01 3.17
Encode::Locale 1 1.05
Exporter 5.57 5.77
File::Spec 0 3.84
HTTP::Date 6 6.05
IO::Compress::Bzip2 2.021 2.106
IO::Compress::Deflate 0 2.106
IO::Compress::Gzip 0 2.106
IO::HTML 0 1.004
IO::Uncompress::Inflate 0 2.106
IO::Uncompress::RawInflate 0 2.106
LWP::MediaTypes 6 6.04
MIME::Base64 2.1 3.16
MIME::QuotedPrint 0 3.16
parent 0 0.238
perl 5.008001 5.036000
strict 0 1.12
URI 1.10 5.16
warnings 0 1.58
build_requires:
Module Need Have
-------------------------- -------- --------
ExtUtils::MakeMaker 0 7.64
File::Spec 0 3.84
File::Temp 0 0.2311
lib 0 0.65
overload 0 1.35
PerlIO::encoding 0 0.30
Test::More 0.88 1.302190
Test::Needs 0 0.002009
Time::Local 0 1.30
Try::Tiny 0 0.31
URI::URL 0 5.16
configure_requires:
Module Need Have
-------------------------- -------- --------
ExtUtils::MakeMaker 0 7.64
perl 5.006 5.036000
------------------------------
ENVIRONMENT AND OTHER CONTEXT
------------------------------
Environment variables:
LANG = C
PATH = /usr/local/bin:/usr/bin:/bin:/usr/local/sbin:/usr/sbin:/sbin:/home/cpansand/bin/linux-gnu:/home/cpansand/bin/sh:/home/cpansand/bin:/usr/games:/home/cpansand/devel:/home/eserte/src/srezic-misc/scripts
PERL5LIB =
PERL5OPT =
PERL5_CPANPLUS_IS_RUNNING = 26282
PERL5_CPAN_IS_RUNNING = 26282
PERL5_CPAN_IS_RUNNING_IN_RECURSION = 26209,26282
PERLDOC = -MPod::Perldoc::ToTextOverstrike
PERL_BATCH = yes
PERL_CANARY_STABILITY_NOPROMPT = 1
PERL_CPAN_REPORTER_CONFIG = /var/tmp/cpansmoker-1023/2022102216/cpanreporter_000_config.ini
PERL_EXTUTILS_AUTOINSTALL = --defaultdeps
PERL_USE_UNSAFE_INC = 1
SHELL = /usr/bin/zsh
TERM = screen
TMPDIR = /var/tmp/cpansmoker-1023/2022102216
Perl special variables (and OS-specific diagnostics, for MSWin32):
$^X = /opt/perl-5.36.0t/bin/perl
$UID/$EUID = 1023 / 1023
$GID = 1023 1023
$EGID = 1023 1023
Perl module toolchain versions installed:
Module Have
------------------- --------
CPAN 2.33
CPAN::Meta 2.150010
Cwd 3.84
ExtUtils::CBuilder 0.280236
ExtUtils::Command 7.64
ExtUtils::Install 2.20
ExtUtils::MakeMaker 7.64
ExtUtils::Manifest 1.73
ExtUtils::ParseXS 3.45
File::Spec 3.84
JSON 4.10
JSON::PP 4.12
Module::Build 0.4231
Module::Signature n/a
Parse::CPAN::Meta 2.150010
Test::Harness 3.44
Test::More 1.302190
YAML 1.30
YAML::Syck 1.34
version 0.9929
--
Summary of my perl5 (revision 5 version 36 subversion 0) configuration:
Platform:
osname=linux
osvers=4.19.0-21-amd64
archname=x86_64-linux-thread-multi
uname='linux cloud12.bbbike.org 4.19.0-21-amd64 #1 smp debian 4.19.249-2 (2022-06-30) x86_64 gnulinux '
config_args='-ds -e -Dprefix=/opt/perl-5.36.0t -Dusethreads -Dcf_email=srezic@cpan.org'
hint=recommended
useposix=true
d_sigaction=define
useithreads=define
usemultiplicity=define
use64bitint=define
use64bitall=define
uselongdouble=undef
usemymalloc=n
default_inc_excludes_dot=define
Compiler:
cc='cc'
ccflags ='-D_REENTRANT -D_GNU_SOURCE -fwrapv -fno-strict-aliasing -pipe -fstack-protector-strong -I/usr/local/include -D_LARGEFILE_SOURCE -D_FILE_OFFSET_BITS=64 -D_FORTIFY_SOURCE=2'
optimize='-O2'
cppflags='-D_REENTRANT -D_GNU_SOURCE -fwrapv -fno-strict-aliasing -pipe -fstack-protector-strong -I/usr/local/include'
ccversion=''
gccversion='8.3.0'
gccosandvers=''
intsize=4
longsize=8
ptrsize=8
doublesize=8
byteorder=12345678
doublekind=3
d_longlong=define
longlongsize=8
d_longdbl=define
longdblsize=16
longdblkind=3
ivtype='long'
ivsize=8
nvtype='double'
nvsize=8
Off_t='off_t'
lseeksize=8
alignbytes=8
prototype=define
Linker and Libraries:
ld='cc'
ldflags =' -fstack-protector-strong -L/usr/local/lib'
libpth=/usr/local/lib /usr/lib/x86_64-linux-gnu /usr/lib /usr/lib64
libs=-lpthread -lnsl -lgdbm -ldb -ldl -lm -lcrypt -lutil -lc
perllibs=-lpthread -lnsl -ldl -lm -lcrypt -lutil -lc
libc=libc-2.28.so
so=so
useshrplib=false
libperl=libperl.a
gnulibc_version='2.28'
Dynamic Linking:
dlsrc=dl_dlopen.xs
dlext=so
d_dlsymun=undef
ccdlflags='-Wl,-E'
cccdlflags='-fPIC'
lddlflags='-shared -O2 -L/usr/local/lib -fstack-protector-strong'
Characteristics of this binary (from libperl):
Compile-time options:
HAS_TIMES
MULTIPLICITY
PERLIO_LAYERS
PERL_COPY_ON_WRITE
PERL_DONT_CREATE_GVSV
PERL_MALLOC_WRAP
PERL_OP_PARENT
PERL_PRESERVE_IVUV
USE_64_BIT_ALL
USE_64_BIT_INT
USE_ITHREADS
USE_LARGE_FILES
USE_LOCALE
USE_LOCALE_COLLATE
USE_LOCALE_CTYPE
USE_LOCALE_NUMERIC
USE_LOCALE_TIME
USE_PERLIO
USE_PERL_ATOF
USE_REENTRANT_API
USE_THREAD_SAFE_LOCALE
Built under linux
Compiled at Oct 7 2022 18:23:20
%ENV:
PERL5LIB=""
PERL5OPT=""
PERL5_CPANPLUS_IS_RUNNING="26282"
PERL5_CPAN_IS_RUNNING="26282"
PERL5_CPAN_IS_RUNNING_IN_RECURSION="26209,26282"
PERLDOC="-MPod::Perldoc::ToTextOverstrike"
PERL_BATCH="yes"
PERL_CANARY_STABILITY_NOPROMPT="1"
PERL_CPAN_REPORTER_CONFIG="/var/tmp/cpansmoker-1023/2022102216/cpanreporter_000_config.ini"
PERL_EXTUTILS_AUTOINSTALL="--defaultdeps"
PERL_USE_UNSAFE_INC="1"
@INC:
/opt/perl-5.36.0t/lib/site_perl/5.36.0/x86_64-linux-thread-multi
/opt/perl-5.36.0t/lib/site_perl/5.36.0
/opt/perl-5.36.0t/lib/5.36.0/x86_64-linux-thread-multi
/opt/perl-5.36.0t/lib/5.36.0
.