Net-Statsd-Server v0.20 Perl 5 v5.43.2 amd64-netbsd
- Status
- Pass
- From
- Carlos Guevara
- Dist
-
Net-Statsd-Server v0.20
- Platform
- Perl 5 v5.43.2 amd64-netbsd
- Date
- 2025-08-15 11:15:03
- ID
- 1744c6b2-79c9-11f0-bf3c-87d16fe967b5
This distribution has been tested as part of the CPAN Testers
project, supporting the Perl programming language. See
http://wiki.cpantesters.org/ for more information or email
questions to cpan-testers-discuss@perl.org
--
Dear Cosimo Streppone,
This is a computer-generated report for Net-Statsd-Server-0.20
on perl 5.43.2, created by CPAN-Reporter-1.2020.
Thank you for uploading your work to CPAN. Congratulations!
All tests were successful.
Sections of this report:
* Tester comments
* Program output
* Prerequisites
* Environment and other context
------------------------------
TESTER COMMENTS
------------------------------
Additional comments from tester:
this report is from an automated smoke testing program
and was not reviewed by a human for accuracy
------------------------------
PROGRAM OUTPUT
------------------------------
Output from '/usr/bin/make test':
PERL_DL_NONLAZY=1 "/home/cpan/bin/perl/bin/perl5.43.2" "-MExtUtils::Command::MM" "-MTest::Harness" "-e" "undef *Test::Harness::Switches; test_harness(0, 'blib/lib', 'blib/arch')" t/*.t t/integration-tests/*.t
t/000-sanity.t ............................. ok
t/config.t ................................. ok
t/graphite.t ............................... ok
2025-08-15 07:14:52.000000 -0400 note Net::Statsd::Server: Initializing Net::Statsd::Server::Backend::Console backend
2025-08-15 07:14:52.000000 -0400 note Net::Statsd::Server: Initializing Net::Statsd::Server::Backend::Graphite backend
2025-08-15 07:14:52.000000 -0400 info AnyEvent: Autoloaded model 'AnyEvent::Impl::Perl', using it.
Couldn't set SO_RCVBUF: No buffer space available at /home/cpan/.cpan/build/Net-Statsd-Server-0.20-0/bin/../lib/Net/Statsd/Server.pm line 709.
2025-08-15 07:14:52.472287 -0400 note Net::Statsd::Server: statsd server started on 0.0.0.0:40001 (v0.17)
2025-08-15 07:14:52.472387 -0400 note Net::Statsd::Server: manager interface started on 0.0.0.0:40002
2025-08-15 07:14:52.472477 -0400 note Net::Statsd::Server: metrics flush will happen every 1s
2025-08-15 07:14:52.940216 -0400 warn Net::Statsd::Server: Bad line: 1 in msg "a_bad_test_value|z"
2025-08-15 07:14:53.485541 -0400 note Net::Statsd::Server: flushing metrics
Flushing stats at Fri Aug 15 07:14:53 2025
{"sets":null,"timers":{},"timer_data":{},"gauges":{},"counter_rates":{"statsd.bad_lines_seen":1,"statsd.packets_received":1},"counters":{"statsd.bad_lines_seen":1,"statsd.packets_received":1},"pctThreshold":[90]}
t/integration-tests/bad-message.t .......... ok
2025-08-15 07:14:53.000000 -0400 note Net::Statsd::Server: Initializing Net::Statsd::Server::Backend::Console backend
2025-08-15 07:14:53.000000 -0400 note Net::Statsd::Server: Initializing Net::Statsd::Server::Backend::Graphite backend
2025-08-15 07:14:53.000000 -0400 info AnyEvent: Autoloaded model 'AnyEvent::Impl::Perl', using it.
Couldn't set SO_RCVBUF: No buffer space available at /home/cpan/.cpan/build/Net-Statsd-Server-0.20-0/bin/../lib/Net/Statsd/Server.pm line 709.
2025-08-15 07:14:53.639550 -0400 note Net::Statsd::Server: statsd server started on 0.0.0.0:40001 (v0.17)
2025-08-15 07:14:53.639651 -0400 note Net::Statsd::Server: manager interface started on 0.0.0.0:40002
2025-08-15 07:14:53.639744 -0400 note Net::Statsd::Server: metrics flush will happen every 1s
2025-08-15 07:14:54.652997 -0400 note Net::Statsd::Server: flushing metrics
Flushing stats at Fri Aug 15 07:14:54 2025
{"gauges":{},"pctThreshold":[90],"timer_data":{},"sets":null,"counter_rates":{"a_test_value":100,"statsd.packets_received":1,"statsd.bad_lines_seen":0},"counters":{"a_test_value":100,"statsd.packets_received":1,"statsd.bad_lines_seen":0},"timers":{}}
# stats.counters.a_test_value.rate 100.000000 1755256494
# stats.counters.a_test_value.count 100 1755256494
# stats.counters.statsd.packets_received.rate 1.000000 1755256494
# stats.counters.statsd.packets_received.count 1 1755256494
# stats.counters.statsd.bad_lines_seen.rate 0.000000 1755256494
# stats.counters.statsd.bad_lines_seen.count 0 1755256494
# stats.statsd.numStats 3 1755256494
# stats.statsd.graphiteStats.calculationtime 0.112000 1755256494
# stats.statsd.processing_time 0.053 1755256494
# stats.statsd.graphiteStats.last_exception 139445068782184 1755256494
# stats.statsd.graphiteStats.last_flush 139445068782184 1755256494
t/integration-tests/counts-are-valid.t ..... ok
2025-08-15 07:14:54.000000 -0400 note Net::Statsd::Server: Initializing Net::Statsd::Server::Backend::Graphite backend
2025-08-15 07:14:54.000000 -0400 info AnyEvent: Autoloaded model 'AnyEvent::Impl::Perl', using it.
Couldn't set SO_RCVBUF: No buffer space available at /home/cpan/.cpan/build/Net-Statsd-Server-0.20-0/bin/../lib/Net/Statsd/Server.pm line 709.
2025-08-15 07:14:54.807607 -0400 note Net::Statsd::Server: statsd server started on 0.0.0.0:40001 (v0.17)
2025-08-15 07:14:54.807707 -0400 note Net::Statsd::Server: manager interface started on 0.0.0.0:40002
2025-08-15 07:14:54.807817 -0400 note Net::Statsd::Server: metrics flush will happen every 1s
2025-08-15 07:14:55.830660 -0400 note Net::Statsd::Server: flushing metrics
# First flush. Test gauge should be there.
2025-08-15 07:14:56.836078 -0400 note Net::Statsd::Server: flushing metrics
# Second flush. deleteGauges=false should keep the test gauge.
t/integration-tests/delete-gauges-false.t .. ok
2025-08-15 07:14:57.000000 -0400 note Net::Statsd::Server: Initializing Net::Statsd::Server::Backend::Graphite backend
2025-08-15 07:14:57.000000 -0400 info AnyEvent: Autoloaded model 'AnyEvent::Impl::Perl', using it.
Couldn't set SO_RCVBUF: No buffer space available at /home/cpan/.cpan/build/Net-Statsd-Server-0.20-0/bin/../lib/Net/Statsd/Server.pm line 709.
2025-08-15 07:14:57.038671 -0400 note Net::Statsd::Server: statsd server started on 0.0.0.0:40001 (v0.17)
2025-08-15 07:14:57.038774 -0400 note Net::Statsd::Server: manager interface started on 0.0.0.0:40002
2025-08-15 07:14:57.038868 -0400 note Net::Statsd::Server: metrics flush will happen every 1s
2025-08-15 07:14:58.063916 -0400 note Net::Statsd::Server: flushing metrics
# First flush. Test gauge should be there.
2025-08-15 07:14:59.068671 -0400 note Net::Statsd::Server: flushing metrics
# Second flush. deleteIdleStats should have cleared the test gauge.
t/integration-tests/delete-idle-stats.t .... ok
2025-08-15 07:14:59.000000 -0400 note Net::Statsd::Server: Initializing Net::Statsd::Server::Backend::Console backend
2025-08-15 07:14:59.000000 -0400 note Net::Statsd::Server: Initializing Net::Statsd::Server::Backend::Graphite backend
2025-08-15 07:14:59.000000 -0400 info AnyEvent: Autoloaded model 'AnyEvent::Impl::Perl', using it.
Couldn't set SO_RCVBUF: No buffer space available at /home/cpan/.cpan/build/Net-Statsd-Server-0.20-0/bin/../lib/Net/Statsd/Server.pm line 709.
2025-08-15 07:14:59.247168 -0400 note Net::Statsd::Server: statsd server started on 0.0.0.0:40001 (v0.17)
2025-08-15 07:14:59.247273 -0400 note Net::Statsd::Server: manager interface started on 0.0.0.0:40002
2025-08-15 07:14:59.247370 -0400 note Net::Statsd::Server: metrics flush will happen every 1s
2025-08-15 07:15:00.266784 -0400 note Net::Statsd::Server: flushing metrics
Flushing stats at Fri Aug 15 07:15:00 2025
{"timers":{},"sets":null,"pctThreshold":[90],"gauges":{},"counter_rates":{"statsd.packets_received":1,"statsd.bad_lines_seen":0,"a_test_value,category=web,severity=high":100},"counters":{"statsd.packets_received":1,"statsd.bad_lines_seen":0,"a_test_value,category=web,severity=high":100},"timer_data":{}}
# stats.counters.statsd.packets_received.rate 1.000000 1755256500
# stats.counters.statsd.packets_received.count 1 1755256500
# stats.counters.statsd.bad_lines_seen.rate 0.000000 1755256500
# stats.counters.statsd.bad_lines_seen.count 0 1755256500
# stats.counters.a_test_value,category=web,severity=high.rate 100.000000 1755256500
# stats.counters.a_test_value,category=web,severity=high.count 100 1755256500
# stats.statsd.numStats 3 1755256500
# stats.statsd.graphiteStats.calculationtime 0.086000 1755256500
# stats.statsd.processing_time 0.055 1755256500
# stats.statsd.graphiteStats.last_exception 139842190449256 1755256500
# stats.statsd.graphiteStats.last_flush 139842190449256 1755256500
t/integration-tests/keys-with-tags.t ....... ok
2025-08-15 07:15:00.000000 -0400 note Net::Statsd::Server: Initializing Net::Statsd::Server::Backend::Graphite backend
2025-08-15 07:15:00.000000 -0400 info AnyEvent: Autoloaded model 'AnyEvent::Impl::Perl', using it.
Couldn't set SO_RCVBUF: No buffer space available at /home/cpan/.cpan/build/Net-Statsd-Server-0.20-0/bin/../lib/Net/Statsd/Server.pm line 709.
2025-08-15 07:15:00.420933 -0400 note Net::Statsd::Server: statsd server started on 0.0.0.0:40001 (v0.17)
2025-08-15 07:15:00.421037 -0400 note Net::Statsd::Server: manager interface started on 0.0.0.0:40002
2025-08-15 07:15:00.421150 -0400 note Net::Statsd::Server: metrics flush will happen every 1s
# Expected mean value is 1999.56
2025-08-15 07:15:01.434226 -0400 note Net::Statsd::Server: flushing metrics
# stats.counters.statsd.bad_lines_seen.rate 0.000000 1755256501
# stats.counters.statsd.bad_lines_seen.count 0 1755256501
# stats.counters.statsd.packets_received.rate 100.000000 1755256501
# stats.counters.statsd.packets_received.count 100 1755256501
# stats.timers.read_latency.sum_98 194014.000000 1755256501
# stats.timers.read_latency.upper_95 2925.000000 1755256501
# stats.timers.read_latency.sum_squares_99 424743257.000000 1755256501
# stats.timers.read_latency.std 580.913751 1755256501
# stats.timers.read_latency.sum_squares_95 389885477.000000 1755256501
# stats.timers.read_latency.count_99 99.000000 1755256501
# stats.timers.read_latency.upper_99 2971.000000 1755256501
# stats.timers.read_latency.mean 1999.560000 1755256501
# stats.timers.read_latency.lower 1009.000000 1755256501
# stats.timers.read_latency.count_ps 100.000000 1755256501
# stats.timers.read_latency.count_95 95.000000 1755256501
# stats.timers.read_latency.sum_95 185177.000000 1755256501
# stats.timers.read_latency.sum_squares 433570098.000000 1755256501
# stats.timers.read_latency.sum_squares_98 415916416.000000 1755256501
# stats.timers.read_latency.upper_98 2953.000000 1755256501
# stats.timers.read_latency.mean_99 1989.747475 1755256501
# stats.timers.read_latency.mean_98 1979.734694 1755256501
# stats.timers.read_latency.sum 199956.000000 1755256501
# stats.timers.read_latency.count 100.000000 1755256501
# stats.timers.read_latency.mean_95 1949.231579 1755256501
# stats.timers.read_latency.count_98 98.000000 1755256501
# stats.timers.read_latency.upper 2971.000000 1755256501
# stats.timers.read_latency.sum_99 196985.000000 1755256501
# stats.timers.read_latency.median 1915.000000 1755256501
# stats.statsd.numStats 3 1755256501
# stats.statsd.graphiteStats.calculationtime 0.200000 1755256501
# stats.statsd.processing_time 0.505 1755256501
# stats.statsd.graphiteStats.last_exception 124042133817960 1755256501
# stats.statsd.graphiteStats.last_flush 124042133817960 1755256501
t/integration-tests/percent-threshold.t .... ok
2025-08-15 07:15:01.000000 -0400 note Net::Statsd::Server: Initializing Net::Statsd::Server::Backend::Console backend
2025-08-15 07:15:01.000000 -0400 note Net::Statsd::Server: Initializing Net::Statsd::Server::Backend::Graphite backend
2025-08-15 07:15:01.000000 -0400 info AnyEvent: Autoloaded model 'AnyEvent::Impl::Perl', using it.
Couldn't set SO_RCVBUF: No buffer space available at /home/cpan/.cpan/build/Net-Statsd-Server-0.20-0/bin/../lib/Net/Statsd/Server.pm line 709.
2025-08-15 07:15:01.584621 -0400 note Net::Statsd::Server: statsd server started on 0.0.0.0:40001 (v0.17)
2025-08-15 07:15:01.584723 -0400 note Net::Statsd::Server: manager interface started on 0.0.0.0:40002
2025-08-15 07:15:01.584819 -0400 note Net::Statsd::Server: metrics flush will happen every 1s
2025-08-15 07:15:02.601600 -0400 note Net::Statsd::Server: flushing metrics
Flushing stats at Fri Aug 15 07:15:02 2025
{"counter_rates":{"statsd.packets_received":1,"statsd.bad_lines_seen":0},"sets":null,"timer_data":{"a_test_value":{"sum_90":"100","mean":100,"sum":"100","std":0,"upper":"100","count":1,"lower":"100","sum_squares":10000,"upper_90":"100","count_90":1,"sum_squares_90":10000,"median":"100","mean_90":"100","count_ps":1}},"gauges":{},"timers":{"a_test_value":["100"]},"counters":{"statsd.packets_received":1,"statsd.bad_lines_seen":0},"pctThreshold":["90"]}
# stats.counters.statsd.packets_received.rate 1.000000 1755256502
# stats.counters.statsd.packets_received.count 1 1755256502
# stats.counters.statsd.bad_lines_seen.rate 0.000000 1755256502
# stats.counters.statsd.bad_lines_seen.count 0 1755256502
# stats.timers.a_test_value.sum_90 100.000000 1755256502
# stats.timers.a_test_value.mean 100.000000 1755256502
# stats.timers.a_test_value.sum 100.000000 1755256502
# stats.timers.a_test_value.std 0.000000 1755256502
# stats.timers.a_test_value.upper 100.000000 1755256502
# stats.timers.a_test_value.count 1.000000 1755256502
# stats.timers.a_test_value.lower 100.000000 1755256502
# stats.timers.a_test_value.sum_squares 10000.000000 1755256502
# stats.timers.a_test_value.upper_90 100.000000 1755256502
# stats.timers.a_test_value.count_90 1.000000 1755256502
# stats.timers.a_test_value.sum_squares_90 10000.000000 1755256502
# stats.timers.a_test_value.median 100.000000 1755256502
# stats.timers.a_test_value.mean_90 100.000000 1755256502
# stats.timers.a_test_value.count_ps 1.000000 1755256502
# stats.statsd.numStats 3 1755256502
# stats.statsd.graphiteStats.calculationtime 0.170000 1755256502
# stats.statsd.processing_time 0.129 1755256502
# stats.statsd.graphiteStats.last_exception 126225311083112 1755256502
# stats.statsd.graphiteStats.last_flush 126225311083112 1755256502
t/integration-tests/timers-are-valid.t ..... ok
t/process-metrics.t ........................ ok
t/trim.t ................................... ok
All tests successful.
Files=12, Tests=92, 10 wallclock secs ( 0.06 usr 0.03 sys + 0.87 cusr 0.22 csys = 1.18 CPU)
Result: PASS
------------------------------
PREREQUISITES
------------------------------
Prerequisite modules loaded:
requires:
Module Need Have
--------------------- ---- --------
AnyEvent::Handle::UDP 0 0.050
IO::Socket::INET 0 1.55
JSON::XS 0 4.03
build_requires:
Module Need Have
--------------------- ---- --------
ExtUtils::MakeMaker 0 7.76
Test::More 0 1.302214
configure_requires:
Module Need Have
--------------------- ---- --------
ExtUtils::MakeMaker 0 7.76
------------------------------
ENVIRONMENT AND OTHER CONTEXT
------------------------------
Environment variables:
AUTOMATED_TESTING = 1
DATE_MANIP_TEST_DM5 = 1
LC_ALL = C
NONINTERACTIVE_TESTING = 1
NO_NETWORK_TESTING = 1
PATH = /home/cpan/bin/perl/bin:/home/cpan/bin:/home/cpan/bin:/bin:/sbin:/usr/bin:/usr/sbin:/usr/X11R7/bin:/usr/pkg/bin:/usr/pkg/sbin:/usr/games:/usr/local/bin:/usr/local/sbin
PERL5LIB =
PERL5OPT =
PERL5_CPANPLUS_IS_RUNNING = 17918
PERL5_CPAN_IS_RUNNING = 17918
PERL_MM_USE_DEFAULT = 1
PERL_PERTURB_KEYS = 0
PERL_USE_UNSAFE_INC = 1
SHELL = /usr/pkg/bin/bash
TERM = screen
TMPDIR = /home/cpan/tmp
Perl special variables (and OS-specific diagnostics, for MSWin32):
$^X = /home/cpan/bin/perl/bin/perl5.43.2
$UID/$EUID = 1003 / 1003
$GID = 100 100
$EGID = 100 100
Perl module toolchain versions installed:
Module Have
------------------- --------
CPAN 2.38
CPAN::Meta 2.150010
Cwd 3.94
ExtUtils::CBuilder 0.280242
ExtUtils::Command 7.76
ExtUtils::Install 2.22
ExtUtils::MakeMaker 7.76
ExtUtils::Manifest 1.75
ExtUtils::ParseXS 3.59
File::Spec 3.94
JSON 4.10
JSON::PP 4.16
Module::Build 0.4234
Module::Signature n/a
Parse::CPAN::Meta 2.150010
Test2 1.302214
Test::Harness 3.52
Test::More 1.302214
YAML 1.31
YAML::Syck 1.34
version 0.9933
--
Summary of my perl5 (revision 5 version 43 subversion 2) configuration:
Commit id: a7eccf4c2396f1609709ef0f81871662d4673ec6
Platform:
osname=netbsd
osvers=10.1
archname=amd64-netbsd
uname='netbsd cjg-netbsd10 10.1 netbsd 10.1 (generic) #0: mon dec 16 13:08:11 utc 2024 mkrepro@mkrepro.netbsd.org:usrsrcsysarchamd64compilegeneric amd64 '
config_args='-des -Dprefix=/home/cpan/bin/perl -Dscriptdir=/home/cpan/bin/perl/bin -Dusedevel -Duse64bitall'
hint=recommended
useposix=true
d_sigaction=define
useithreads=undef
usemultiplicity=undef
use64bitint=define
use64bitall=define
uselongdouble=undef
usemymalloc=n
default_inc_excludes_dot=define
Compiler:
cc='cc'
ccflags ='-fwrapv -fno-strict-aliasing -pipe -fstack-protector-strong -I/usr/pkg/include -D_FORTIFY_SOURCE=2'
optimize='-O'
cppflags='-fwrapv -fno-strict-aliasing -pipe -fstack-protector-strong -I/usr/pkg/include'
ccversion=''
gccversion='10.5.0'
gccosandvers=''
intsize=4
longsize=8
ptrsize=8
doublesize=8
byteorder=12345678
doublekind=3
d_longlong=define
longlongsize=8
d_longdbl=define
longdblsize=16
longdblkind=3
ivtype='long'
ivsize=8
nvtype='double'
nvsize=8
Off_t='off_t'
lseeksize=8
alignbytes=8
prototype=define
Linker and Libraries:
ld='cc'
ldflags =' -Wl,-rpath,/usr/pkg/lib -Wl,-rpath,/usr/local/lib -fstack-protector-strong -L/usr/pkg/lib'
libpth=/usr/lib /usr/pkg/lib /lib
libs=-lpthread -lm -lcrypt -lutil -lc -lposix
perllibs=-lpthread -lm -lcrypt -lutil -lc -lposix
libc=/lib/libc.so
so=so
useshrplib=false
libperl=libperl.a
gnulibc_version=''
Dynamic Linking:
dlsrc=dl_dlopen.xs
dlext=so
d_dlsymun=undef
ccdlflags='-Wl,-E '
cccdlflags='-DPIC -fPIC '
lddlflags='-shared -L/usr/pkg/lib -fstack-protector-strong'
Characteristics of this binary (from libperl):
Compile-time options:
HAS_LONG_DOUBLE
HAS_STRTOLD
HAS_TIMES
PERLIO_LAYERS
PERL_COPY_ON_WRITE
PERL_DONT_CREATE_GVSV
PERL_HASH_FUNC_SIPHASH13
PERL_HASH_USE_SBOX32
PERL_MALLOC_WRAP
PERL_OP_PARENT
PERL_PRESERVE_IVUV
PERL_USE_DEVEL
PERL_USE_SAFE_PUTENV
USE_64_BIT_ALL
USE_64_BIT_INT
USE_LARGE_FILES
USE_LOCALE
USE_LOCALE_COLLATE
USE_LOCALE_CTYPE
USE_LOCALE_NUMERIC
USE_LOCALE_TIME
USE_PERLIO
USE_PERL_ATOF
Built under netbsd
Compiled at Aug 14 2025 23:12:53
%ENV:
PERL5LIB=""
PERL5OPT=""
PERL5_CPANPLUS_IS_RUNNING="17918"
PERL5_CPAN_IS_RUNNING="17918"
PERL_MM_USE_DEFAULT="1"
PERL_PERTURB_KEYS="0"
PERL_USE_UNSAFE_INC="1"
@INC:
/home/cpan/bin/perl/lib/site_perl/5.43.2/amd64-netbsd
/home/cpan/bin/perl/lib/site_perl/5.43.2
/home/cpan/bin/perl/lib/5.43.2/amd64-netbsd
/home/cpan/bin/perl/lib/5.43.2
.