TAP-DOM v0.93 Perl 5 v5.30.3 x86_64-linux-thread-multi

Status
Pass
From
Slaven Rezić
Dist
TAP-DOM v0.93
Platform
Perl 5 v5.30.3 x86_64-linux-thread-multi
Date
2021-06-05 10:02:09
ID
174b51a4-c5e5-11eb-9a67-ec491f24ea8f
This distribution has been tested as part of the CPAN Testers
project, supporting the Perl programming language.  See
http://wiki.cpantesters.org/ for more information or email
questions to cpan-testers-discuss@perl.org


--
Dear Steffen Schwigon,

This is a computer-generated report for TAP-DOM-0.93
on perl 5.30.3, created by CPAN-Reporter-1.2018.

Thank you for uploading your work to CPAN.  Congratulations!
All tests were successful.

Sections of this report:

    * Tester comments
    * Program output
    * Prerequisites
    * Environment and other context

------------------------------
TESTER COMMENTS
------------------------------

Additional comments from tester:

none provided

------------------------------
PROGRAM OUTPUT
------------------------------

Output from '/usr/bin/make test':

PERL_DL_NONLAZY=1 "/opt/perl-5.30.3t/bin/perl" "-MExtUtils::Command::MM" "-MTest::Harness" "-e" "undef *Test::Harness::Switches; test_harness(0, 'blib/lib', 'blib/arch')" t/*.t
t/00-compile.t ........................... ok
t/00-load.t .............................. ok
t/author-eol.t ........................... skipped: these tests are for testing by the author
t/author-no-tabs.t ....................... skipped: these tests are for testing by the author
t/author-pod-syntax.t .................... skipped: these tests are for testing by the author
t/dom2tap.t .............................. ok
t/release-pod-coverage.t ................. skipped: these tests are for release candidate testing
t/tap_archive.t .......................... ok
t/tap_dom.t .............................. ok
t/tap_dom2.t ............................. ok
t/tap_dom3.t ............................. ok
t/tap_dom4.t ............................. ok
t/tap_dom5_usebitsets.t .................. ok
t/tap_dom6_autotapversion.t .............. ok
t/tap_dom7_taplevel.t .................... ok
t/tap_dom_document_data.t ................ ok
# 
# === complete TAP-DOM:
# 
# === complete TAP-DOM with pre-processing TAP:
# 
# === terse TAP-DOM without pre-process:
# 
# === terse TAP-DOM with pre-process tap:
# 
# === terse TAP-DOM with pre-process tap:
t/tap_dom_dontignore_lines.t ............. ok
# 
# === complete TAP-DOM:
# 
# === complete TAP-DOM with pre-processing TAP:
# 
# === terse TAP-DOM without pre-process:
# 
# === terse TAP-DOM with pre-process tap:
# 
# === terse TAP-DOM with pre-process tap:
t/tap_dom_ignore_lines.t ................. ok
t/tap_dom_key_values.t ................... ok
t/tap_dom_key_values_case_insensitive.t .. ok
# 
# === complete TAP-DOM:
t/tap_dom_pragma.t ....................... ok
t/tap_dom_whitespace.t ................... ok
All tests successful.
Files=22, Tests=742,  2 wallclock secs ( 0.08 usr  0.16 sys +  1.44 cusr  0.45 csys =  2.13 CPU)
Result: PASS

------------------------------
PREREQUISITES
------------------------------

Prerequisite modules loaded:

requires:

    Module                  Need  Have    
    ----------------------- ----- --------
    Archive::Tar            0     2.38    
    Class::XSAccessor       1.05  1.19    
    Data::Dumper            0     2.181   
    Exporter                0     5.74    
    IO::String              0     1.08    
    IO::Zlib                0     1.11    
    parent                  0     0.237   
    perl                    5.006 5.030003
    Scalar::Util            0     1.56    
    strict                  0     1.11    
    TAP::Parser             0     3.42    
    TAP::Parser::Aggregator 0     3.42    
    Test::Harness           3.0   3.42    
    warnings                0     1.44    
    YAML::Syck              0     1.34    
    YAML::Tiny              0     1.73    

build_requires:

    Module                  Need  Have    
    ----------------------- ----- --------
    blib                    1.01  1.07    
    ExtUtils::MakeMaker     0     7.62    
    File::Spec              0     3.78    
    IO::Handle              0     1.45    
    IPC::Open3              0     1.20    
    Test::More              0.88  1.302185

configure_requires:

    Module                  Need  Have    
    ----------------------- ----- --------
    ExtUtils::MakeMaker     0     7.62    


------------------------------
ENVIRONMENT AND OTHER CONTEXT
------------------------------

Environment variables:

    LANG = en_US.UTF-8
    PATH = /usr/local/bin:/usr/bin:/bin:/usr/local/sbin:/usr/sbin:/sbin:/home/cpansand/bin/linux-gnu:/home/cpansand/bin/sh:/home/cpansand/bin:/usr/games:/home/cpansand/devel:/home/eserte/src/srezic-misc/scripts
    PERL5LIB = 
    PERL5OPT = 
    PERL5_CPANPLUS_IS_RUNNING = 8423
    PERL5_CPAN_IS_RUNNING = 8423
    PERL5_CPAN_IS_RUNNING_IN_RECURSION = 6622,8423
    PERLDOC = -MPod::Perldoc::ToTextOverstrike
    PERL_BATCH = yes
    PERL_CANARY_STABILITY_NOPROMPT = 1
    PERL_CPAN_REPORTER_CONFIG = /var/tmp/cpansmoker-1023/2021060509/cpanreporter_000_config.ini
    PERL_EXTUTILS_AUTOINSTALL = --defaultdeps
    PERL_USE_UNSAFE_INC = 1
    SHELL = /usr/bin/zsh
    TERM = screen
    TMPDIR = /var/tmp/cpansmoker-1023/2021060509

Perl special variables (and OS-specific diagnostics, for MSWin32):

    $^X = /opt/perl-5.30.3t/bin/perl
    $UID/$EUID = 1023 / 1023
    $GID = 1023 1023
    $EGID = 1023 1023

Perl module toolchain versions installed:

    Module              Have    
    ------------------- --------
    CPAN                2.28    
    CPAN::Meta          2.150010
    Cwd                 3.78    
    ExtUtils::CBuilder  0.280236
    ExtUtils::Command   7.62    
    ExtUtils::Install   2.20    
    ExtUtils::MakeMaker 7.62    
    ExtUtils::Manifest  1.73    
    ExtUtils::ParseXS   3.40    
    File::Spec          3.78    
    JSON                4.03    
    JSON::PP            4.06    
    Module::Build       0.4231  
    Module::Signature   0.87    
    Parse::CPAN::Meta   2.150010
    Test::Harness       3.42    
    Test::More          1.302185
    YAML                1.30    
    YAML::Syck          1.34    
    version             0.9929  


--

Summary of my perl5 (revision 5 version 30 subversion 3) configuration:
   
  Platform:
    osname=linux
    osvers=4.15.0-101-generic
    archname=x86_64-linux-thread-multi
    uname='linux ubuntu18 4.15.0-101-generic #102-ubuntu smp mon may 11 10:07:26 utc 2020 x86_64 x86_64 x86_64 gnulinux '
    config_args='-ds -e -Dprefix=/opt/perl-5.30.3t -Dusethreads -Dcf_email=srezic@cpan.org'
    hint=recommended
    useposix=true
    d_sigaction=define
    useithreads=define
    usemultiplicity=define
    use64bitint=define
    use64bitall=define
    uselongdouble=undef
    usemymalloc=n
    default_inc_excludes_dot=define
    bincompat5005=undef
  Compiler:
    cc='cc'
    ccflags ='-D_REENTRANT -D_GNU_SOURCE -fwrapv -fno-strict-aliasing -pipe -fstack-protector-strong -I/usr/local/include -D_LARGEFILE_SOURCE -D_FILE_OFFSET_BITS=64'
    optimize='-O2'
    cppflags='-D_REENTRANT -D_GNU_SOURCE -fwrapv -fno-strict-aliasing -pipe -fstack-protector-strong -I/usr/local/include'
    ccversion=''
    gccversion='7.5.0'
    gccosandvers=''
    intsize=4
    longsize=8
    ptrsize=8
    doublesize=8
    byteorder=12345678
    doublekind=3
    d_longlong=define
    longlongsize=8
    d_longdbl=define
    longdblsize=16
    longdblkind=3
    ivtype='long'
    ivsize=8
    nvtype='double'
    nvsize=8
    Off_t='off_t'
    lseeksize=8
    alignbytes=8
    prototype=define
  Linker and Libraries:
    ld='cc'
    ldflags =' -fstack-protector-strong -L/usr/local/lib'
    libpth=/usr/local/lib /usr/lib/gcc/x86_64-linux-gnu/7/include-fixed /usr/include/x86_64-linux-gnu /usr/lib /lib/x86_64-linux-gnu /lib/../lib /usr/lib/x86_64-linux-gnu /usr/lib/../lib /lib
    libs=-lpthread -lnsl -lgdbm -ldb -ldl -lm -lcrypt -lutil -lc
    perllibs=-lpthread -lnsl -ldl -lm -lcrypt -lutil -lc
    libc=libc-2.27.so
    so=so
    useshrplib=false
    libperl=libperl.a
    gnulibc_version='2.27'
  Dynamic Linking:
    dlsrc=dl_dlopen.xs
    dlext=so
    d_dlsymun=undef
    ccdlflags='-Wl,-E'
    cccdlflags='-fPIC'
    lddlflags='-shared -O2 -L/usr/local/lib -fstack-protector-strong'


Characteristics of this binary (from libperl): 
  Compile-time options:
    HAS_TIMES
    MULTIPLICITY
    PERLIO_LAYERS
    PERL_COPY_ON_WRITE
    PERL_DONT_CREATE_GVSV
    PERL_IMPLICIT_CONTEXT
    PERL_MALLOC_WRAP
    PERL_OP_PARENT
    PERL_PRESERVE_IVUV
    USE_64_BIT_ALL
    USE_64_BIT_INT
    USE_ITHREADS
    USE_LARGE_FILES
    USE_LOCALE
    USE_LOCALE_COLLATE
    USE_LOCALE_CTYPE
    USE_LOCALE_NUMERIC
    USE_LOCALE_TIME
    USE_PERLIO
    USE_PERL_ATOF
    USE_REENTRANT_API
    USE_THREAD_SAFE_LOCALE
  Built under linux
  Compiled at Jun  1 2020 20:03:29
  %ENV:
    PERL5LIB=""
    PERL5OPT=""
    PERL5_CPANPLUS_IS_RUNNING="8423"
    PERL5_CPAN_IS_RUNNING="8423"
    PERL5_CPAN_IS_RUNNING_IN_RECURSION="6622,8423"
    PERLDOC="-MPod::Perldoc::ToTextOverstrike"
    PERL_BATCH="yes"
    PERL_CANARY_STABILITY_NOPROMPT="1"
    PERL_CPAN_REPORTER_CONFIG="/var/tmp/cpansmoker-1023/2021060509/cpanreporter_000_config.ini"
    PERL_EXTUTILS_AUTOINSTALL="--defaultdeps"
    PERL_USE_UNSAFE_INC="1"
  @INC:
    /opt/perl-5.30.3t/lib/site_perl/5.30.3/x86_64-linux-thread-multi
    /opt/perl-5.30.3t/lib/site_perl/5.30.3
    /opt/perl-5.30.3t/lib/5.30.3/x86_64-linux-thread-multi
    /opt/perl-5.30.3t/lib/5.30.3
    .