Report for Sub-MicroSig-0.033

Back
From: metabase:user:838e5b0a-2bb6-1016-a696-43a2537fa0c6
Subject: PASS Sub-MicroSig-0.033 v5.18.1 
Date: 2013-10-25T21:23:07Z

This distribution has been tested as part of the CPAN Testers
project, supporting the Perl programming language.  See
http://wiki.cpantesters.org/ for more information or email
questions to cpan-testers-discuss@perl.org


--
Dear Ricardo SIGNES,

This is a computer-generated report for Sub-MicroSig-0.033
on perl 5.18.1, created by CPAN-Reporter-1.2010.

Thank you for uploading your work to CPAN.  Congratulations!
All tests were successful.

Sections of this report:

    * Tester comments
    * Program output
    * Prerequisites
    * Environment and other context

------------------------------
TESTER COMMENTS
------------------------------

Additional comments from tester:

this report is from an automated smoke testing program
and was not reviewed by a human for accuracy

------------------------------
PROGRAM OUTPUT
------------------------------

Output from 'C:\strawberry\c\bin\dmake.exe test':

C:\strawberry\perl\bin\perl.exe "-MExtUtils::Command::MM" "-MTest::Harness" "-e" "undef *Test::Harness::Switches; test_harness(0, 'blib\lib', 'blib\arch')" t/*.t
Too late to run CHECK block at C:\strawberry\cpan\build\Sub-MicroSig-0.033-JbG388\blib\lib/Sub/MicroSig.pm line 78.
t/00-compile.t ................ ok
# 
# 
# Generated by Dist::Zilla::Plugin::ReportVersions::Tiny v1.10
# perl: 5.018001 (wanted any version) on MSWin32 from C:\strawberry\perl\bin\perl.exe
# 
# Carp                                          => 1.32       (want any version)
# Exporter                                      => 5.68       (want 5.57)   
# ExtUtils::MakeMaker                           => 6.78       (want 6.30)   
# File::Spec                                    => 3.40       (want any version)
# Hook::LexWrap                                 => 0.24       (want any version)
# IO::Handle                                    => 1.34       (want any version)
# IPC::Open3                                    => 1.13       (want any version)
# Params::Validate::Micro                       => 0.032      (want 0.031)  
# Sub::Identify                                 => 0.04       (want any version)
# Test::More                                    => 0.98       (want 0.96)   
# base                                          => 2.18       (want any version)
# strict                                        => 1.07       (want any version)
# warnings                                      => 1.18       (want any version)
# 
# Thanks for using my code.  I hope it works for you.
# If not, please try and include this output in the bug report.
# That will help me reproduce the issue and solve your problem.
# 
t/000-report-versions-tiny.t .. ok
t/basic.t ..................... ok
t/method.t .................... ok
t/typed.t ..................... ok
All tests successful.
Files=5, Tests=33,  1 wallclock secs ( 0.12 usr +  0.02 sys =  0.14 CPU)
Result: PASS

------------------------------
PREREQUISITES
------------------------------

Prerequisite modules loaded:

requires:

    Module                  Need  Have 
    ----------------------- ----- -----
    base                    0     2.18 
    Carp                    0     1.32 
    Exporter                5.57  5.68 
    Hook::LexWrap           0     0.24 
    Params::Validate::Micro 0.031 0.032
    strict                  0     1.07 
    Sub::Identify           0     0.04 
    warnings                0     1.18 

build_requires:

    Module                  Need  Have 
    ----------------------- ----- -----
    File::Spec              0     3.40 
    IO::Handle              0     1.34 
    IPC::Open3              0     1.13 
    Test::More              0.96  0.98 

configure_requires:

    Module                  Need  Have 
    ----------------------- ----- -----
    ExtUtils::MakeMaker     6.30  6.78 


------------------------------
ENVIRONMENT AND OTHER CONTEXT
------------------------------

Environment variables:

    AUTOMATED_TESTING = 1
    COMSPEC = C:\Windows\system32\cmd.exe
    LD_LIBRARY_PATH = /usr/lib/x86:/usr/X11R6/lib
    NUMBER_OF_PROCESSORS = 8
    PATH = C:\Windows\system32;C:\Windows;C:\Windows\System32\Wbem;C:\Windows\System32\WindowsPowerShell\v1.0\;C:\Program Files (x86)\Dell\SysMgt\RAC5;C:\Program Files (x86)\Dell\SysMgt\oma\bin;C:\RV\BIN;C:\strawberry\c\bin;C:\strawberry\perl\site\bin;C:\strawberry\perl\bin;C:\Program Files (x86)\GnuWin32\bin;C:\Windows\System32\Windows System Resource Manager\bin;C:\Windows\SUA\common\;C:\Windows\SUA\usr\lib\
    PERL5LIB = C:\strawberry\cpan\build\Sub-Identify-0.04-XxAcCK/blib/arch;C:\strawberry\cpan\build\Sub-Identify-0.04-XxAcCK/blib/lib;C:\strawberry\cpan\build\Params-Validate-Micro-0.032-pXlqK6/blib/arch;C:\strawberry\cpan\build\Params-Validate-Micro-0.032-pXlqK6/blib/lib
    PERL5OPT = 
    PERL5_CPANPLUS_IS_RUNNING = 13804
    PERL5_CPAN_IS_RUNNING = 13804
    PERL5_CPAN_IS_RUNNING_IN_RECURSION = 11768,13804
    PERL_CR_SMOKER_CURRENT = Sub-MicroSig-0.033
    PERL_EXTUTILS_AUTOINSTALL = --defaultdeps
    PERL_JSON_BACKEND = JSON::XS
    PERL_MM_USE_DEFAULT = 1
    PERL_YAML_BACKEND = YAML
    PROCESSOR_IDENTIFIER = Intel64 Family 6 Model 23 Stepping 10, GenuineIntel
    TEMP = C:\Users\SOLIMA~1\AppData\Local\Temp
    TERM = dumb

Perl special variables (and OS-specific diagnostics, for MSWin32):

    $^X = C:\strawberry\perl\bin\perl.exe
    $UID/$EUID = 0 / 0
    $GID = 0
    $EGID = 0
    Win32::GetOSName = Win2008
    Win32::GetOSVersion = , 6, 1, 7600, 2, 0, 0, 272, 3
    Win32::FsType = NTFS
    Win32::IsAdminUser = 1

Perl module toolchain versions installed:

    Module              Have    
    ------------------- --------
    CPAN                2.00    
    CPAN::Meta          2.132661
    Cwd                 3.40    
    ExtUtils::CBuilder  0.280212
    ExtUtils::Command   1.18    
    ExtUtils::Install   1.59    
    ExtUtils::MakeMaker 6.78    
    ExtUtils::Manifest  1.63    
    ExtUtils::ParseXS   3.22    
    File::Spec          3.40    
    JSON                2.59    
    JSON::PP            2.27202 
    Module::Build       0.4007  
    Module::Signature   n/a     
    Parse::CPAN::Meta   1.4409  
    Test::Harness       3.28    
    Test::More          0.98    
    YAML                0.84    
    YAML::Syck          n/a     
    version             0.9904  


--

Summary of my perl5 (revision 5 version 18 subversion 1) configuration:
   
  Platform:
    osname=MSWin32, osvers=4.0, archname=MSWin32-x64-multi-thread
    uname='Win32 strawberry-perl 5.18.1.1 #1 Tue Aug 13 17:18:28 2013 x64'
    config_args='undef'
    hint=recommended, useposix=true, d_sigaction=undef
    useithreads=define, usemultiplicity=define
    useperlio=define, d_sfio=undef, uselargefiles=define, usesocks=undef
    use64bitint=define, use64bitall=undef, uselongdouble=undef
    usemymalloc=n, bincompat5005=undef
  Compiler:
    cc='gcc', ccflags =' -s -O2 -DWIN32 -DWIN64 -DCONSERVATIVE  -DPERL_TEXTMODE_SCRIPTS -DPERL_IMPLICIT_CONTEXT -DPERL_IMPLICIT_SYS -DUSE_PERLIO -fno-strict-aliasing -mms-bitfields',
    optimize='-s -O2',
    cppflags='-DWIN32'
    ccversion='', gccversion='4.7.3', gccosandvers=''
    intsize=4, longsize=4, ptrsize=8, doublesize=8, byteorder=12345678
    d_longlong=define, longlongsize=8, d_longdbl=define, longdblsize=12
    ivtype='long long', ivsize=8, nvtype='double', nvsize=8, Off_t='long long', lseeksize=8
    alignbytes=8, prototype=define
  Linker and Libraries:
    ld='g++', ldflags ='-s -L"C:\strawberry\perl\lib\CORE" -L"C:\strawberry\c\lib"'
    libpth=C:\strawberry\c\lib C:\strawberry\c\x86_64-w64-mingw32\lib
    libs=-lmoldname -lkernel32 -luser32 -lgdi32 -lwinspool -lcomdlg32 -ladvapi32 -lshell32 -lole32 -loleaut32 -lnetapi32 -luuid -lws2_32 -lmpr -lwinmm -lversion -lodbc32 -lodbccp32 -lcomctl32
    perllibs=-lmoldname -lkernel32 -luser32 -lgdi32 -lwinspool -lcomdlg32 -ladvapi32 -lshell32 -lole32 -loleaut32 -lnetapi32 -luuid -lws2_32 -lmpr -lwinmm -lversion -lodbc32 -lodbccp32 -lcomctl32
    libc=, so=dll, useshrplib=true, libperl=libperl518.a
    gnulibc_version=''
  Dynamic Linking:
    dlsrc=dl_win32.xs, dlext=dll, d_dlsymun=undef, ccdlflags=' '
    cccdlflags=' ', lddlflags='-mdll -s -L"C:\strawberry\perl\lib\CORE" -L"C:\strawberry\c\lib"'


Characteristics of this binary (from libperl): 
  Compile-time options: HAS_TIMES HAVE_INTERP_INTERN MULTIPLICITY
                        PERLIO_LAYERS PERL_DONT_CREATE_GVSV
                        PERL_HASH_FUNC_ONE_AT_A_TIME_HARD
                        PERL_IMPLICIT_CONTEXT PERL_IMPLICIT_SYS
                        PERL_MALLOC_WRAP PERL_PRESERVE_IVUV PERL_SAWAMPERSAND
                        USE_64_BIT_INT USE_ITHREADS USE_LARGE_FILES
                        USE_LOCALE USE_LOCALE_COLLATE USE_LOCALE_CTYPE
                        USE_LOCALE_NUMERIC USE_PERLIO USE_PERL_ATOF
  Built under MSWin32
  Compiled at Aug 13 2013 17:23:34
  %ENV:
    PERL5LIB="C:\strawberry\cpan\build\Sub-Identify-0.04-XxAcCK/blib/arch;C:\strawberry\cpan\build\Sub-Identify-0.04-XxAcCK/blib/lib;C:\strawberry\cpan\build\Params-Validate-Micro-0.032-pXlqK6/blib/arch;C:\strawberry\cpan\build\Params-Validate-Micro-0.032-pXlqK6/blib/lib"
    PERL5_CPANPLUS_IS_RUNNING="13804"
    PERL5_CPAN_IS_RUNNING="13804"
    PERL5_CPAN_IS_RUNNING_IN_RECURSION="11768,13804"
    PERL_CR_SMOKER_CURRENT="Sub-MicroSig-0.033"
    PERL_EXTUTILS_AUTOINSTALL="--defaultdeps"
    PERL_JSON_BACKEND="JSON::XS"
    PERL_MM_USE_DEFAULT="1"
    PERL_YAML_BACKEND="YAML"
  @INC:
    C:\strawberry\cpan\build\Sub-Identify-0.04-XxAcCK/blib/arch
    C:\strawberry\cpan\build\Sub-Identify-0.04-XxAcCK/blib/lib
    C:\strawberry\cpan\build\Params-Validate-Micro-0.032-pXlqK6/blib/arch
    C:\strawberry\cpan\build\Params-Validate-Micro-0.032-pXlqK6/blib/lib
    C:/strawberry/perl/site/lib
    C:/strawberry/perl/vendor/lib
    C:/strawberry/perl/lib
    .