Report for Dpchrist-LangUtil-1.013

Back
From: metabase:user:d2c9f356-b46f-11df-9a90-20a83c0b7757
Subject: PASS Dpchrist-LangUtil-1.013 v5.8.9 SunOS/Solaris
Date: 2010-12-01T20:53:46Z

This distribution has been tested as part of the CPAN Testers
project, supporting the Perl programming language.  See
http://wiki.cpantesters.org/ for more information or email
questions to cpan-testers-discuss@perl.org


--
Dear David Paul Christensen,

This is a computer-generated report for Dpchrist-LangUtil-1.013
on perl 5.8.9, created by CPAN-Reporter-1.1803.

Thank you for uploading your work to CPAN.  Congratulations!
All tests were successful.

Sections of this report:

    * Tester comments
    * Program output
    * Prerequisites
    * Environment and other context

------------------------------
TESTER COMMENTS
------------------------------

Additional comments from tester:

this report is from an automated smoke testing program
and was not reviewed by a human for accuracy

------------------------------
PROGRAM OUTPUT
------------------------------

Output from '/usr/bin/make test':

PERL_DL_NONLAZY=1 /export/home/cpant2/perl5/bin/perl "-MExtUtils::Command::MM" "-e" "test_harness(0, 'blib/lib', 'blib/arch')" t/*.t
t/0_compile_modules.t .... skipped: Test::Compile 0.09 required for testing compilation
t/1_Dpchrist-LangUtil.t .. ok
t/2_arrayref_cmp.t ....... ok
t/2_defined_or.t ......... ok
t/2_echo_system.t ........ ok
t/2_hashref_keys.t ....... ok
t/9_pod.t ................ ok
t/9_prereq.t ............. skipped: Test::Prereq required to test dependencies
All tests successful.
Files=8, Tests=34,  1 wallclock secs ( 0.10 usr  0.08 sys +  0.30 cusr  0.23 csys =  0.71 CPU)
Result: PASS

------------------------------
PREREQUISITES
------------------------------

Prerequisite modules loaded:

requires:

    Module              Need  Have 
    ------------------- ----- -----
    Capture::Tiny       0     0.08 
    Dpchrist::Module    1.026 1.026
  ! feature             0     n/a  
    Getopt::Long        0     2.38 
    Pod::Html           0     1.09 
    Pod::Text           0     3.15 
    Pod::Usage          0     1.36 

configure_requires:

    Module              Need  Have 
    ------------------- ----- -----
    ExtUtils::MakeMaker 0     6.56 


------------------------------
ENVIRONMENT AND OTHER CONTEXT
------------------------------

Environment variables:

    AUTOMATED_TESTING = 1
    LANG = en_US.UTF-8
    PATH = /export/home/cpant2/perl5/bin:/usr/bin
    PERL5LIB = /export/home/cpant2/.cpan/build/Capture-Tiny-0.08-FkIBA8/blib/arch:/export/home/cpant2/.cpan/build/Capture-Tiny-0.08-FkIBA8/blib/lib:/export/home/cpant2/.cpan/build/Dpchrist-Tag-1.035-PJ3EI8/blib/arch:/export/home/cpant2/.cpan/build/Dpchrist-Tag-1.035-PJ3EI8/blib/lib:/export/home/cpant2/.cpan/build/Dpchrist-Is-1.027-opdyNk/blib/arch:/export/home/cpant2/.cpan/build/Dpchrist-Is-1.027-opdyNk/blib/lib:/export/home/cpant2/.cpan/build/Dpchrist-Module-1.026-z1Gyjj/blib/arch:/export/home/cpant2/.cpan/build/Dpchrist-Module-1.026-z1Gyjj/blib/lib
    PERL5OPT = 
    PERL5_CPANPLUS_IS_RUNNING = 24532
    PERL5_CPAN_IS_RUNNING = 24532
    PERL5_CPAN_IS_RUNNING_IN_RECURSION = 8595,24532
    PERL_CR_SMOKER_CURRENT = Dpchrist-Scripts-1.012
    PERL_CR_SMOKER_RUNONCE = 1
    PERL_EXTUTILS_AUTOINSTALL = --defaultdeps
    PERL_MM_USE_DEFAULT = 1
    SHELL = /bin/bash
    TERM = xterm

Perl special variables (and OS-specific diagnostics, for MSWin32):

    $^X = /export/home/cpant2/perl5/bin/perl
    $UID/$EUID = 101 / 101
    $GID = 1 1
    $EGID = 1 1

Perl module toolchain versions installed:

    Module              Have  
    ------------------- ------
    CPAN                1.9402
    Cwd                 3.33  
    ExtUtils::CBuilder  0.2703
    ExtUtils::Command   1.16  
    ExtUtils::Install   1.54  
    ExtUtils::MakeMaker 6.56  
    ExtUtils::Manifest  1.58  
    ExtUtils::ParseXS   2.2206
    File::Spec          3.33  
    Module::Build       0.3607
    Module::Signature   n/a   
    Test::Harness       3.21  
    Test::More          0.96  
    YAML                0.72  
    YAML::Syck          1.17  
    version             0.86  


--

Summary of my perl5 (revision 5 version 8 subversion 9) configuration:
  Platform:
    osname=solaris, osvers=2.11, archname=i86pc-solaris-64int
    uname='sunos open-solaris-noc 5.11 snv_95 i86pc i386 i86pc '
    config_args='-Dcc=gcc -Dprefix=~/perl5 -Duse64bitint -d'
    hint=recommended, useposix=true, d_sigaction=define
    usethreads=undef use5005threads=undef useithreads=undef usemultiplicity=undef
    useperlio=define d_sfio=undef uselargefiles=define usesocks=undef
    use64bitint=define use64bitall=undef uselongdouble=undef
    usemymalloc=n, bincompat5005=undef
  Compiler:
    cc='gcc', ccflags ='-DPTR_IS_LONG -fno-strict-aliasing -pipe -D_LARGEFILE_SOURCE -D_FILE_OFFSET_BITS=64 -DPERL_USE_SAFE_PUTENV',
    optimize='-O',
    cppflags='-DPTR_IS_LONG -fno-strict-aliasing -pipe'
    ccversion='', gccversion='3.4.3 (csl-sol210-3_4-20050802)', gccosandvers='solaris2.11'
    intsize=4, longsize=4, ptrsize=4, doublesize=8, byteorder=12345678
    d_longlong=define, longlongsize=8, d_longdbl=define, longdblsize=12
    ivtype='long long', ivsize=8, nvtype='double', nvsize=8, Off_t='off_t', lseeksize=8
    alignbytes=4, prototype=define
  Linker and Libraries:
    ld='gcc', ldflags =' '
    libpth=/usr/lib /usr/ccs/lib
    libs=-lsocket -lnsl -ldl -lm -lc
    perllibs=-lsocket -lnsl -ldl -lm -lc
    libc=/lib/libc.so, so=so, useshrplib=false, libperl=libperl.a
    gnulibc_version=''
  Dynamic Linking:
    dlsrc=dl_dlopen.xs, dlext=so, d_dlsymun=undef, ccdlflags=' '
    cccdlflags='-fPIC', lddlflags='-G'


Characteristics of this binary (from libperl): 
  Compile-time options: PERL_MALLOC_WRAP PERL_USE_SAFE_PUTENV USE_64_BIT_INT
                        USE_FAST_STDIO USE_LARGE_FILES USE_PERLIO
  Built under solaris
  Compiled at Mar  5 2009 21:54:58
  %ENV:
    PERL5LIB="/export/home/cpant2/.cpan/build/Capture-Tiny-0.08-FkIBA8/blib/arch:/export/home/cpant2/.cpan/build/Capture-Tiny-0.08-FkIBA8/blib/lib:/export/home/cpant2/.cpan/build/Dpchrist-Tag-1.035-PJ3EI8/blib/arch:/export/home/cpant2/.cpan/build/Dpchrist-Tag-1.035-PJ3EI8/blib/lib:/export/home/cpant2/.cpan/build/Dpchrist-Is-1.027-opdyNk/blib/arch:/export/home/cpant2/.cpan/build/Dpchrist-Is-1.027-opdyNk/blib/lib:/export/home/cpant2/.cpan/build/Dpchrist-Module-1.026-z1Gyjj/blib/arch:/export/home/cpant2/.cpan/build/Dpchrist-Module-1.026-z1Gyjj/blib/lib"
    PERL5OPT=""
    PERL5_CPANPLUS_IS_RUNNING="24532"
    PERL5_CPAN_IS_RUNNING="24532"
    PERL5_CPAN_IS_RUNNING_IN_RECURSION="8595,24532"
    PERL_CR_SMOKER_CURRENT="Dpchrist-Scripts-1.012"
    PERL_CR_SMOKER_RUNONCE="1"
    PERL_EXTUTILS_AUTOINSTALL="--defaultdeps"
    PERL_MM_USE_DEFAULT="1"
  @INC:
    /export/home/cpant2/.cpan/build/Capture-Tiny-0.08-FkIBA8/blib/arch
    /export/home/cpant2/.cpan/build/Capture-Tiny-0.08-FkIBA8/blib/lib
    /export/home/cpant2/.cpan/build/Dpchrist-Tag-1.035-PJ3EI8/blib/arch
    /export/home/cpant2/.cpan/build/Dpchrist-Tag-1.035-PJ3EI8/blib/lib
    /export/home/cpant2/.cpan/build/Dpchrist-Is-1.027-opdyNk/blib/arch
    /export/home/cpant2/.cpan/build/Dpchrist-Is-1.027-opdyNk/blib/lib
    /export/home/cpant2/.cpan/build/Dpchrist-Module-1.026-z1Gyjj/blib/arch
    /export/home/cpant2/.cpan/build/Dpchrist-Module-1.026-z1Gyjj/blib/lib
    /export/home/cpant2/perl5/lib/5.8.9/i86pc-solaris-64int
    /export/home/cpant2/perl5/lib/5.8.9
    /export/home/cpant2/perl5/lib/site_perl/5.8.9/i86pc-solaris-64int
    /export/home/cpant2/perl5/lib/site_perl/5.8.9
    .