Report for Google-AJAX-Library-0.022

Back
From: metabase:user:9820532a-708b-1014-9a05-b18a96298da1
Subject: PASS Google-AJAX-Library-0.022 v5.15.5 GNU/Linux
Date: 2011-12-09T22:42:36Z

This distribution has been tested as part of the CPAN Testers
project, supporting the Perl programming language.  See
http://wiki.cpantesters.org/ for more information or email
questions to cpan-testers-discuss@perl.org


--
Dear Robert Krimen,

This is a computer-generated report for Google-AJAX-Library-0.022
on perl 5.15.5, created by CPAN-Reporter-1.2003.

Thank you for uploading your work to CPAN.  Congratulations!
All tests were successful.

Sections of this report:

    * Tester comments
    * Program output
    * Prerequisites
    * Environment and other context

------------------------------
TESTER COMMENTS
------------------------------

Additional comments from tester:

this report is from an automated smoke testing program
and was not reviewed by a human for accuracy

------------------------------
PROGRAM OUTPUT
------------------------------

Output from '/usr/bin/make test':

PERL_DL_NONLAZY=1 /home/bri/perl5/perlbrew/perls/perl-5.15.5-th/bin/perl5.15.5 "-MExtUtils::Command::MM" "-e" "test_harness(0, 'blib/lib', 'blib/arch')" t/*.t
You are overwriting a locally defined function (file) with an accessor at /home/bri/perl5/perlbrew/perls/perl-5.15.5-th/lib/site_perl/5.15.5/i686-linux-thread-multi/Moose/Meta/Attribute.pm line 1066
	Moose::Meta::Attribute::_process_accessors('Moose::Meta::Attribute=HASH(0xa7e0890)', 'reader', 'file', undef) called at /home/bri/perl5/perlbrew/perls/perl-5.15.5-th/lib/site_perl/5.15.5/i686-linux-thread-multi/Class/MOP/Attribute.pm line 428
	Class::MOP::Attribute::install_accessors('Moose::Meta::Attribute=HASH(0xa7e0890)') called at /home/bri/perl5/perlbrew/perls/perl-5.15.5-th/lib/site_perl/5.15.5/i686-linux-thread-multi/Moose/Meta/Attribute.pm line 1013
	Moose::Meta::Attribute::install_accessors('Moose::Meta::Attribute=HASH(0xa7e0890)') called at /home/bri/perl5/perlbrew/perls/perl-5.15.5-th/lib/site_perl/5.15.5/i686-linux-thread-multi/Class/MOP/Class.pm line 891
	Class::MOP::Class::__ANON__() called at /home/bri/perl5/perlbrew/perls/perl-5.15.5-th/lib/site_perl/5.15.5/Try/Tiny.pm line 76
	eval {...} called at /home/bri/perl5/perlbrew/perls/perl-5.15.5-th/lib/site_perl/5.15.5/Try/Tiny.pm line 67
	Try::Tiny::try('CODE(0x9d44bd8)', 'Try::Tiny::Catch=REF(0x9d44d28)') called at /home/bri/perl5/perlbrew/perls/perl-5.15.5-th/lib/site_perl/5.15.5/i686-linux-thread-multi/Class/MOP/Class.pm line 896
	Class::MOP::Class::_post_add_attribute('Moose::Meta::Class=HASH(0xa3e0ee8)', 'Moose::Meta::Attribute=HASH(0xa7e0890)') called at /home/bri/perl5/perlbrew/perls/perl-5.15.5-th/lib/site_perl/5.15.5/i686-linux-thread-multi/Class/MOP/Mixin/HasAttributes.pm line 44
	Class::MOP::Mixin::HasAttributes::add_attribute('Moose::Meta::Class=HASH(0xa3e0ee8)', 'Moose::Meta::Attribute=HASH(0xa7e0890)') called at /home/bri/perl5/perlbrew/perls/perl-5.15.5-th/lib/site_perl/5.15.5/i686-linux-thread-multi/Moose/Meta/Class.pm line 570
	Moose::Meta::Class::add_attribute('Moose::Meta::Class=HASH(0xa3e0ee8)', 'file', 'definition_context', 'HASH(0xa7e03f0)', 'is', 'ro') called at /home/bri/perl5/perlbrew/perls/perl-5.15.5-th/lib/site_perl/5.15.5/i686-linux-thread-multi/Moose.pm line 79
	Moose::has('Moose::Meta::Class=HASH(0xa3e0ee8)', 'file', 'is', 'ro') called at /home/bri/perl5/perlbrew/perls/perl-5.15.5-th/lib/site_perl/5.15.5/i686-linux-thread-multi/Moose/Exporter.pm line 370
	Moose::has('file', 'is', 'ro') called at /home/bri/.cpan/build/Google-AJAX-Library-0.022-z_srXE/blib/lib/Google/AJAX/Library.pm line 32
	require Google/AJAX/Library.pm called at t/01-basic.t line 5
	main::BEGIN() called at /home/bri/.cpan/build/Google-AJAX-Library-0.022-z_srXE/blib/lib/Google/AJAX/Library.pm line 0
	eval {...} called at /home/bri/.cpan/build/Google-AJAX-Library-0.022-z_srXE/blib/lib/Google/AJAX/Library.pm line 0
t/01-basic.t .... ok
You are overwriting a locally defined function (file) with an accessor at /home/bri/perl5/perlbrew/perls/perl-5.15.5-th/lib/site_perl/5.15.5/i686-linux-thread-multi/Moose/Meta/Attribute.pm line 1066
	Moose::Meta::Attribute::_process_accessors('Moose::Meta::Attribute=HASH(0xa49ea20)', 'reader', 'file', undef) called at /home/bri/perl5/perlbrew/perls/perl-5.15.5-th/lib/site_perl/5.15.5/i686-linux-thread-multi/Class/MOP/Attribute.pm line 428
	Class::MOP::Attribute::install_accessors('Moose::Meta::Attribute=HASH(0xa49ea20)') called at /home/bri/perl5/perlbrew/perls/perl-5.15.5-th/lib/site_perl/5.15.5/i686-linux-thread-multi/Moose/Meta/Attribute.pm line 1013
	Moose::Meta::Attribute::install_accessors('Moose::Meta::Attribute=HASH(0xa49ea20)') called at /home/bri/perl5/perlbrew/perls/perl-5.15.5-th/lib/site_perl/5.15.5/i686-linux-thread-multi/Class/MOP/Class.pm line 891
	Class::MOP::Class::__ANON__() called at /home/bri/perl5/perlbrew/perls/perl-5.15.5-th/lib/site_perl/5.15.5/Try/Tiny.pm line 76
	eval {...} called at /home/bri/perl5/perlbrew/perls/perl-5.15.5-th/lib/site_perl/5.15.5/Try/Tiny.pm line 67
	Try::Tiny::try('CODE(0x9a02e98)', 'Try::Tiny::Catch=REF(0x9a02fe8)') called at /home/bri/perl5/perlbrew/perls/perl-5.15.5-th/lib/site_perl/5.15.5/i686-linux-thread-multi/Class/MOP/Class.pm line 896
	Class::MOP::Class::_post_add_attribute('Moose::Meta::Class=HASH(0xa09f240)', 'Moose::Meta::Attribute=HASH(0xa49ea20)') called at /home/bri/perl5/perlbrew/perls/perl-5.15.5-th/lib/site_perl/5.15.5/i686-linux-thread-multi/Class/MOP/Mixin/HasAttributes.pm line 44
	Class::MOP::Mixin::HasAttributes::add_attribute('Moose::Meta::Class=HASH(0xa09f240)', 'Moose::Meta::Attribute=HASH(0xa49ea20)') called at /home/bri/perl5/perlbrew/perls/perl-5.15.5-th/lib/site_perl/5.15.5/i686-linux-thread-multi/Moose/Meta/Class.pm line 570
	Moose::Meta::Class::add_attribute('Moose::Meta::Class=HASH(0xa09f240)', 'file', 'definition_context', 'HASH(0xa49e580)', 'is', 'ro') called at /home/bri/perl5/perlbrew/perls/perl-5.15.5-th/lib/site_perl/5.15.5/i686-linux-thread-multi/Moose.pm line 79
	Moose::has('Moose::Meta::Class=HASH(0xa09f240)', 'file', 'is', 'ro') called at /home/bri/perl5/perlbrew/perls/perl-5.15.5-th/lib/site_perl/5.15.5/i686-linux-thread-multi/Moose/Exporter.pm line 370
	Moose::has('file', 'is', 'ro') called at /home/bri/.cpan/build/Google-AJAX-Library-0.022-z_srXE/blib/lib/Google/AJAX/Library.pm line 32
	require Google/AJAX/Library.pm called at t/02-library.t line 5
	main::BEGIN() called at /home/bri/.cpan/build/Google-AJAX-Library-0.022-z_srXE/blib/lib/Google/AJAX/Library.pm line 0
	eval {...} called at /home/bri/.cpan/build/Google-AJAX-Library-0.022-z_srXE/blib/lib/Google/AJAX/Library.pm line 0
t/02-library.t .. ok
You are overwriting a locally defined function (file) with an accessor at /home/bri/perl5/perlbrew/perls/perl-5.15.5-th/lib/site_perl/5.15.5/i686-linux-thread-multi/Moose/Meta/Attribute.pm line 1066
	Moose::Meta::Attribute::_process_accessors('Moose::Meta::Attribute=HASH(0x99f2690)', 'reader', 'file', undef) called at /home/bri/perl5/perlbrew/perls/perl-5.15.5-th/lib/site_perl/5.15.5/i686-linux-thread-multi/Class/MOP/Attribute.pm line 428
	Class::MOP::Attribute::install_accessors('Moose::Meta::Attribute=HASH(0x99f2690)') called at /home/bri/perl5/perlbrew/perls/perl-5.15.5-th/lib/site_perl/5.15.5/i686-linux-thread-multi/Moose/Meta/Attribute.pm line 1013
	Moose::Meta::Attribute::install_accessors('Moose::Meta::Attribute=HASH(0x99f2690)') called at /home/bri/perl5/perlbrew/perls/perl-5.15.5-th/lib/site_perl/5.15.5/i686-linux-thread-multi/Class/MOP/Class.pm line 891
	Class::MOP::Class::__ANON__() called at /home/bri/perl5/perlbrew/perls/perl-5.15.5-th/lib/site_perl/5.15.5/Try/Tiny.pm line 76
	eval {...} called at /home/bri/perl5/perlbrew/perls/perl-5.15.5-th/lib/site_perl/5.15.5/Try/Tiny.pm line 67
	Try::Tiny::try('CODE(0x8f56938)', 'Try::Tiny::Catch=REF(0x8f56a88)') called at /home/bri/perl5/perlbrew/perls/perl-5.15.5-th/lib/site_perl/5.15.5/i686-linux-thread-multi/Class/MOP/Class.pm line 896
	Class::MOP::Class::_post_add_attribute('Moose::Meta::Class=HASH(0x95f2e28)', 'Moose::Meta::Attribute=HASH(0x99f2690)') called at /home/bri/perl5/perlbrew/perls/perl-5.15.5-th/lib/site_perl/5.15.5/i686-linux-thread-multi/Class/MOP/Mixin/HasAttributes.pm line 44
	Class::MOP::Mixin::HasAttributes::add_attribute('Moose::Meta::Class=HASH(0x95f2e28)', 'Moose::Meta::Attribute=HASH(0x99f2690)') called at /home/bri/perl5/perlbrew/perls/perl-5.15.5-th/lib/site_perl/5.15.5/i686-linux-thread-multi/Moose/Meta/Class.pm line 570
	Moose::Meta::Class::add_attribute('Moose::Meta::Class=HASH(0x95f2e28)', 'file', 'definition_context', 'HASH(0x99f21f0)', 'is', 'ro') called at /home/bri/perl5/perlbrew/perls/perl-5.15.5-th/lib/site_perl/5.15.5/i686-linux-thread-multi/Moose.pm line 79
	Moose::has('Moose::Meta::Class=HASH(0x95f2e28)', 'file', 'is', 'ro') called at /home/bri/perl5/perlbrew/perls/perl-5.15.5-th/lib/site_perl/5.15.5/i686-linux-thread-multi/Moose/Exporter.pm line 370
	Moose::has('file', 'is', 'ro') called at /home/bri/.cpan/build/Google-AJAX-Library-0.022-z_srXE/blib/lib/Google/AJAX/Library.pm line 32
	require Google/AJAX/Library.pm called at t/03-fetch.t line 5
	main::BEGIN() called at /home/bri/.cpan/build/Google-AJAX-Library-0.022-z_srXE/blib/lib/Google/AJAX/Library.pm line 0
	eval {...} called at /home/bri/.cpan/build/Google-AJAX-Library-0.022-z_srXE/blib/lib/Google/AJAX/Library.pm line 0
t/03-fetch.t .... skipped: Not going out to http://ajax.googleapis.com to test fetching/writing
All tests successful.
Files=3, Tests=61,  1 wallclock secs ( 0.02 usr  0.01 sys +  1.35 cusr  0.06 csys =  1.44 CPU)
Result: PASS

------------------------------
PREREQUISITES
------------------------------

Prerequisite modules loaded:

requires:

    Module              Need Have   
    ------------------- ---- -------
    Carp::Clan::Share   0    0.013  
    HTML::Declare       0    2.4    
    LWP::UserAgent      0    6.03   
    Moose               0    2.0401 
    Path::Class         0    0.24   
    URI                 0    1.59   

build_requires:

    Module              Need Have   
    ------------------- ---- -------
    File::Temp          0    0.22   
    Test::Most          0    0.25   

configure_requires:

    Module              Need Have   
    ------------------- ---- -------
    ExtUtils::MakeMaker 6.31 6.63_02


------------------------------
ENVIRONMENT AND OTHER CONTEXT
------------------------------

Environment variables:

    AUTOMATED_TESTING = 1
    LANG = C
    LANGUAGE = en_GB:en
    LC_ALL = C
    PATH = /home/bri/bin:/home/bri/perl5/perlbrew/bin:/home/bri/perl5/perlbrew/perls/perl-5.15.5-th/bin:~/bin:/usr/local/sbin:/usr/local/bin:/usr/sbin:/usr/bin:/sbin:/bin:/usr/games
    PATH_WITHOUT_PERLBREW = ~/bin:/usr/local/sbin:/usr/local/bin:/usr/sbin:/usr/bin:/sbin:/bin:/usr/games
    PERL5LIB = 
    PERL5OPT = 
    PERL5_CPANPLUS_IS_RUNNING = 18498
    PERL5_CPAN_IS_RUNNING = 18498
    PERL5_CPAN_IS_RUNNING_IN_RECURSION = 1971,18498
    PERLBREW_BASHRC_VERSION = 0.33
    PERLBREW_HOME = /home/bri/.perlbrew
    PERLBREW_PATH = /home/bri/perl5/perlbrew/bin:/home/bri/perl5/perlbrew/perls/perl-5.15.5-th/bin
    PERLBREW_PERL = perl-5.15.5-th
    PERLBREW_ROOT = /home/bri/perl5/perlbrew
    PERLBREW_VERSION = 0.33
    PERL_CPANM_OPT = --prompt --mirror http://172.16.1.3/cpan/
    PERL_CR_SMOKER_CURRENT = Google-AJAX-Library-0.022
    PERL_EXTUTILS_AUTOINSTALL = --defaultdeps
    PERL_MM_USE_DEFAULT = 1
    SHELL = /bin/bash
    TERM = linux

Perl special variables (and OS-specific diagnostics, for MSWin32):

    $^X = /home/bri/perl5/perlbrew/perls/perl-5.15.5-th/bin/perl5.15.5
    $UID/$EUID = 1000 / 1000
    $GID = 1000 4 20 24 46 112 120 122 1000
    $EGID = 1000 4 20 24 46 112 120 122 1000

Perl module toolchain versions installed:

    Module              Have    
    ------------------- --------
    CPAN                1.9800  
    CPAN::Meta          2.112621
    Cwd                 3.33    
    ExtUtils::CBuilder  0.280202
    ExtUtils::Command   1.17    
    ExtUtils::Install   1.57    
    ExtUtils::MakeMaker 6.63_02 
    ExtUtils::Manifest  1.60    
    ExtUtils::ParseXS   3.07    
    File::Spec          3.33    
    JSON                2.53    
    JSON::PP            2.27008 
    Module::Build       0.3800  
    Module::Signature   n/a     
    Parse::CPAN::Meta   1.4401  
    Test::Harness       3.23    
    Test::More          0.98    
    YAML                0.73    
    YAML::Syck          1.19    
    version             0.95    


--

Summary of my perl5 (revision 5 version 15 subversion 5) configuration:
   
  Platform:
    osname=linux, osvers=2.6.38-11-generic, archname=i686-linux-thread-multi
    uname='linux lappy 2.6.38-11-generic #48-ubuntu smp fri jul 29 19:05:14 utc 2011 i686 i686 i386 gnulinux '
    config_args='-de -Dprefix=/home/bri/perl5/perlbrew/perls/perl-5.15.5-th -Dusethreads -Dusedevel'
    hint=recommended, useposix=true, d_sigaction=define
    useithreads=define, usemultiplicity=define
    useperlio=define, d_sfio=undef, uselargefiles=define, usesocks=undef
    use64bitint=undef, use64bitall=undef, uselongdouble=undef
    usemymalloc=n, bincompat5005=undef
  Compiler:
    cc='cc', ccflags ='-D_REENTRANT -D_GNU_SOURCE -fno-strict-aliasing -pipe -fstack-protector -I/usr/local/include -D_LARGEFILE_SOURCE -D_FILE_OFFSET_BITS=64',
    optimize='-O2',
    cppflags='-D_REENTRANT -D_GNU_SOURCE -fno-strict-aliasing -pipe -fstack-protector -I/usr/local/include'
    ccversion='', gccversion='4.5.2', gccosandvers=''
    intsize=4, longsize=4, ptrsize=4, doublesize=8, byteorder=1234
    d_longlong=define, longlongsize=8, d_longdbl=define, longdblsize=12
    ivtype='long', ivsize=4, nvtype='double', nvsize=8, Off_t='off_t', lseeksize=8
    alignbytes=4, prototype=define
  Linker and Libraries:
    ld='cc', ldflags =' -fstack-protector -L/usr/local/lib'
    libpth=/usr/local/lib /lib /usr/lib /usr/lib/i386-linux-gnu /usr/lib64
    libs=-lnsl -ldl -lm -lcrypt -lutil -lpthread -lc
    perllibs=-lnsl -ldl -lm -lcrypt -lutil -lpthread -lc
    libc=, so=so, useshrplib=false, libperl=libperl.a
    gnulibc_version='2.13'
  Dynamic Linking:
    dlsrc=dl_dlopen.xs, dlext=so, d_dlsymun=undef, ccdlflags='-Wl,-E'
    cccdlflags='-fPIC', lddlflags='-shared -O2 -L/usr/local/lib -fstack-protector'


Characteristics of this binary (from libperl): 
  Compile-time options: HAS_TIMES MULTIPLICITY PERLIO_LAYERS
                        PERL_DONT_CREATE_GVSV PERL_IMPLICIT_CONTEXT
                        PERL_MALLOC_WRAP PERL_PRESERVE_IVUV PERL_USE_DEVEL
                        USE_ITHREADS USE_LARGE_FILES USE_LOCALE
                        USE_LOCALE_COLLATE USE_LOCALE_CTYPE
                        USE_LOCALE_NUMERIC USE_PERLIO USE_PERL_ATOF
                        USE_REENTRANT_API
  Built under linux
  Compiled at Dec  5 2011 21:58:55
  %ENV:
    PERL5LIB=""
    PERL5OPT=""
    PERL5_CPANPLUS_IS_RUNNING="18498"
    PERL5_CPAN_IS_RUNNING="18498"
    PERL5_CPAN_IS_RUNNING_IN_RECURSION="1971,18498"
    PERLBREW_BASHRC_VERSION="0.33"
    PERLBREW_HOME="/home/bri/.perlbrew"
    PERLBREW_PATH="/home/bri/perl5/perlbrew/bin:/home/bri/perl5/perlbrew/perls/perl-5.15.5-th/bin"
    PERLBREW_PERL="perl-5.15.5-th"
    PERLBREW_ROOT="/home/bri/perl5/perlbrew"
    PERLBREW_VERSION="0.33"
    PERL_CPANM_OPT="--prompt --mirror http://172.16.1.3/cpan/"
    PERL_CR_SMOKER_CURRENT="Google-AJAX-Library-0.022"
    PERL_EXTUTILS_AUTOINSTALL="--defaultdeps"
    PERL_MM_USE_DEFAULT="1"
  @INC:
    /home/bri/perl5/perlbrew/perls/perl-5.15.5-th/lib/site_perl/5.15.5/i686-linux-thread-multi
    /home/bri/perl5/perlbrew/perls/perl-5.15.5-th/lib/site_perl/5.15.5
    /home/bri/perl5/perlbrew/perls/perl-5.15.5-th/lib/5.15.5/i686-linux-thread-multi
    /home/bri/perl5/perlbrew/perls/perl-5.15.5-th/lib/5.15.5
    .