Back
From: metabase:user:de3f6d0c-9148-11e2-b3ef-101390f652a1
Subject: PASS MooseX-Types-Structured-0.30 v5.18.1 GNU/Linux
Date: 2013-12-20T13:31:54Z
This distribution has been tested as part of the CPAN Testers
project, supporting the Perl programming language. See
http://wiki.cpantesters.org/ for more information or email
questions to cpan-testers-discuss@perl.org
--
Dear Karen Etheridge,
This is a computer-generated report for MooseX-Types-Structured-0.30
on perl 5.18.1, created by CPAN-Reporter-1.2010.
Thank you for uploading your work to CPAN. Congratulations!
All tests were successful.
Sections of this report:
* Tester comments
* Program output
* Prerequisites
* Environment and other context
------------------------------
TESTER COMMENTS
------------------------------
Additional comments from tester:
none provided
------------------------------
PROGRAM OUTPUT
------------------------------
Output from './Build test':
t/00-load.t .................... ok
#
# Versions for all modules listed in MYMETA.json (including optional ones):
# Version Module
# -------- --------------------------------------------
# 2.133380 CPAN::Meta
# 2.125 CPAN::Meta::Requirements
# 2.145 Data::Dumper
# 1.04 DateTime
# 0.17 Devel::PartialDump
# 6.84 ExtUtils::MakeMaker
# 3.40 File::Spec::Functions
# 1.35 List::Util
# 0.030 Module::Build::Tiny
# 2.1005 Moose
# 2.1005 Moose::Meta::TypeCoercion
# 2.1005 Moose::Meta::TypeConstraint
# 2.1005 Moose::Meta::TypeConstraint::Parameterizable
# 2.1005 Moose::Util::TypeConstraints
# 0.40 MooseX::Types
# 0.08 MooseX::Types::DateTime
# 0.40 MooseX::Types::Moose
# 1.35 Scalar::Util
# 0.987 Sub::Exporter
# 0.013 Test::Fatal
# 1.001002 Test::More
# 1.22 overload
# 1.07 strict
# 1.18 warnings
t/00-report-prereqs.t .......... ok
t/01-basic.t ................... ok
t/02-tuple.t ................... ok
t/03-dict.t .................... ok
t/04-combined.t ................ ok
t/04-map.t ..................... ok
t/05-advanced.t ................ ok
t/06-api.t ..................... ok
t/07-coerce.t .................. ok
t/08-examples.t ................ ok
t/09-optional.t ................ ok
t/10-recursion.t ............... ok
t/11-overflow.t ................ ok
t/12-error.t ................... ok
t/13-deeper_error.t ............ ok
t/bug-incorrect-message.t ...... ok
t/bug-is-subtype.t ............. ok
t/bug-mixed-stringy.t .......... ok
t/bug-optional.t ............... ok
t/regressions/01-is_type_of.t .. ok
All tests successful.
Files=21, Tests=357, 12 wallclock secs ( 0.14 usr 0.04 sys + 11.56 cusr 0.80 csys = 12.54 CPU)
Result: PASS
------------------------------
PREREQUISITES
------------------------------
Prerequisite modules loaded:
requires:
Module Need Have
-------------------------------------------- ----- --------
Devel::PartialDump 0.13 0.17
Moose 1.08 2.1005
Moose::Meta::TypeCoercion 0 2.1005
Moose::Meta::TypeConstraint 0 2.1005
Moose::Meta::TypeConstraint::Parameterizable 0 2.1005
Moose::Util::TypeConstraints 1.06 2.1005
MooseX::Types 0.22 0.40
overload 0 1.22
perl 5.008 5.018001
Scalar::Util 0 1.35
Sub::Exporter 0.982 0.987
build_requires:
Module Need Have
-------------------------------------------- ----- --------
Data::Dumper 0 2.145
DateTime 0 1.04
ExtUtils::MakeMaker 0 6.84
File::Spec::Functions 0 3.40
List::Util 0 1.35
MooseX::Types::DateTime 0 0.08
MooseX::Types::Moose 0 0.40
strict 0 1.07
Test::Fatal 0 0.013
Test::More 0.94 1.001002
warnings 0 1.18
configure_requires:
Module Need Have
-------------------------------------------- ----- --------
ExtUtils::MakeMaker 6.30 6.84
Module::Build::Tiny 0.030 0.030
------------------------------
ENVIRONMENT AND OTHER CONTEXT
------------------------------
Environment variables:
LANG = en_US.UTF-8
LC_COLLATE = sv_SE.UTF-8
LC_MEASUREMENT = POSIX
LC_MESSAGES = POSIX
LC_MONETARY = POSIX
LC_NUMERIC = POSIX
PATH = /opt/perlbrew/bin:/opt/perlbrew/perls/perl-5.18.1/bin:/usr/local/bin:/usr/bin:/bin:/opt/bin:/usr/x86_64-pc-linux-gnu/gcc-bin/4.7.3:/usr/lib64/subversion/bin
PERL5LIB =
PERL5OPT =
PERL5_CPANPLUS_IS_RUNNING = 26653
PERL5_CPAN_IS_RUNNING = 26653
PERLBREW_BASHRC_VERSION = 0.67
PERLBREW_HOME = /home/pk/.perlbrew
PERLBREW_MANPATH = /opt/perlbrew/perls/perl-5.18.1/man
PERLBREW_PATH = /opt/perlbrew/bin:/opt/perlbrew/perls/perl-5.18.1/bin
PERLBREW_PERL = perl-5.18.1
PERLBREW_ROOT = /opt/perlbrew
PERLBREW_VERSION = 0.67
SHELL = /bin/bash
TERM = xterm
Perl special variables (and OS-specific diagnostics, for MSWin32):
$^X = /opt/perlbrew/perls/perl-5.18.1/bin/perl
$UID/$EUID = 1000 / 1000
$GID = 100 4 11 18 19 20 26 100 250 444 445 1015
$EGID = 100 4 11 18 19 20 26 100 250 444 445 1015
Perl module toolchain versions installed:
Module Have
------------------- --------
CPAN 2.00
CPAN::Meta 2.133380
Cwd 3.40
ExtUtils::CBuilder 0.280212
ExtUtils::Command 1.18
ExtUtils::Install 1.59
ExtUtils::MakeMaker 6.84
ExtUtils::Manifest 1.63
ExtUtils::ParseXS 3.22
File::Spec 3.40
JSON 2.90
JSON::PP 2.27203
Module::Build 0.4203
Module::Signature n/a
Parse::CPAN::Meta 1.4409
Test::Harness 3.30
Test::More 1.001002
YAML 0.88
YAML::Syck 1.27
version 0.9904
--
Summary of my perl5 (revision 5 version 18 subversion 1) configuration:
Platform:
osname=linux, osvers=3.10.7-gentoo-r1, archname=x86_64-linux-thread-multi
uname='linux elektra 3.10.7-gentoo-r1 #1 smp thu oct 3 21:23:00 cest 2013 x86_64 amd athlon(tm) dual core processor 4850e authenticamd gnulinux '
config_args='-de -Dprefix=/opt/perlbrew/perls/perl-5.18.1 -Doptimize=-O3 -march=native -pipe -Dusethreads -Aeval:scriptdir=/opt/perlbrew/perls/perl-5.18.1/bin'
hint=recommended, useposix=true, d_sigaction=define
useithreads=define, usemultiplicity=define
useperlio=define, d_sfio=undef, uselargefiles=define, usesocks=undef
use64bitint=define, use64bitall=define, uselongdouble=undef
usemymalloc=n, bincompat5005=undef
Compiler:
cc='cc', ccflags ='-D_REENTRANT -D_GNU_SOURCE -fno-strict-aliasing -pipe -fstack-protector -I/usr/local/include -D_LARGEFILE_SOURCE -D_FILE_OFFSET_BITS=64',
optimize='-O3 -march=native -pipe',
cppflags='-D_REENTRANT -D_GNU_SOURCE -fno-strict-aliasing -pipe -fstack-protector -I/usr/local/include'
ccversion='', gccversion='4.7.3', gccosandvers=''
intsize=4, longsize=8, ptrsize=8, doublesize=8, byteorder=12345678
d_longlong=define, longlongsize=8, d_longdbl=define, longdblsize=16
ivtype='long', ivsize=8, nvtype='double', nvsize=8, Off_t='off_t', lseeksize=8
alignbytes=8, prototype=define
Linker and Libraries:
ld='cc', ldflags =' -fstack-protector -L/usr/local/lib'
libpth=/usr/local/lib /lib/../lib64 /usr/lib/../lib64 /lib /usr/lib /lib64 /usr/lib64 /usr/local/lib64
libs=-lnsl -lgdbm -ldb -ldl -lm -lcrypt -lutil -lpthread -lc -lgdbm_compat
perllibs=-lnsl -ldl -lm -lcrypt -lutil -lpthread -lc
libc=/lib/libc-2.15.so, so=so, useshrplib=false, libperl=libperl.a
gnulibc_version='2.15'
Dynamic Linking:
dlsrc=dl_dlopen.xs, dlext=so, d_dlsymun=undef, ccdlflags='-Wl,-E'
cccdlflags='-fPIC', lddlflags='-shared -O3 -march=native -pipe -L/usr/local/lib -fstack-protector'
Characteristics of this binary (from libperl):
Compile-time options: HAS_TIMES MULTIPLICITY PERLIO_LAYERS
PERL_DONT_CREATE_GVSV
PERL_HASH_FUNC_ONE_AT_A_TIME_HARD
PERL_IMPLICIT_CONTEXT PERL_MALLOC_WRAP
PERL_PRESERVE_IVUV PERL_SAWAMPERSAND USE_64_BIT_ALL
USE_64_BIT_INT USE_ITHREADS USE_LARGE_FILES
USE_LOCALE USE_LOCALE_COLLATE USE_LOCALE_CTYPE
USE_LOCALE_NUMERIC USE_PERLIO USE_PERL_ATOF
USE_REENTRANT_API
Built under linux
Compiled at Oct 3 2013 23:58:34
%ENV:
PERL5LIB=""
PERL5OPT=""
PERL5_CPANPLUS_IS_RUNNING="26653"
PERL5_CPAN_IS_RUNNING="26653"
PERLBREW_BASHRC_VERSION="0.67"
PERLBREW_HOME="/home/pk/.perlbrew"
PERLBREW_MANPATH="/opt/perlbrew/perls/perl-5.18.1/man"
PERLBREW_PATH="/opt/perlbrew/bin:/opt/perlbrew/perls/perl-5.18.1/bin"
PERLBREW_PERL="perl-5.18.1"
PERLBREW_ROOT="/opt/perlbrew"
PERLBREW_VERSION="0.67"
@INC:
/opt/perlbrew/perls/perl-5.18.1/lib/site_perl/5.18.1/x86_64-linux-thread-multi
/opt/perlbrew/perls/perl-5.18.1/lib/site_perl/5.18.1
/opt/perlbrew/perls/perl-5.18.1/lib/5.18.1/x86_64-linux-thread-multi
/opt/perlbrew/perls/perl-5.18.1/lib/5.18.1
.