Lab-Measurement v3.930 Perl 5 v5.28.3 arm64-freebsd

Status
Pass
From
Slaven Rezić
Dist
Lab-Measurement v3.930
Platform
Perl 5 v5.28.3 arm64-freebsd
Date
2025-04-12 21:07:07
ID
17a1e64c-17e2-11f0-9e82-541c6e8775ea
This distribution has been tested as part of the CPAN Testers
project, supporting the Perl programming language.  See
http://wiki.cpantesters.org/ for more information or email
questions to cpan-testers-discuss@perl.org


--
Dear Andreas K. Huettel,

This is a computer-generated report for Lab-Measurement-3.930
on perl 5.28.3, created by CPAN-Reporter-1.2019.

Thank you for uploading your work to CPAN.  Congratulations!
All tests were successful.

Sections of this report:

    * Tester comments
    * Program output
    * Prerequisites
    * Environment and other context

------------------------------
TESTER COMMENTS
------------------------------

Additional comments from tester:

none provided

------------------------------
PROGRAM OUTPUT
------------------------------

Output from '/usr/bin/make test':

PERL_DL_NONLAZY=1 "/usr/perl5.28.3/bin/perl" "-MExtUtils::Command::MM" "-MTest::Harness" "-e" "undef *Test::Harness::Switches; test_harness(0, 'blib/lib', 'blib/arch')" t/*.t t/Lab/Test/*.t t/Moose/*.t t/Moose/Connection/*.t t/Moose/DataFile/*.t t/Moose/DataFile/Gnuplot/*.t t/Moose/Instrument/*.t t/Moose/Instrument/OI_Mercury/*.t
# checking installed modules
# not using Lab::Zhinst
# using PDL::Graphics::Gnuplot
# using PDL::IO::CSV
# not using Lab::VXI11
# not using Lab::VISA
# not using USB::TMC
# using Math::Round
# not using LinuxGpib
# not using sys/ioctl.ph
# not using linux/usb/tmc.ph
# trying to load Lab/Moose.pm ...
Too late to run INIT block at /home/cpansand/.cpan/build/2025041219/Lab-Measurement-3.930-3/blib/lib/Lab/Moose.pm line 157.
# trying to load Lab/Moose/Connection.pm ...
# trying to load Lab/Moose/Catfile.pm ...
# trying to load Lab/Moose/DataFolder.pm ...
# trying to load Lab/Moose/Countdown.pm ...
# trying to load Lab/Moose/DataFile.pm ...
# trying to load Lab/Moose/Sweep.pm ...
# trying to load Lab/Moose/Plot.pm ...
# trying to load Lab/Moose/Instrument.pm ...
# trying to load Lab/Moose/Stabilizer.pm ...
# trying to load Lab/Moose/Sweep/DataFile.pm ...
# trying to load Lab/Moose/Sweep/Continuous.pm ...
# trying to load Lab/Moose/Sweep/Step.pm ...
# trying to load Lab/Moose/Sweep/Step/Power.pm ...
# trying to load Lab/Moose/Sweep/Step/Pulsedelay.pm ...
# trying to load Lab/Moose/Sweep/Step/Repeat.pm ...
# trying to load Lab/Moose/Sweep/Step/Pulsewidth.pm ...
# trying to load Lab/Moose/Sweep/Step/Voltage.pm ...
# trying to load Lab/Moose/Sweep/Step/Temperature.pm ...
# trying to load Lab/Moose/Sweep/Step/Phase.pm ...
# trying to load Lab/Moose/Sweep/Step/Frequency.pm ...
# trying to load Lab/Moose/Sweep/Step/Magnet.pm ...
# trying to load Lab/Moose/Sweep/Continuous/Magnet.pm ...
# trying to load Lab/Moose/Sweep/Continuous/Time.pm ...
# trying to load Lab/Moose/Sweep/Continuous/Voltage.pm ...
# trying to load Lab/Moose/DataFile/Read.pm ...
# trying to load Lab/Moose/DataFile/Gnuplot.pm ...
# trying to load Lab/Moose/DataFile/Meta.pm ...
# trying to load Lab/Moose/DataFile/Gnuplot/Compressed.pm ...
# trying to load Lab/Moose/Instrument/Keysight34470A.pm ...
# trying to load Lab/Moose/Instrument/Common.pm ...
# trying to load Lab/Moose/Instrument/Lakeshore350.pm ...
# trying to load Lab/Moose/Instrument/OI_IPS.pm ...
# trying to load Lab/Moose/Instrument/OI_Triton.pm ...
# trying to load Lab/Moose/Instrument/AH2700A.pm ...
# trying to load Lab/Moose/Instrument/AMI_430.pm ...
# trying to load Lab/Moose/Instrument/Rigol_DG5000.pm ...
# trying to load Lab/Moose/Instrument/RS_ZVM.pm ...
# trying to load Lab/Moose/Instrument/HP34410A.pm ...
# trying to load Lab/Moose/Instrument/OI_ILM210.pm ...
# trying to load Lab/Moose/Instrument/SCPIBlock.pm ...
# trying to load Lab/Moose/Instrument/SignalRecovery7265.pm ...
Useless use of multiplication (*) in void context at /home/cpansand/.cpan/build/2025041219/Lab-Measurement-3.930-3/blib/lib/Lab/Moose/Instrument/SignalRecovery7265.pm line 1201.
# trying to load Lab/Moose/Instrument/HP83732A.pm ...
# trying to load Lab/Moose/Instrument/ZI_HF2LI.pm ...
# trying to load Lab/Moose/Instrument/TBS1000C.pm ...
# trying to load Lab/Moose/Instrument/Lakeshore340.pm ...
# trying to load Lab/Moose/Instrument/Cryomagnetics_4G.pm ...
# trying to load Lab/Moose/Instrument/AttoCube_AMC.pm ...
# trying to load Lab/Moose/Instrument/ZI_HDAWG.pm ...
# trying to load Lab/Moose/Instrument/Bluefors_Temp.pm ...
# trying to load Lab/Moose/Instrument/Agilent34460A.pm ...
# trying to load Lab/Moose/Instrument/YokogawaGS200.pm ...
# trying to load Lab/Moose/Instrument/Keithley2000.pm ...
# trying to load Lab/Moose/Instrument/NanonisTramea.pm ...
# trying to load Lab/Moose/Instrument/Agilent33120A.pm ...
# trying to load Lab/Moose/Instrument/RS_FSV.pm ...
# trying to load Lab/Moose/Instrument/Keithley2400.pm ...
# trying to load Lab/Moose/Instrument/Synctek_MCL1_540.pm ...
# trying to load Lab/Moose/Instrument/KeysightN9310A.pm ...
# trying to load Lab/Moose/Instrument/RS_RTB2000.pm ...
# trying to load Lab/Moose/Instrument/LinearStepSweep.pm ...
# trying to load Lab/Moose/Instrument/HPE4400B.pm ...
# trying to load Lab/Moose/Instrument/ZI_MFIA.pm ...
# trying to load Lab/Moose/Instrument/HP34420A.pm ...
# trying to load Lab/Moose/Instrument/SR830.pm ...
# trying to load Lab/Moose/Instrument/DisplayXY.pm ...
# trying to load Lab/Moose/Instrument/OI_Common.pm ...
# trying to load Lab/Moose/Instrument/HP33120A.pm ...
# trying to load Lab/Moose/Instrument/Lakeshore372.pm ...
# trying to load Lab/Moose/Instrument/KeysightE3633E.pm ...
# trying to load Lab/Moose/Instrument/OI_ITC503.pm ...
# trying to load Lab/Moose/Instrument/DummySource.pm ...
# trying to load Lab/Moose/Instrument/VNASweep.pm ...
# trying to load Lab/Moose/Instrument/Agilent33210A.pm ...
# trying to load Lab/Moose/Instrument/AdjustRange.pm ...
# trying to load Lab/Moose/Instrument/Rigol_DSA815.pm ...
# trying to load Lab/Moose/Instrument/RS_ZVA.pm ...
# trying to load Lab/Moose/Instrument/ABB_TRMC2.pm ...
The ABB_TRMC2 driver is untested so far. Feedback welcome... at t/00-load.t line 121.
# trying to load Lab/Moose/Instrument/SpectrumAnalyzer.pm ...
# trying to load Lab/Moose/Instrument/RS_ZNL.pm ...
# trying to load Lab/Moose/Instrument/RS_SMB.pm ...
# trying to load Lab/Moose/Instrument/Keithley2450.pm ...
# trying to load Lab/Moose/Instrument/Agilent34410A.pm ...
# trying to load Lab/Moose/Instrument/ZI_MFLI.pm ...
# trying to load Lab/Moose/Instrument/ProStep4.pm ...
# trying to load Lab/Moose/Instrument/Cache.pm ...
# trying to load Lab/Moose/Instrument/KeysightB2901A.pm ...
# trying to load Lab/Moose/Instrument/HP3458A.pm ...
# trying to load Lab/Moose/Instrument/KeysightDSOS604A.pm ...
# trying to load Lab/Moose/Instrument/HP8596E.pm ...
# trying to load Lab/Moose/Instrument/Keysight33600.pm ...
# trying to load Lab/Moose/Instrument/Log.pm ...
# trying to load Lab/Moose/Instrument/Yokogawa7651.pm ...
# trying to load Lab/Moose/Instrument/OI_Mercury/Magnet.pm ...
# trying to load Lab/Moose/Instrument/SCPI/Instrument.pm ...
# trying to load Lab/Moose/Instrument/SCPI/Initiate.pm ...
# trying to load Lab/Moose/Instrument/SCPI/Unit.pm ...
# trying to load Lab/Moose/Instrument/SCPI/Format.pm ...
# trying to load Lab/Moose/Instrument/SCPI/Display/Window.pm ...
# trying to load Lab/Moose/Instrument/SCPI/Source/Range.pm ...
# trying to load Lab/Moose/Instrument/SCPI/Source/Function.pm ...
# trying to load Lab/Moose/Instrument/SCPI/Source/Level.pm ...
# trying to load Lab/Moose/Instrument/SCPI/Source/Power.pm ...
# trying to load Lab/Moose/Instrument/SCPI/Sense/Frequency.pm ...
# trying to load Lab/Moose/Instrument/SCPI/Sense/Sweep.pm ...
# trying to load Lab/Moose/Instrument/SCPI/Sense/NPLC.pm ...
# trying to load Lab/Moose/Instrument/SCPI/Sense/Power.pm ...
# trying to load Lab/Moose/Instrument/SCPI/Sense/Average.pm ...
# trying to load Lab/Moose/Instrument/SCPI/Sense/Null.pm ...
# trying to load Lab/Moose/Instrument/SCPI/Sense/Range.pm ...
# trying to load Lab/Moose/Instrument/SCPI/Sense/Impedance.pm ...
# trying to load Lab/Moose/Instrument/SCPI/Sense/Bandwidth.pm ...
# trying to load Lab/Moose/Instrument/SCPI/Sense/Function.pm ...
# trying to load Lab/Moose/Instrument/SCPI/Sense/Protection.pm ...
# trying to load Lab/Moose/Instrument/SCPI/Sense/Function/Concurrent.pm ...
# trying to load Lab/Moose/Instrument/SCPI/Output/State.pm ...
# trying to load Lab/Moose/Instrument/OI_IPS/Strunk_3He.pm ...
# trying to load Lab/Moose/Instrument/Lakeshore340/Helium3.pm ...
# trying to load Lab/Moose/Connection/Mock.pm ...
# trying to load Lab/Moose/Connection/Debug.pm ...
# trying to load Lab/Moose/Connection/WWW.pm ...
# trying to load Lab/Moose/Connection/Socket.pm ...
# trying to load Lab/Moose/Connection/HTTP.pm ...
# trying to load Lab/Moose/Connection/IsoBus.pm ...
t/00-load.t ............................. ok
# 
# Versions for all modules listed in MYMETA.json (including optional ones):
# 
# === Configure Requires ===
# 
#     Module              Want Have
#     ------------------- ---- ----
#     ExtUtils::MakeMaker  any 7.70
# 
# === Build Requires ===
# 
#     Module              Want Have
#     ------------------- ---- ----
#     ExtUtils::MakeMaker  any 7.70
# 
# === Test Requires ===
# 
#     Module                      Want     Have
#     ----------------------- -------- --------
#     ExtUtils::MakeMaker          any     7.70
#     File::Find                   any     1.34
#     File::Glob                   any     1.31
#     File::Slurper                any    0.014
#     File::Spec                   any     3.75
#     File::Spec::Functions        any     3.75
#     File::Temp                   any   0.2311
#     Getopt::Long                 any     2.58
#     IO::Uncompress::Bunzip2      any    2.074
#     PDL::Ufunc                   any    undef
#     Test::Builder::Module        any 1.302209
#     Test::Fatal                  any    0.017
#     Test::File                   any    1.993
#     Test::More              1.001014 1.302209
#     Test::Tester                 any 1.302209
#     Text::Diff                   any     1.45
#     aliased                      any     0.34
#     lib                          any     0.64
#     parent                       any    0.242
# 
# === Test Recommends ===
# 
#     Module         Want     Have
#     ---------- -------- --------
#     CPAN::Meta 2.120900 2.150010
# 
# === Runtime Requires ===
# 
#     Module                           Want     Have
#     ---------------------------- -------- --------
#     Carp                              any     1.50
#     Class::Method::Modifiers         2.11     2.15
#     Clone                            0.31     0.46
#     Data::Dumper                      any    2.183
#     DateTime                          any     1.65
#     Encode                            any     3.21
#     Exception::Class                  1.0     1.45
#     Exporter                          any     5.78
#     Fcntl                             any     1.13
#     File::Basename                    any     2.85
#     File::Copy                        any     2.33
#     File::Path                        any     2.18
#     HTTP::Request                     any     6.46
#     IO::Handle                        any     1.55
#     IO::Select                        any     1.55
#     IO::Socket::INET                  any     1.55
#     JSON::PP                          any     4.16
#     LWP::Simple                       any     6.77
#     LWP::UserAgent                    any     6.77
#     List::MoreUtils                   any    0.430
#     List::Util                        any     1.68
#     Math::Round                       any     0.08
#     Module::Load                     0.26     0.36
#     Moose                          2.1213   2.2207
#     Moose::Role                       any   2.2207
#     Moose::Util::TypeConstraints      any   2.2207
#     MooseX::Params::Validate         0.18     0.21
#     MooseX::StrictConstructor         any     0.21
#     Net::RFC3161::Timestamp           any    0.020
#     PDL                             2.007    2.099
#     PDL::Core                         any    2.096
#     PDL::IO::CSV                      any    0.011
#     PDL::NiceSlice                    any    1.001
#     POSIX                             any     1.84
#     Role::Tiny                   1.003004 2.002004
#     Scalar::Util                      any     1.68
#     Socket                            any    2.038
#     Statistics::Descriptive           any   3.0801
#     Sys::Hostname                     any     1.22
#     Term::ReadKey                    2.30     2.38
#     Test::More                   1.001014 1.302209
#     Tie::IxHash                       any     1.23
#     Time::HiRes                       any   1.9764
#     Time::Seconds                     any   1.3401
#     Try::Tiny                        0.22     0.31
#     YAML::XS                         0.41 v0.902.0
#     constant                          any     1.33
#     integer                           any     1.01
#     namespace::autoclean             0.20     0.29
#     strict                            any     1.11
#     utf8                              any     1.21
#     warnings                          any     1.42
# 
t/00-report-prereqs.t ................... ok
t/Dataset.t ............................. skipped: known to fail
t/Lab/Test/test.t ....................... ok
t/Meta.t ................................ skipped: known to fail
t/Moose/Connection/Socket.t ............. ok
t/Moose/DataFile/Gnuplot.t .............. ok
t/Moose/DataFile/Gnuplot/Compressed.t ... ok
t/Moose/DataFile/Read.t ................. ok
t/Moose/DataFolder.t .................... ok
Use of uninitialized value in string ne at /home/cpansand/.cpan/build/2025041219/Lab-Measurement-3.930-3/blib/lib/Lab/Moose/Instrument.pm line 141.
t/Moose/Instrument/base.t ............... ok
t/Moose/Instrument/DummySource.t ........ ok
t/Moose/Instrument/HP34410A.t ........... ok
t/Moose/Instrument/HP34420A.t ........... ok
t/Moose/Instrument/HP8596E.t ............ ok
t/Moose/Instrument/HPE4400B.t ........... ok
t/Moose/Instrument/Keithley2400.t ....... ok
t/Moose/Instrument/KeysightB2901A.t ..... ok
t/Moose/Instrument/OI_Mercury/Magnet.t .. ok
t/Moose/Instrument/Rigol_DSA815.t ....... ok
setting data format: REAL, 32 at /home/cpansand/.cpan/build/2025041219/Lab-Measurement-3.930-3/blib/lib/Lab/Moose/Instrument/RS_FSV.pm line 66.
t/Moose/Instrument/RS_FSV.t ............. ok
t/Moose/Instrument/RS_SMB.t ............. ok
setting data format: REAL, 32 at /home/cpansand/.cpan/build/2025041219/Lab-Measurement-3.930-3/blib/lib/Lab/Moose/Instrument/VNASweep.pm line 119.
t/Moose/Instrument/RS_ZVA.t ............. ok
setting data format: REAL, 32 at /home/cpansand/.cpan/build/2025041219/Lab-Measurement-3.930-3/blib/lib/Lab/Moose/Instrument/VNASweep.pm line 119.
t/Moose/Instrument/RS_ZVM.t ............. ok
t/Moose/Instrument/SR830.t .............. ok
t/Moose/Instrument/YokogawaGS200.t ...... ok
t/Moose/Instrument/ZI_MFIA.t ............ ok
t/Moose/Instrument/ZI_MFLI.t ............ ok
Name "PDL::Graphics::Gnuplot::gp_version" used only once: possible typo at t/Moose/Plot.t line 30.
dir: /var/tmp/cpansmoker-1023/2025041219/NMCGE5jefb
t/Moose/Plot.t .......................... ok
t/Moose/Stabilizer.t .................... ok
t/Moose/Sweep-Continuous-Time.t ......... ok
Going to sweep start:
Setpoint: 0
Rate: 2
 at t/Moose/Sweep-Continuous-Voltage.t line 77.
Starting sweep
Setpoint: 10.5
Rate: 2
 at t/Moose/Sweep-Continuous-Voltage.t line 77.
Starting sweep
Setpoint: 0
Rate: 5
 at t/Moose/Sweep-Continuous-Voltage.t line 77.
t/Moose/Sweep-Continuous-Voltage.t ...... ok
dir: /var/tmp/cpansmoker-1023/2025041219/45_QeqXCGa/sweep at t/Moose/Sweep-Plot.t line 126.
t/Moose/Sweep-Plot.t .................... ok
dir: /var/tmp/cpansmoker-1023/2025041219/eiUnZLgbEh/sweep
t/Moose/Sweep.t ......................... ok
All tests successful.
Files=34, Tests=662, 49 wallclock secs ( 0.20 usr  0.14 sys + 17.62 cusr  3.11 csys = 21.08 CPU)
Result: PASS

------------------------------
PREREQUISITES
------------------------------

Prerequisite modules loaded:

requires:

    Module                       Need     Have    
    ---------------------------- -------- --------
    Carp                         0        1.50    
    Class::Method::Modifiers     2.11     2.15    
    Clone                        0.31     0.46    
    constant                     0        1.33    
    Data::Dumper                 0        2.183   
    DateTime                     0        1.65    
    Encode                       0        3.21    
    Exception::Class             1.0      1.45    
    Exporter                     0        5.78    
    Fcntl                        0        1.13    
    File::Basename               0        2.85    
    File::Copy                   0        2.33    
    File::Path                   0        2.18    
    HTTP::Request                0        6.46    
    integer                      0        1.01    
    IO::Handle                   0        1.55    
    IO::Select                   0        1.55    
    IO::Socket::INET             0        1.55    
    JSON::PP                     0        4.16    
    List::MoreUtils              0        0.430   
    List::Util                   0        1.68    
    LWP::Simple                  0        6.77    
    LWP::UserAgent               0        6.77    
    Math::Round                  0        0.08    
    Module::Load                 0.26     0.36    
    Moose                        2.1213   2.2207  
    Moose::Role                  0        2.2207  
    Moose::Util::TypeConstraints 0        2.2207  
    MooseX::Params::Validate     0.18     0.21    
    MooseX::StrictConstructor    0        0.21    
    namespace::autoclean         0.20     0.29    
    Net::RFC3161::Timestamp      0        0.020   
    PDL                          2.007    2.099   
    PDL::Core                    0        2.096   
    PDL::IO::CSV                 0        0.011   
    PDL::NiceSlice               0        1.001   
    perl                         5.020000 5.028003
    POSIX                        0        1.84    
    Role::Tiny                   1.003004 2.002004
    Scalar::Util                 0        1.68    
    Socket                       0        2.038   
    Statistics::Descriptive      0        3.0801  
    strict                       0        1.11    
    Sys::Hostname                0        1.22    
    Term::ReadKey                2.30     2.38    
    Test::More                   1.001014 1.302209
    Tie::IxHash                  0        1.23    
    Time::HiRes                  0        1.9764  
    Time::Seconds                0        1.3401  
    Try::Tiny                    0.22     0.31    
    utf8                         0        1.21    
    warnings                     0        1.42    
    YAML::XS                     0.41     v0.902.0

build_requires:

    Module                       Need     Have    
    ---------------------------- -------- --------
    aliased                      0        0.34    
    ExtUtils::MakeMaker          0        7.70    
    File::Find                   0        1.34    
    File::Glob                   0        1.31    
    File::Slurper                0        0.014   
    File::Spec                   0        3.75    
    File::Spec::Functions        0        3.75    
    File::Temp                   0        0.2311  
    Getopt::Long                 0        2.58    
    IO::Uncompress::Bunzip2      0        2.074   
    lib                          0        0.64    
    parent                       0        0.242   
    PDL::Ufunc                   0        0       
    Test::Builder::Module        0        1.302209
    Test::Fatal                  0        0.017   
    Test::File                   0        1.993   
    Test::More                   1.001014 1.302209
    Test::Tester                 0        1.302209
    Text::Diff                   0        1.45    

configure_requires:

    Module                       Need     Have    
    ---------------------------- -------- --------
    ExtUtils::MakeMaker          0        7.70    


------------------------------
ENVIRONMENT AND OTHER CONTEXT
------------------------------

Environment variables:

    LANG = C.UTF-8
    PATH = /usr/local/bin:/usr/bin:/bin:/usr/local/sbin:/usr/sbin:/sbin:/home/cpansand/bin/sh:/home/cpansand/bin:/usr/games:/home/cpansand/devel:/home/eserte/src/srezic-misc/scripts
    PERL5LIB = /home/cpansand/.cpan/build/2025041219/PDL-IO-CSV-0.011-3/blib/arch:/home/cpansand/.cpan/build/2025041219/PDL-IO-CSV-0.011-3/blib/lib:/home/cpansand/.cpan/build/2025041219/Net-RFC3161-Timestamp-0.020-3/blib/arch:/home/cpansand/.cpan/build/2025041219/Net-RFC3161-Timestamp-0.020-3/blib/lib:/home/cpansand/.cpan/build/2025041219/Alien-OpenSSL-0.15-3/blib/arch:/home/cpansand/.cpan/build/2025041219/Alien-OpenSSL-0.15-3/blib/lib
    PERL5OPT = 
    PERL5_CPANPLUS_IS_RUNNING = 71697
    PERL5_CPAN_IS_RUNNING = 71697
    PERL5_CPAN_IS_RUNNING_IN_RECURSION = 69086,71697
    PERL_BATCH = yes
    PERL_CANARY_STABILITY_NOPROMPT = 1
    PERL_CPAN_REPORTER_CONFIG = /var/tmp/cpansmoker-1023/2025041219/cpanreporter_000_config.ini
    PERL_EXTUTILS_AUTOINSTALL = --defaultdeps
    PERL_USE_UNSAFE_INC = 1
    SHELL = /bin/sh
    TMPDIR = /var/tmp/cpansmoker-1023/2025041219

Perl special variables (and OS-specific diagnostics, for MSWin32):

    $^X = /usr/perl5.28.3/bin/perl
    $UID/$EUID = 1023 / 1023
    $GID = 1023 1023
    $EGID = 1023 1023

Perl module toolchain versions installed:

    Module              Have    
    ------------------- --------
    CPAN                2.20    
    CPAN::Meta          2.150010
    Cwd                 3.75    
    ExtUtils::CBuilder  0.280236
    ExtUtils::Command   7.70    
    ExtUtils::Install   2.22    
    ExtUtils::MakeMaker 7.70    
    ExtUtils::Manifest  1.75    
    ExtUtils::ParseXS   3.51    
    File::Spec          3.75    
    JSON                4.10    
    JSON::PP            4.16    
    Module::Build       0.4234  
    Module::Signature   n/a     
    Parse::CPAN::Meta   2.150010
    Test2               1.302209
    Test::Harness       3.50    
    Test::More          1.302209
    YAML                1.31    
    YAML::Syck          1.34    
    version             0.9923  


--

Summary of my perl5 (revision 5 version 28 subversion 3) configuration:
   
  Platform:
    osname=freebsd
    osvers=14.1-stable
    archname=arm64-freebsd
    uname='freebsd cloud9.bbbike.org 14.1-stable freebsd 14.1-stable stable14-n268041-bb7b7b0eb7cf generic arm64 '
    config_args='-ds -e -Dprefix=/usr/perl5.28.3 -Dcf_email=srezic@cpan.org -Doptimize=-O2 -pipe'
    hint=recommended
    useposix=true
    d_sigaction=define
    useithreads=undef
    usemultiplicity=undef
    use64bitint=define
    use64bitall=define
    uselongdouble=undef
    usemymalloc=n
    default_inc_excludes_dot=define
    bincompat5005=undef
  Compiler:
    cc='cc'
    ccflags ='-DHAS_FPSETMASK -DHAS_FLOATINGPOINT_H -fno-strict-aliasing -pipe -fstack-protector-strong -I/usr/local/include'
    optimize='-O2 -pipe'
    cppflags='-DHAS_FPSETMASK -DHAS_FLOATINGPOINT_H -fno-strict-aliasing -pipe -fstack-protector-strong -I/usr/local/include'
    ccversion=''
    gccversion='FreeBSD Clang 18.1.6 (https://github.com/llvm/llvm-project.git llvmorg-18.1.6-0-g1118c2e05e67)'
    gccosandvers=''
    intsize=4
    longsize=8
    ptrsize=8
    doublesize=8
    byteorder=12345678
    doublekind=3
    d_longlong=define
    longlongsize=8
    d_longdbl=define
    longdblsize=16
    longdblkind=1
    ivtype='long'
    ivsize=8
    nvtype='double'
    nvsize=8
    Off_t='off_t'
    lseeksize=8
    alignbytes=8
    prototype=define
  Linker and Libraries:
    ld='cc'
    ldflags ='-Wl,-E  -fstack-protector-strong -L/usr/local/lib'
    libpth=/usr/lib /usr/local/lib /usr/lib/clang/18/lib /usr/lib
    libs=-lpthread -lgdbm -ldl -lm -lcrypt -lutil -lc
    perllibs=-lpthread -ldl -lm -lcrypt -lutil -lc
    libc=
    so=so
    useshrplib=false
    libperl=libperl.a
    gnulibc_version=''
  Dynamic Linking:
    dlsrc=dl_dlopen.xs
    dlext=so
    d_dlsymun=undef
    ccdlflags=' '
    cccdlflags='-DPIC -fPIC'
    lddlflags='-shared  -L/usr/local/lib -fstack-protector-strong'


Characteristics of this binary (from libperl): 
  Compile-time options:
    HAS_TIMES
    PERLIO_LAYERS
    PERL_COPY_ON_WRITE
    PERL_DONT_CREATE_GVSV
    PERL_MALLOC_WRAP
    PERL_OP_PARENT
    PERL_PRESERVE_IVUV
    USE_64_BIT_ALL
    USE_64_BIT_INT
    USE_LARGE_FILES
    USE_LOCALE
    USE_LOCALE_COLLATE
    USE_LOCALE_CTYPE
    USE_LOCALE_NUMERIC
    USE_LOCALE_TIME
    USE_PERLIO
    USE_PERL_ATOF
  Locally applied patches:
    Devel::PatchPerl 2.08
  Built under freebsd
  Compiled at Jun 30 2024 07:39:37
  %ENV:
    PERL5LIB="/home/cpansand/.cpan/build/2025041219/PDL-IO-CSV-0.011-3/blib/arch:/home/cpansand/.cpan/build/2025041219/PDL-IO-CSV-0.011-3/blib/lib:/home/cpansand/.cpan/build/2025041219/Net-RFC3161-Timestamp-0.020-3/blib/arch:/home/cpansand/.cpan/build/2025041219/Net-RFC3161-Timestamp-0.020-3/blib/lib:/home/cpansand/.cpan/build/2025041219/Alien-OpenSSL-0.15-3/blib/arch:/home/cpansand/.cpan/build/2025041219/Alien-OpenSSL-0.15-3/blib/lib"
    PERL5OPT=""
    PERL5_CPANPLUS_IS_RUNNING="71697"
    PERL5_CPAN_IS_RUNNING="71697"
    PERL5_CPAN_IS_RUNNING_IN_RECURSION="69086,71697"
    PERL_BATCH="yes"
    PERL_CANARY_STABILITY_NOPROMPT="1"
    PERL_CPAN_REPORTER_CONFIG="/var/tmp/cpansmoker-1023/2025041219/cpanreporter_000_config.ini"
    PERL_EXTUTILS_AUTOINSTALL="--defaultdeps"
    PERL_USE_UNSAFE_INC="1"
  @INC:
    /home/cpansand/.cpan/build/2025041219/PDL-IO-CSV-0.011-3/blib/arch
    /home/cpansand/.cpan/build/2025041219/PDL-IO-CSV-0.011-3/blib/lib
    /home/cpansand/.cpan/build/2025041219/Net-RFC3161-Timestamp-0.020-3/blib/arch
    /home/cpansand/.cpan/build/2025041219/Net-RFC3161-Timestamp-0.020-3/blib/lib
    /home/cpansand/.cpan/build/2025041219/Alien-OpenSSL-0.15-3/blib/arch
    /home/cpansand/.cpan/build/2025041219/Alien-OpenSSL-0.15-3/blib/lib
    /usr/perl5.28.3/lib/site_perl/5.28.3/arm64-freebsd
    /usr/perl5.28.3/lib/site_perl/5.28.3
    /usr/perl5.28.3/lib/5.28.3/arm64-freebsd
    /usr/perl5.28.3/lib/5.28.3
    .