HTTP-Cache-Transparent v1.4 Perl 5 v5.8.9 OpenBSD.amd64-openbsd-multi

Status
Fail
From
Nigel Horne
Dist
HTTP-Cache-Transparent v1.4
Platform
Perl 5 v5.8.9 OpenBSD.amd64-openbsd-multi
Date
2021-10-21 21:08:51
ID
17a333f2-32b3-11ec-a34c-a0136e16119d
This distribution has been tested as part of the CPAN Testers
project, supporting the Perl programming language.  See
http://wiki.cpantesters.org/ for more information or email
questions to cpan-testers-discuss@perl.org


--
Dear Mattias Holmlund,

This is a computer-generated report for HTTP-Cache-Transparent-1.4
on perl 5.8.9, created by CPAN-Reporter-1.2018.

Thank you for uploading your work to CPAN.  However, there was a problem
testing your distribution.

If you think this report is invalid, please consult the CPAN Testers Wiki
for suggestions on how to avoid getting FAIL reports for missing library
or binary dependencies, unsupported operating systems, and so on:

http://wiki.cpantesters.org/wiki/CPANAuthorNotes

Sections of this report:

    * Tester comments
    * Program output
    * Prerequisites
    * Environment and other context

------------------------------
TESTER COMMENTS
------------------------------

Additional comments from tester:

none provided

------------------------------
PROGRAM OUTPUT
------------------------------

Output from '/usr/bin/make test':

PERL_DL_NONLAZY=1 "/home/njh/perl5/perlbrew/perls/perl-5.8.9-multi/bin/perl5.8.9" "-MExtUtils::Command::MM" "-MTest::Harness" "-e" "undef *Test::Harness::Switches; test_harness(0, 'blib/lib', 'blib/arch')" t/*.t
t/cache.....................Can't locate Test/RequiresInternet.pm in @INC (@INC contains: /home/njh/.cpan/build/HTTP-Cache-Transparent-1.4-5/blib/lib /home/njh/.cpan/build/HTTP-Cache-Transparent-1.4-5/blib/arch /home/njh/perl5/perlbrew/perls/perl-5.8.9-multi/lib/5.8.9/OpenBSD.amd64-openbsd-multi /home/njh/perl5/perlbrew/perls/perl-5.8.9-multi/lib/5.8.9/OpenBSD.amd64-openbsd-multi /home/njh/perl5/perlbrew/perls/perl-5.8.9-multi/lib/5.8.9 /home/njh/perl5/perlbrew/perls/perl-5.8.9-multi/lib/site_perl/5.8.9/OpenBSD.amd64-openbsd-multi /home/njh/perl5/perlbrew/perls/perl-5.8.9-multi/lib/site_perl/5.8.9/OpenBSD.amd64-openbsd-multi /home/njh/perl5/perlbrew/perls/perl-5.8.9-multi/lib/site_perl/5.8.9 . /home/njh/perl5/perlbrew/perls/perl-5.8.9-multi/lib/5.8.9/OpenBSD.amd64-openbsd-multi /home/njh/perl5/perlbrew/perls/perl-5.8.9-multi/lib/5.8.9 /home/njh/perl5/perlbrew/perls/perl-5.8.9-multi/lib/site_perl/5.8.9/OpenBSD.amd64-openbsd-multi /home/njh/perl5/perlbrew/perls/perl-5.8.9-multi/lib/site_perl/5.8.9 .) at t/cache.t line 4.
BEGIN failed--compilation aborted at t/cache.t line 4.
dubious
	Test returned status 2 (wstat 512, 0x200)
t/HTTP-Cache-Transparent....ok
t/pod-coverage..............skipped
        all skipped: Test::Pod::Coverage 1.00 required for testing POD coverage
t/pod.......................skipped
        all skipped: Test::Pod 1.00 required for testing POD
Failed Test Stat Wstat Total Fail  List of Failed
-------------------------------------------------------------------------------
t/cache.t      2   512    ??   ??  ??
2 tests skipped.
Failed 1/4 test scripts. 0/1 subtests failed.
Files=4, Tests=1,  1 wallclock secs ( 0.24 cusr +  0.07 csys =  0.31 CPU)
Failed 1/4 test programs. 0/1 subtests failed.
*** Error 25 in /home/njh/.cpan/build/HTTP-Cache-Transparent-1.4-5 (Makefile:836 'test_dynamic')

------------------------------
PREREQUISITES
------------------------------

Prerequisite modules loaded:

requires:

    Module              Need Have
    ------------------- ---- ----
    LWP                 0    6.57

build_requires:

    Module              Need Have
    ------------------- ---- ----
    ExtUtils::MakeMaker 0    7.62

configure_requires:

    Module              Need Have
    ------------------- ---- ----
    ExtUtils::MakeMaker 0    7.62


------------------------------
ENVIRONMENT AND OTHER CONTEXT
------------------------------

Environment variables:

    NONINTERACTIVE_TESTING = 1
    PATH = /home/njh/perl5/perlbrew/bin:/home/njh/perl5/perlbrew/perls/perl-5.8.9-multi/bin:/home/njh/perl5/perlbrew/bin:/home/njh/src/njh/smoker/bin:/usr/bin:/bin:/usr/sbin:/sbin:/usr/X11R6/bin:/usr/local/bin:/usr/local/sbin
    PERL5LIB = 
    PERL5OPT = 
    PERL5_CPANPLUS_IS_RUNNING = 19700
    PERL5_CPAN_IS_RUNNING = 19700
    PERL5_CPAN_IS_RUNNING_IN_RECURSION = 82471,19700
    PERLBREW_LIB = 
    PERLBREW_MANPATH = /home/njh/perl5/perlbrew/perls/perl-5.8.9-multi/man
    PERLBREW_PATH = /home/njh/perl5/perlbrew/bin:/home/njh/perl5/perlbrew/perls/perl-5.8.9-multi/bin
    PERLBREW_PERL = perl-5.8.9-multi
    PERLBREW_ROOT = /home/njh/perl5/perlbrew
    PERLBREW_SHELLRC_VERSION = 0.92
    PERLBREW_VERSION = 0.92
    PERL_LOCAL_LIB_ROOT = 
    PERL_MM_USE_DEFAULT = 1
    PERL_USE_UNSAFE_INC = 1
    SHELL = /usr/bin/bash

Perl special variables (and OS-specific diagnostics, for MSWin32):

    $^X = /home/njh/perl5/perlbrew/perls/perl-5.8.9-multi/bin/perl5.8.9
    $UID/$EUID = 1000 / 1000
    $GID = 1000 1000 0
    $EGID = 1000 1000 0

Perl module toolchain versions installed:

    Module              Have    
    ------------------- --------
    CPAN                2.28    
    CPAN::Meta          2.143240
    Cwd                 3.75    
    ExtUtils::CBuilder  n/a     
    ExtUtils::Command   7.62    
    ExtUtils::Install   2.06    
    ExtUtils::MakeMaker 7.62    
    ExtUtils::Manifest  1.70    
    ExtUtils::ParseXS   2.19    
    File::Spec          3.75    
    JSON                n/a     
    JSON::PP            4.06    
    Module::Build       n/a     
    Module::Signature   n/a     
    Parse::CPAN::Meta   1.4414  
    Test::Harness       2.64    
    Test::More          1.302188
    YAML                n/a     
    YAML::Syck          n/a     
    version             0.9929  


--

Summary of my perl5 (revision 5 version 8 subversion 9) configuration:
  Platform:
    osname=openbsd, osvers=6.9, archname=OpenBSD.amd64-openbsd-multi
    uname='openbsd njh2.bandsman.co.uk 6.9 generic.mp#4 amd64 '
    config_args='-de -Dprefix=/home/njh/perl5/perlbrew/perls/perl-5.8.9-multi -Dusedevel -Dusemultiplicity -Accflags= -Aeval:scriptdir=/home/njh/perl5/perlbrew/perls/perl-5.8.9-multi/bin'
    hint=recommended, useposix=true, d_sigaction=define
    usethreads=undef use5005threads=undef useithreads=undef usemultiplicity=define
    useperlio=define d_sfio=undef uselargefiles=define usesocks=undef
    use64bitint=define use64bitall=define uselongdouble=undef
    usemymalloc=n, bincompat5005=undef
  Compiler:
    cc='cc', ccflags ='-fno-strict-aliasing -pipe -I/usr/local/include',
    optimize='-O2',
    cppflags='-fno-strict-aliasing -pipe -I/usr/local/include'
    ccversion='', gccversion='OpenBSD Clang 10.0.1 ', gccosandvers=''
    intsize=4, longsize=8, ptrsize=8, doublesize=8, byteorder=12345678
    d_longlong=define, longlongsize=8, d_longdbl=define, longdblsize=16
    ivtype='long', ivsize=8, nvtype='double', nvsize=8, Off_t='off_t', lseeksize=8
    alignbytes=8, prototype=define
  Linker and Libraries:
    ld='cc', ldflags ='-Wl,-E  -L/usr/local/lib'
    libpth=/usr/local/lib /usr/lib
    libs=-lm -lutil -lc
    perllibs=-lm -lutil -lc
    libc=/usr/lib/libc.so.96.0, so=so, useshrplib=false, libperl=libperl.a
    gnulibc_version=''
  Dynamic Linking:
    dlsrc=dl_dlopen.xs, dlext=so, d_dlsymun=undef, ccdlflags=' '
    cccdlflags='-DPIC -fPIC ', lddlflags='-shared -fPIC  -L/usr/local/lib'


Characteristics of this binary (from libperl): 
  Compile-time options: MULTIPLICITY PERL_IMPLICIT_CONTEXT PERL_MALLOC_WRAP
                        USE_64_BIT_ALL USE_64_BIT_INT USE_FAST_STDIO
                        USE_LARGE_FILES USE_PERLIO
  Locally applied patches:
	Devel::PatchPerl 2.08
  Built under openbsd
  Compiled at Oct 21 2021 01:53:42
  %ENV:
    PERL5LIB=""
    PERL5OPT=""
    PERL5_CPANPLUS_IS_RUNNING="19700"
    PERL5_CPAN_IS_RUNNING="19700"
    PERL5_CPAN_IS_RUNNING_IN_RECURSION="82471,19700"
    PERLBREW_LIB=""
    PERLBREW_MANPATH="/home/njh/perl5/perlbrew/perls/perl-5.8.9-multi/man"
    PERLBREW_PATH="/home/njh/perl5/perlbrew/bin:/home/njh/perl5/perlbrew/perls/perl-5.8.9-multi/bin"
    PERLBREW_PERL="perl-5.8.9-multi"
    PERLBREW_ROOT="/home/njh/perl5/perlbrew"
    PERLBREW_SHELLRC_VERSION="0.92"
    PERLBREW_VERSION="0.92"
    PERL_LOCAL_LIB_ROOT=""
    PERL_MM_USE_DEFAULT="1"
    PERL_USE_UNSAFE_INC="1"
  @INC:
    /home/njh/perl5/perlbrew/perls/perl-5.8.9-multi/lib/5.8.9/OpenBSD.amd64-openbsd-multi
    /home/njh/perl5/perlbrew/perls/perl-5.8.9-multi/lib/5.8.9
    /home/njh/perl5/perlbrew/perls/perl-5.8.9-multi/lib/site_perl/5.8.9/OpenBSD.amd64-openbsd-multi
    /home/njh/perl5/perlbrew/perls/perl-5.8.9-multi/lib/site_perl/5.8.9
    .